BEGIN:VCALENDAR
VERSION:2.0
PRODID:-//mhumc.org - ECPv6.15.20//NONSGML v1.0//EN
CALSCALE:GREGORIAN
METHOD:PUBLISH
X-ORIGINAL-URL:https://mhumc.org
X-WR-CALDESC:Events for mhumc.org
REFRESH-INTERVAL;VALUE=DURATION:PT1H
X-Robots-Tag:noindex
X-PUBLISHED-TTL:PT1H
BEGIN:VTIMEZONE
TZID:UTC
BEGIN:STANDARD
TZOFFSETFROM:+0000
TZOFFSETTO:+0000
TZNAME:UTC
DTSTART:20230101T000000
END:STANDARD
END:VTIMEZONE
BEGIN:VEVENT
DTSTART;TZID=UTC:20240612T090000
DTEND;TZID=UTC:20240612T150000
DTSTAMP:20260426T043101
CREATED:20240530T135336Z
LAST-MODIFIED:20240530T135718Z
UID:1487-1718182800-1718204400@mhumc.org
SUMMARY:Summer Blast
DESCRIPTION:Summer Blast is a faith-based summer program for 2nd-5th grade students\, taking place every Wednesday in June\, from 9:00am-3:00pm at Monfort Heights UMC.  We’ll be focusing on social connection through games and meals\, education through reading and STEM-based activities\, and faith through devotions and worship.  Summer Blast is free and breakfast and lunch will be provided. Registration is limited.  All participants must be registered to attend. \nRegistration is open here.
URL:https://mhumc.org/event/summer-blast-2/
ATTACH;FMTTYPE=image/png:https://mhumc.org/wp-content/uploads/2024/05/blast.png
END:VEVENT
END:VCALENDAR