BEGIN:VCALENDAR
VERSION:2.0
PRODID:-//mhumc.org - ECPv6.15.20//NONSGML v1.0//EN
CALSCALE:GREGORIAN
METHOD:PUBLISH
X-WR-CALNAME:mhumc.org
X-ORIGINAL-URL:https://mhumc.org
X-WR-CALDESC:Events for mhumc.org
REFRESH-INTERVAL;VALUE=DURATION:PT1H
X-Robots-Tag:noindex
X-PUBLISHED-TTL:PT1H
BEGIN:VTIMEZONE
TZID:UTC
BEGIN:STANDARD
TZOFFSETFROM:+0000
TZOFFSETTO:+0000
TZNAME:UTC
DTSTART:20230101T000000
END:STANDARD
END:VTIMEZONE
BEGIN:VEVENT
DTSTART;TZID=UTC:20240618T180000
DTEND;TZID=UTC:20240618T200000
DTSTAMP:20260426T043055
CREATED:20240530T140806Z
LAST-MODIFIED:20240530T140806Z
UID:1506-1718733600-1718740800@mhumc.org
SUMMARY:Camp S'more - Make a Joyful Noise
DESCRIPTION:Camp S’more is back this summer!\nAt Camp S’more – Make a Joyful Noise\, children entering Preschool-5th grade will enjoy 3 Full Nights of immersive adventure\, faith\, and fun\, where young minds thrive amidst a blend of excitement and learning. SPORTS\, GAMES\, ART\, MUSIC & COOKING – A great way to kick off the summer\nREGISTER HERE\nJune 18th – TUESDAY: Our first night at camp will include lots of activities and games. “Alright\, campers! Let’s dribble to the beat\, play tag with friends\, and race to the finish with joyful laughing sounds. There will be lots of games of all sorts\, including board games\, strategy games\, and outdoor adventure games. Let’s bring the energy and excitement to the game!” \nJune 19th – WEDNESDAY: Our second night of camp\, the camp transforms into a haven for artistic expression and melodic harmony\, with the evening dedicated to creating art and music. “Hey there\, creative crew! Let’s mix colors like melodies and paint the canvas with joyous tunes! Grab those brushes and instruments because we’re about to make a symphony of art and music at our camp! \nJune 20th – THURSDAY: Our third night together\, culinary exploration takes center stage during cooking sessions where kids don their aprons and chef hats\, mastering three different recipes that leave their taste buds tantalized and their culinary skills enriched. Throughout the camp\, we will encourage creativity\, teamwork\, and a love of cooking. The kids will not only learn valuable culinary skills but also have a blast making a joyful noise in the kitchen!
URL:https://mhumc.org/event/camp-smore-make-a-joyful-noise/
LOCATION:MHUMC\, 3682 West Fork Rd.\, Cincinnati\, OH\, 45247\, United States
ATTACH;FMTTYPE=image/png:https://mhumc.org/wp-content/uploads/2024/05/COLOR-KIDS-CAMP-SMORE-2.png
END:VEVENT
END:VCALENDAR