BEGIN:VCALENDAR
VERSION:2.0
PRODID:-//mhumc.org - ECPv6.15.20//NONSGML v1.0//EN
CALSCALE:GREGORIAN
METHOD:PUBLISH
X-WR-CALNAME:mhumc.org
X-ORIGINAL-URL:https://mhumc.org
X-WR-CALDESC:Events for mhumc.org
REFRESH-INTERVAL;VALUE=DURATION:PT1H
X-Robots-Tag:noindex
X-PUBLISHED-TTL:PT1H
BEGIN:VTIMEZONE
TZID:UTC
BEGIN:STANDARD
TZOFFSETFROM:+0000
TZOFFSETTO:+0000
TZNAME:UTC
DTSTART:20230101T000000
END:STANDARD
END:VTIMEZONE
BEGIN:VEVENT
DTSTART;TZID=UTC:20240621T180000
DTEND;TZID=UTC:20240621T200000
DTSTAMP:20260426T042345
CREATED:20240530T141341Z
LAST-MODIFIED:20240530T141537Z
UID:1513-1718992800-1719000000@mhumc.org
SUMMARY:Camp S'more - Friday Family Fun Night - Fiesta Night
DESCRIPTION:Join us for a sizzling Fiesta Night packed with flavor\, laughter\, and fiesta fun for the whole family!\nIndulge in light snacks that include an ice cream bar\, dancing to Mexican music\, and enjoy some fun games like piñata smashing\, chip eating contest and the Mexican Hat dance. With delicious food\, and family fellowship\, it’s a FIESTA you won’t want to miss! \nThis event is for the whole family\, it is not a drop-off event. \nPlease register here.
URL:https://mhumc.org/event/camp-smore-friday-family-fun-night-fiesta-night/
LOCATION:MHUMC\, 3682 West Fork Rd.\, Cincinnati\, OH\, 45247\, United States
ATTACH;FMTTYPE=image/png:https://mhumc.org/wp-content/uploads/2024/05/COLOR-KIDS-CAMP-SMORE-2.png
END:VEVENT
END:VCALENDAR