BEGIN:VCALENDAR
VERSION:2.0
PRODID:-//mhumc.org - ECPv6.15.20//NONSGML v1.0//EN
CALSCALE:GREGORIAN
METHOD:PUBLISH
X-ORIGINAL-URL:https://mhumc.org
X-WR-CALDESC:Events for mhumc.org
REFRESH-INTERVAL;VALUE=DURATION:PT1H
X-Robots-Tag:noindex
X-PUBLISHED-TTL:PT1H
BEGIN:VTIMEZONE
TZID:UTC
BEGIN:STANDARD
TZOFFSETFROM:+0000
TZOFFSETTO:+0000
TZNAME:UTC
DTSTART:20230101T000000
END:STANDARD
END:VTIMEZONE
BEGIN:VEVENT
DTSTART;TZID=UTC:20240802T120000
DTEND;TZID=UTC:20240802T180000
DTSTAMP:20260426T012321
CREATED:20240712T171451Z
LAST-MODIFIED:20240726T151001Z
UID:1650-1722600000-1722621600@mhumc.org
SUMMARY:CINPEX 2024 Stamp Show
DESCRIPTION:Greater Cincinnati Philatelic Society \nStamp Show 2024 \nContact Michael Coates for more information \ncoatesmk1948@gmail.com or 513-574-0830
URL:https://mhumc.org/event/cinpex-2024/
LOCATION:MHUMC\, 3682 West Fork Rd.\, Cincinnati\, OH\, 45247\, United States
END:VEVENT
BEGIN:VEVENT
DTSTART;TZID=UTC:20240802T180000
DTEND;TZID=UTC:20240802T200000
DTSTAMP:20260426T012321
CREATED:20240530T141514Z
LAST-MODIFIED:20240530T141514Z
UID:1515-1722621600-1722628800@mhumc.org
SUMMARY:Camp S'more - Friday Family Fun Night - Family Carnival
DESCRIPTION:Step right up to our Carnival Night Spectacular for an evening of whimsical delights and adventures!\nFrom classic carnival games like ring toss to exciting bounce houses for kids\, balloon artist\, face painters and tasty treats\, there’s something for everyone to enjoy.\nGet ready for laughter\, excitement\, and unforgettable memories under the indoor bright lights of our FREE Family Carnival Extravaganza! \nThis event is for the whole family\, it is not a drop-off event. \nPlease register here.
URL:https://mhumc.org/event/camp-smore-friday-family-fun-night-family-carnival/
LOCATION:MHUMC\, 3682 West Fork Rd.\, Cincinnati\, OH\, 45247\, United States
ATTACH;FMTTYPE=image/png:https://mhumc.org/wp-content/uploads/2024/05/COLOR-KIDS-CAMP-SMORE-2.png
END:VEVENT
END:VCALENDAR