BEGIN:VCALENDAR
VERSION:2.0
PRODID:-//mhumc.org - ECPv6.15.20//NONSGML v1.0//EN
CALSCALE:GREGORIAN
METHOD:PUBLISH
X-ORIGINAL-URL:https://mhumc.org
X-WR-CALDESC:Events for mhumc.org
REFRESH-INTERVAL;VALUE=DURATION:PT1H
X-Robots-Tag:noindex
X-PUBLISHED-TTL:PT1H
BEGIN:VTIMEZONE
TZID:UTC
BEGIN:STANDARD
TZOFFSETFROM:+0000
TZOFFSETTO:+0000
TZNAME:UTC
DTSTART:20230101T000000
END:STANDARD
END:VTIMEZONE
BEGIN:VEVENT
DTSTART;TZID=UTC:20240803T100000
DTEND;TZID=UTC:20240803T160000
DTSTAMP:20260426T012346
CREATED:20240726T151043Z
LAST-MODIFIED:20240726T151043Z
UID:1724-1722679200-1722700800@mhumc.org
SUMMARY:CINPEX 2024 Stamp Show
DESCRIPTION:Greater Cincinnati Philatelic Society \nStamp Show 2024 \nContact Michael Coates for more information \ncoatesmk1948@gmail.com or 513-574-0830
URL:https://mhumc.org/event/cinpex-2024-stamp-show/
LOCATION:MHUMC\, 3682 West Fork Rd.\, Cincinnati\, OH\, 45247\, United States
END:VEVENT
END:VCALENDAR