BEGIN:VCALENDAR
VERSION:2.0
PRODID:-//mhumc.org - ECPv6.15.20//NONSGML v1.0//EN
CALSCALE:GREGORIAN
METHOD:PUBLISH
X-ORIGINAL-URL:https://mhumc.org
X-WR-CALDESC:Events for mhumc.org
REFRESH-INTERVAL;VALUE=DURATION:PT1H
X-Robots-Tag:noindex
X-PUBLISHED-TTL:PT1H
BEGIN:VTIMEZONE
TZID:UTC
BEGIN:STANDARD
TZOFFSETFROM:+0000
TZOFFSETTO:+0000
TZNAME:UTC
DTSTART:20230101T000000
END:STANDARD
END:VTIMEZONE
BEGIN:VEVENT
DTSTART;TZID=UTC:20240811T083000
DTEND;TZID=UTC:20240811T083000
DTSTAMP:20260426T011641
CREATED:20240709T182617Z
LAST-MODIFIED:20240709T182629Z
UID:1568-1723365000-1723365000@mhumc.org
SUMMARY:Outdoor Worship
DESCRIPTION:Join us for our Outdoor Worship service\, weather permitting\, Sunday mornings at 8:30 am\, July 7th-August 11th.  Feel free to bring an outdoor chair for comfortable seating.  We’ll meet on the lawn outside of the sanctuary\, and move indoors if weather demands.  The format of this worship service will include worship songs\, an abbreviated message\, and sharing the Lord’s Prayer.  This service will not be live-streamed.
URL:https://mhumc.org/event/outdoor-worship-4/
LOCATION:MHUMC\, 3682 West Fork Rd.\, Cincinnati\, OH\, 45247\, United States
END:VEVENT
BEGIN:VEVENT
DTSTART;TZID=UTC:20240811T093000
DTEND;TZID=UTC:20240811T093000
DTSTAMP:20260426T011641
CREATED:20240709T182759Z
LAST-MODIFIED:20240709T182759Z
UID:1572-1723368600-1723368600@mhumc.org
SUMMARY:Classic Worship
DESCRIPTION:Welcome\n\n\nWe are a broad cross-section of the Monfort Heights community with a diverse range of family types; all ages\, races\, and interests are represented here. Some of our folks have lived nearby and worshipped here for over fifty years. Some of us are so new we are still learning where the light switches are. Some of us wear suits on Sunday\, and some wear shorts and sandals. We are different in many ways\, but we share a common love in our hearts for God\, his son\, and his people! \n\n\n\n\n\n\n\n\n\n\n\n\nOur Classic Worship is a traditional worship service\, and takes place on Sunday mornings\, at 9:30 am\, in our Sanctuary. \nYou can also join us on Facebook Live or catch a replay on YouTube.
URL:https://mhumc.org/event/classic-worship-13/
LOCATION:Sanctuary\, 3685 West Fork Rd\, Cincinnati\, 45247\, United States
END:VEVENT
BEGIN:VEVENT
DTSTART;TZID=UTC:20240811T110000
DTEND;TZID=UTC:20240811T110000
DTSTAMP:20260426T011641
CREATED:20240709T183356Z
LAST-MODIFIED:20240709T183356Z
UID:1592-1723374000-1723374000@mhumc.org
SUMMARY:Connect Worship
DESCRIPTION:Welcome\n\n\nWe are a broad cross-section of the Monfort Heights community with a diverse range of family types; all ages\, races\, and interests are represented here. Some of our folks have lived nearby and worshipped here for over fifty years. Some of us are so new we are still learning where the light switches are. Some of us wear suits on Sunday\, and some wear shorts and sandals. We are different in many ways\, but we share a common love in our hearts for God\, his son\, and his people! \n\n\n\n\n\n\n\n\n\n\n\n\nOur Connect Worship is a praise worship service of modern music and expressions of faith that takes place on Sunday mornings\, at 11:00am\, in our Family Life Center. \nYou can also join us on Facebook Live or catch a replay on YouTube.
URL:https://mhumc.org/event/connect-worship-13/
LOCATION:Family Life Center\, 3682 West Fork Rd.\, Cincinnati\, OH\, 45247\, United States
END:VEVENT
END:VCALENDAR