BEGIN:VCALENDAR
VERSION:2.0
PRODID:-//mhumc.org - ECPv6.15.20//NONSGML v1.0//EN
CALSCALE:GREGORIAN
METHOD:PUBLISH
X-WR-CALNAME:mhumc.org
X-ORIGINAL-URL:https://mhumc.org
X-WR-CALDESC:Events for mhumc.org
REFRESH-INTERVAL;VALUE=DURATION:PT1H
X-Robots-Tag:noindex
X-PUBLISHED-TTL:PT1H
BEGIN:VTIMEZONE
TZID:UTC
BEGIN:STANDARD
TZOFFSETFROM:+0000
TZOFFSETTO:+0000
TZNAME:UTC
DTSTART:20230101T000000
END:STANDARD
END:VTIMEZONE
BEGIN:VEVENT
DTSTART;TZID=UTC:20240923T183000
DTEND;TZID=UTC:20240923T200000
DTSTAMP:20260425T235958
CREATED:20240709T184351Z
LAST-MODIFIED:20240709T184351Z
UID:1624-1727116200-1727121600@mhumc.org
SUMMARY:Tap Into Faith
DESCRIPTION:We are bringing the Church outside of its walls and into the places where people are already gathering and living in community. It’s all about building relationship with each other through some great live music and a faith-based discussion shared around a table with delicious food and drink.
URL:https://mhumc.org/event/tap-into-faith-60/
LOCATION:WEST SIDE BREWING\, 3044 HARRISON AVENUE\, CINCINNATI\, OHIO\, 45211
ATTACH;FMTTYPE=image/jpeg:https://mhumc.org/wp-content/uploads/2019/09/Tap-into-Faith-1.jpg
END:VEVENT
BEGIN:VEVENT
DTSTART;TZID=UTC:20240923T193000
DTEND;TZID=UTC:20240923T203000
DTSTAMP:20260425T235958
CREATED:20240712T172148Z
LAST-MODIFIED:20240712T172148Z
UID:1670-1727119800-1727123400@mhumc.org
SUMMARY:AA Meetings - Monfort Heights Big Book
DESCRIPTION:Discussion\nIn-person\n\nOpen\n\n\n\nC. I. P. Continue Improving Practice – Steps 10\, 11 & 12 \nFor Zoom info call 513-317-6390 \nFor more information\, call 513-752-2210
URL:https://mhumc.org/event/aa-meetings-monfort-heights-big-book-10/
LOCATION:MHUMC\, 3682 West Fork Rd.\, Cincinnati\, OH\, 45247\, United States
END:VEVENT
END:VCALENDAR