BEGIN:VCALENDAR
VERSION:2.0
PRODID:-//mhumc.org - ECPv6.15.20//NONSGML v1.0//EN
CALSCALE:GREGORIAN
METHOD:PUBLISH
X-WR-CALNAME:mhumc.org
X-ORIGINAL-URL:https://mhumc.org
X-WR-CALDESC:Events for mhumc.org
REFRESH-INTERVAL;VALUE=DURATION:PT1H
X-Robots-Tag:noindex
X-PUBLISHED-TTL:PT1H
BEGIN:VTIMEZONE
TZID:UTC
BEGIN:STANDARD
TZOFFSETFROM:+0000
TZOFFSETTO:+0000
TZNAME:UTC
DTSTART:20230101T000000
END:STANDARD
END:VTIMEZONE
BEGIN:VEVENT
DTSTART;TZID=UTC:20241006T183000
DTEND;TZID=UTC:20241006T200000
DTSTAMP:20260425T222942
CREATED:20241016T165512Z
LAST-MODIFIED:20241016T165512Z
UID:1771-1728239400-1728244800@mhumc.org
SUMMARY:Elevate Youth Group
DESCRIPTION:ELEVATE is a place where you can be known and belong.\nAt ELEVATE we are about creating an environment where youth in grades 6-12 can authentically be themselves and share their stories. Our prayer is that they would see how God’s Story intersects with their own. We invite students to engage in a meaningful faith practice and into an intimate relationship with Jesus Christ. We want to help elevate each student’s spiritual life and ultimately guide them into a life of discipleship.”\nContact Jeff Snyder at Jeff.mhumc@gmail.com or\n513-545-5235
URL:https://mhumc.org/event/elevate-youth-group-10/
LOCATION:MHUMC\, 3682 West Fork Rd.\, Cincinnati\, OH\, 45247\, United States
ATTACH;FMTTYPE=image/png:https://mhumc.org/wp-content/uploads/2024/05/Elevate-logo-2.png
END:VEVENT
END:VCALENDAR