BEGIN:VCALENDAR
VERSION:2.0
PRODID:-//mhumc.org - ECPv6.15.20//NONSGML v1.0//EN
CALSCALE:GREGORIAN
METHOD:PUBLISH
X-WR-CALNAME:mhumc.org
X-ORIGINAL-URL:https://mhumc.org
X-WR-CALDESC:Events for mhumc.org
REFRESH-INTERVAL;VALUE=DURATION:PT1H
X-Robots-Tag:noindex
X-PUBLISHED-TTL:PT1H
BEGIN:VTIMEZONE
TZID:UTC
BEGIN:STANDARD
TZOFFSETFROM:+0000
TZOFFSETTO:+0000
TZNAME:UTC
DTSTART:20230101T000000
END:STANDARD
END:VTIMEZONE
BEGIN:VEVENT
DTSTART;TZID=UTC:20241123T090000
DTEND;TZID=UTC:20241123T100000
DTSTAMP:20260425T210429
CREATED:20241022T155246Z
LAST-MODIFIED:20241022T155246Z
UID:1841-1732352400-1732356000@mhumc.org
SUMMARY:Blessing Bags - Thanksgiving Special
DESCRIPTION:The pandemic and increase in cost of living has magnified some of the tremendous needs of people who are living on the margin. To help out\, our church distributes bags of non-perishable groceries every other Saturday to people in our community who are in need. These “Blessing Bags” are supported by food donations through the church. For more information\, or if you would like to help support this ministry\, please contact the church office.\noffice.mhumc@gmail.com. 513-481-8699 \n  \nJoin us on November 23rd for special Thanksgiving side dishes and a Kroger Gift Card\, while supplies last.
URL:https://mhumc.org/event/blessing-bags-thanksgiving-special/
LOCATION:MHUMC\, 3682 West Fork Rd.\, Cincinnati\, OH\, 45247\, United States
ATTACH;FMTTYPE=image/png:https://mhumc.org/wp-content/uploads/2024/05/Blessing-Bags-Logo.png
END:VEVENT
BEGIN:VEVENT
DTSTART;TZID=UTC:20241123T103000
DTEND;TZID=UTC:20241123T103000
DTSTAMP:20260425T210429
CREATED:20241022T160553Z
LAST-MODIFIED:20241022T160553Z
UID:1858-1732357800-1732357800@mhumc.org
SUMMARY:Fit 6:19 - Workout
DESCRIPTION:Fit 6:19 is a gathering of all ages and abilities in a fun\, and appropriately challenging workout opportunity\, followed by fellowship and discussion.  All are welcome to join!  We will meet in the parking lot\, or the Family Life Center in case of inclement weather.
URL:https://mhumc.org/event/fit-619-workout-2/
LOCATION:MHUMC\, 3682 West Fork Rd.\, Cincinnati\, OH\, 45247\, United States
END:VEVENT
END:VCALENDAR