BEGIN:VCALENDAR
VERSION:2.0
PRODID:-//mhumc.org - ECPv6.15.20//NONSGML v1.0//EN
CALSCALE:GREGORIAN
METHOD:PUBLISH
X-WR-CALNAME:mhumc.org
X-ORIGINAL-URL:https://mhumc.org
X-WR-CALDESC:Events for mhumc.org
REFRESH-INTERVAL;VALUE=DURATION:PT1H
X-Robots-Tag:noindex
X-PUBLISHED-TTL:PT1H
BEGIN:VTIMEZONE
TZID:UTC
BEGIN:STANDARD
TZOFFSETFROM:+0000
TZOFFSETTO:+0000
TZNAME:UTC
DTSTART:20230101T000000
END:STANDARD
END:VTIMEZONE
BEGIN:VEVENT
DTSTART;TZID=UTC:20240908T183000
DTEND;TZID=UTC:20240908T200000
DTSTAMP:20260425T114607
CREATED:20240712T170858Z
LAST-MODIFIED:20240712T170858Z
UID:1641-1725820200-1725825600@mhumc.org
SUMMARY:Elevate Youth Group
DESCRIPTION:ELEVATE is a place where you can be known and belong.\nAt ELEVATE we are about creating an environment where youth in grades 6-12 can authentically be themselves and share their stories. Our prayer is that they would see how God’s Story intersects with their own. We invite students to engage in a meaningful faith practice and into an intimate relationship with Jesus Christ. We want to help elevate each student’s spiritual life and ultimately guide them into a life of discipleship.”\nContact Jeff Snyder at Jeff.mhumc@gmail.com or\n513-545-5235
URL:https://mhumc.org/event/elevate-youth-group-6/
LOCATION:MHUMC\, 3682 West Fork Rd.\, Cincinnati\, OH\, 45247\, United States
ATTACH;FMTTYPE=image/png:https://mhumc.org/wp-content/uploads/2024/05/Elevate-logo-2.png
END:VEVENT
BEGIN:VEVENT
DTSTART;TZID=UTC:20240908T110000
DTEND;TZID=UTC:20240908T110000
DTSTAMP:20260425T114607
CREATED:20240709T183516Z
LAST-MODIFIED:20240709T183516Z
UID:1601-1725793200-1725793200@mhumc.org
SUMMARY:Connect Worship
DESCRIPTION:Welcome\n\n\nWe are a broad cross-section of the Monfort Heights community with a diverse range of family types; all ages\, races\, and interests are represented here. Some of our folks have lived nearby and worshipped here for over fifty years. Some of us are so new we are still learning where the light switches are. Some of us wear suits on Sunday\, and some wear shorts and sandals. We are different in many ways\, but we share a common love in our hearts for God\, his son\, and his people! \n\n\n\n\n\n\n\n\n\n\n\n\nOur Connect Worship is a praise worship service of modern music and expressions of faith that takes place on Sunday mornings\, at 11:00am\, in our Family Life Center. \nYou can also join us on Facebook Live or catch a replay on YouTube.
URL:https://mhumc.org/event/connect-worship-17/
LOCATION:Family Life Center\, 3682 West Fork Rd.\, Cincinnati\, OH\, 45247\, United States
END:VEVENT
BEGIN:VEVENT
DTSTART;TZID=UTC:20240908T093000
DTEND;TZID=UTC:20240908T093000
DTSTAMP:20260425T114607
CREATED:20240709T182918Z
LAST-MODIFIED:20240709T182918Z
UID:1580-1725787800-1725787800@mhumc.org
SUMMARY:Classic Worship
DESCRIPTION:Welcome\n\n\nWe are a broad cross-section of the Monfort Heights community with a diverse range of family types; all ages\, races\, and interests are represented here. Some of our folks have lived nearby and worshipped here for over fifty years. Some of us are so new we are still learning where the light switches are. Some of us wear suits on Sunday\, and some wear shorts and sandals. We are different in many ways\, but we share a common love in our hearts for God\, his son\, and his people! \n\n\n\n\n\n\n\n\n\n\n\n\nOur Classic Worship is a traditional worship service\, and takes place on Sunday mornings\, at 9:30 am\, in our Sanctuary. \nYou can also join us on Facebook Live or catch a replay on YouTube.
URL:https://mhumc.org/event/classic-worship-17/
LOCATION:Sanctuary\, 3685 West Fork Rd\, Cincinnati\, 45247\, United States
END:VEVENT
BEGIN:VEVENT
DTSTART;TZID=UTC:20240904T200000
DTEND;TZID=UTC:20240904T210000
DTSTAMP:20260425T114607
CREATED:20240712T172911Z
LAST-MODIFIED:20240712T172911Z
UID:1690-1725480000-1725483600@mhumc.org
SUMMARY:AA Meetings - Common Solutions With Concurrent Beginners Meeting
DESCRIPTION:Wednesday 8:00 PM – 9:00 PM EDT\n\nBig Book\n\nClosed\n\nDiscussion\nIn-person\nNewcomer\nWheelchair Access\n\n\nOpen lead last Wk \nGroup Conscience 1st week of each month at 7:15 PM \nFor more information contact 513-368-1373 \n 
URL:https://mhumc.org/event/aa-meetings-common-solutions-with-concurrent-beginners-meeting-8/
LOCATION:MHUMC\, 3682 West Fork Rd.\, Cincinnati\, OH\, 45247\, United States
END:VEVENT
BEGIN:VEVENT
DTSTART;TZID=UTC:20240902T193000
DTEND;TZID=UTC:20240902T203000
DTSTAMP:20260425T114607
CREATED:20240712T172339Z
LAST-MODIFIED:20240712T172339Z
UID:1674-1725305400-1725309000@mhumc.org
SUMMARY:AA Meetings - Monfort Heights Big Book
DESCRIPTION:Discussion\nIn-person\n\nOpen\n\n\n\nC. I. P. Continue Improving Practice – Steps 10\, 11 & 12 \nFor Zoom info call 513-317-6390 \nFor more information\, call 513-752-2210
URL:https://mhumc.org/event/aa-meetings-monfort-heights-big-book-12/
LOCATION:MHUMC\, 3682 West Fork Rd.\, Cincinnati\, OH\, 45247\, United States
END:VEVENT
BEGIN:VEVENT
DTSTART;TZID=UTC:20240901T110000
DTEND;TZID=UTC:20240901T110000
DTSTAMP:20260425T114607
CREATED:20240709T183459Z
LAST-MODIFIED:20240709T183459Z
UID:1599-1725188400-1725188400@mhumc.org
SUMMARY:Connect Worship
DESCRIPTION:Welcome\n\n\nWe are a broad cross-section of the Monfort Heights community with a diverse range of family types; all ages\, races\, and interests are represented here. Some of our folks have lived nearby and worshipped here for over fifty years. Some of us are so new we are still learning where the light switches are. Some of us wear suits on Sunday\, and some wear shorts and sandals. We are different in many ways\, but we share a common love in our hearts for God\, his son\, and his people! \n\n\n\n\n\n\n\n\n\n\n\n\nOur Connect Worship is a praise worship service of modern music and expressions of faith that takes place on Sunday mornings\, at 11:00am\, in our Family Life Center. \nYou can also join us on Facebook Live or catch a replay on YouTube.
URL:https://mhumc.org/event/connect-worship-16/
LOCATION:Family Life Center\, 3682 West Fork Rd.\, Cincinnati\, OH\, 45247\, United States
END:VEVENT
BEGIN:VEVENT
DTSTART;TZID=UTC:20240901T093000
DTEND;TZID=UTC:20240901T093000
DTSTAMP:20260425T114607
CREATED:20240709T182851Z
LAST-MODIFIED:20240709T182851Z
UID:1578-1725183000-1725183000@mhumc.org
SUMMARY:Classic Worship
DESCRIPTION:Welcome\n\n\nWe are a broad cross-section of the Monfort Heights community with a diverse range of family types; all ages\, races\, and interests are represented here. Some of our folks have lived nearby and worshipped here for over fifty years. Some of us are so new we are still learning where the light switches are. Some of us wear suits on Sunday\, and some wear shorts and sandals. We are different in many ways\, but we share a common love in our hearts for God\, his son\, and his people! \n\n\n\n\n\n\n\n\n\n\n\n\nOur Classic Worship is a traditional worship service\, and takes place on Sunday mornings\, at 9:30 am\, in our Sanctuary. \nYou can also join us on Facebook Live or catch a replay on YouTube.
URL:https://mhumc.org/event/classic-worship-16/
LOCATION:Sanctuary\, 3685 West Fork Rd\, Cincinnati\, 45247\, United States
END:VEVENT
BEGIN:VEVENT
DTSTART;TZID=UTC:20240828T200000
DTEND;TZID=UTC:20240828T210000
DTSTAMP:20260425T114608
CREATED:20240712T172851Z
LAST-MODIFIED:20240712T172851Z
UID:1688-1724875200-1724878800@mhumc.org
SUMMARY:AA Meetings - Common Solutions With Concurrent Beginners Meeting
DESCRIPTION:Wednesday 8:00 PM – 9:00 PM EDT\n\nBig Book\n\nClosed\n\nDiscussion\nIn-person\nNewcomer\nWheelchair Access\n\n\nOpen lead last Wk \nGroup Conscience 1st week of each month at 7:15 PM \nFor more information contact 513-368-1373 \n 
URL:https://mhumc.org/event/aa-meetings-common-solutions-with-concurrent-beginners-meeting-7/
LOCATION:MHUMC\, 3682 West Fork Rd.\, Cincinnati\, OH\, 45247\, United States
END:VEVENT
BEGIN:VEVENT
DTSTART;TZID=UTC:20240826T193000
DTEND;TZID=UTC:20240826T203000
DTSTAMP:20260425T114608
CREATED:20240712T172048Z
LAST-MODIFIED:20240712T172048Z
UID:1664-1724700600-1724704200@mhumc.org
SUMMARY:AA Meetings - Monfort Heights Big Book
DESCRIPTION:Discussion\nIn-person\n\nOpen\n\n\n\nC. I. P. Continue Improving Practice – Steps 10\, 11 & 12 \nFor Zoom info call 513-317-6390 \nFor more information\, call 513-752-2210
URL:https://mhumc.org/event/aa-meetings-monfort-heights-big-book-7/
LOCATION:MHUMC\, 3682 West Fork Rd.\, Cincinnati\, OH\, 45247\, United States
END:VEVENT
BEGIN:VEVENT
DTSTART;TZID=UTC:20240826T183000
DTEND;TZID=UTC:20240826T200000
DTSTAMP:20260425T114608
CREATED:20240709T184314Z
LAST-MODIFIED:20240709T184314Z
UID:1620-1724697000-1724702400@mhumc.org
SUMMARY:Tap Into Faith
DESCRIPTION:We are bringing the Church outside of its walls and into the places where people are already gathering and living in community. It’s all about building relationship with each other through some great live music and a faith-based discussion shared around a table with delicious food and drink.
URL:https://mhumc.org/event/tap-into-faith-58/
LOCATION:WEST SIDE BREWING\, 3044 HARRISON AVENUE\, CINCINNATI\, OHIO\, 45211
ATTACH;FMTTYPE=image/jpeg:https://mhumc.org/wp-content/uploads/2019/09/Tap-into-Faith-1.jpg
END:VEVENT
BEGIN:VEVENT
DTSTART;TZID=UTC:20240825T183000
DTEND;TZID=UTC:20240825T200000
DTSTAMP:20260425T114608
CREATED:20240712T170837Z
LAST-MODIFIED:20240712T170837Z
UID:1639-1724610600-1724616000@mhumc.org
SUMMARY:Elevate Youth Group
DESCRIPTION:ELEVATE is a place where you can be known and belong.\nAt ELEVATE we are about creating an environment where youth in grades 6-12 can authentically be themselves and share their stories. Our prayer is that they would see how God’s Story intersects with their own. We invite students to engage in a meaningful faith practice and into an intimate relationship with Jesus Christ. We want to help elevate each student’s spiritual life and ultimately guide them into a life of discipleship.”\nContact Jeff Snyder at Jeff.mhumc@gmail.com or\n513-545-5235
URL:https://mhumc.org/event/elevate-youth-group-5/
LOCATION:MHUMC\, 3682 West Fork Rd.\, Cincinnati\, OH\, 45247\, United States
ATTACH;FMTTYPE=image/png:https://mhumc.org/wp-content/uploads/2024/05/Elevate-logo-2.png
END:VEVENT
BEGIN:VEVENT
DTSTART;TZID=UTC:20240825T110000
DTEND;TZID=UTC:20240825T110000
DTSTAMP:20260425T114608
CREATED:20240709T183443Z
LAST-MODIFIED:20240709T183443Z
UID:1597-1724583600-1724583600@mhumc.org
SUMMARY:Connect Worship
DESCRIPTION:Welcome\n\n\nWe are a broad cross-section of the Monfort Heights community with a diverse range of family types; all ages\, races\, and interests are represented here. Some of our folks have lived nearby and worshipped here for over fifty years. Some of us are so new we are still learning where the light switches are. Some of us wear suits on Sunday\, and some wear shorts and sandals. We are different in many ways\, but we share a common love in our hearts for God\, his son\, and his people! \n\n\n\n\n\n\n\n\n\n\n\n\nOur Connect Worship is a praise worship service of modern music and expressions of faith that takes place on Sunday mornings\, at 11:00am\, in our Family Life Center. \nYou can also join us on Facebook Live or catch a replay on YouTube.
URL:https://mhumc.org/event/connect-worship-15/
LOCATION:Family Life Center\, 3682 West Fork Rd.\, Cincinnati\, OH\, 45247\, United States
END:VEVENT
BEGIN:VEVENT
DTSTART;TZID=UTC:20240825T093000
DTEND;TZID=UTC:20240825T093000
DTSTAMP:20260425T114608
CREATED:20240709T182834Z
LAST-MODIFIED:20240709T182834Z
UID:1576-1724578200-1724578200@mhumc.org
SUMMARY:Classic Worship
DESCRIPTION:Welcome\n\n\nWe are a broad cross-section of the Monfort Heights community with a diverse range of family types; all ages\, races\, and interests are represented here. Some of our folks have lived nearby and worshipped here for over fifty years. Some of us are so new we are still learning where the light switches are. Some of us wear suits on Sunday\, and some wear shorts and sandals. We are different in many ways\, but we share a common love in our hearts for God\, his son\, and his people! \n\n\n\n\n\n\n\n\n\n\n\n\nOur Classic Worship is a traditional worship service\, and takes place on Sunday mornings\, at 9:30 am\, in our Sanctuary. \nYou can also join us on Facebook Live or catch a replay on YouTube.
URL:https://mhumc.org/event/classic-worship-15/
LOCATION:Sanctuary\, 3685 West Fork Rd\, Cincinnati\, 45247\, United States
END:VEVENT
BEGIN:VEVENT
DTSTART;TZID=UTC:20240824T090000
DTEND;TZID=UTC:20240824T100000
DTSTAMP:20260425T114608
CREATED:20240709T183959Z
LAST-MODIFIED:20240709T183959Z
UID:1612-1724490000-1724493600@mhumc.org
SUMMARY:Blessing Bags
DESCRIPTION:The pandemic and increase in cost of living has magnified some of the tremendous needs of people who are living on the margin. To help out\, our church distributes bags of non-perishable groceries every other Saturday to people in our community who are in need. These “Blessing Bags” are supported by food donations through the church. For more information\, or if you would like to help support this ministry\, please contact the church office.\noffice.mhumc@gmail.com. 513-481-8699
URL:https://mhumc.org/event/blessing-bags-8/
LOCATION:MHUMC\, 3682 West Fork Rd.\, Cincinnati\, OH\, 45247\, United States
ATTACH;FMTTYPE=image/png:https://mhumc.org/wp-content/uploads/2024/05/Blessing-Bags-Logo.png
END:VEVENT
BEGIN:VEVENT
DTSTART;TZID=UTC:20240821T200000
DTEND;TZID=UTC:20240821T210000
DTSTAMP:20260425T114608
CREATED:20240712T172822Z
LAST-MODIFIED:20240712T172822Z
UID:1686-1724270400-1724274000@mhumc.org
SUMMARY:AA Meetings - Common Solutions With Concurrent Beginners Meeting
DESCRIPTION:Wednesday 8:00 PM – 9:00 PM EDT\n\nBig Book\n\nClosed\n\nDiscussion\nIn-person\nNewcomer\nWheelchair Access\n\n\nOpen lead last Wk \nGroup Conscience 1st week of each month at 7:15 PM \nFor more information contact 513-368-1373 \n 
URL:https://mhumc.org/event/aa-meetings-common-solutions-with-concurrent-beginners-meeting-6/
LOCATION:MHUMC\, 3682 West Fork Rd.\, Cincinnati\, OH\, 45247\, United States
END:VEVENT
BEGIN:VEVENT
DTSTART;TZID=UTC:20240819T193000
DTEND;TZID=UTC:20240819T203000
DTSTAMP:20260425T114608
CREATED:20240712T172035Z
LAST-MODIFIED:20240712T172035Z
UID:1662-1724095800-1724099400@mhumc.org
SUMMARY:AA Meetings - Monfort Heights Big Book
DESCRIPTION:Discussion\nIn-person\n\nOpen\n\n\n\nC. I. P. Continue Improving Practice – Steps 10\, 11 & 12 \nFor Zoom info call 513-317-6390 \nFor more information\, call 513-752-2210
URL:https://mhumc.org/event/aa-meetings-monfort-heights-big-book-6/
LOCATION:MHUMC\, 3682 West Fork Rd.\, Cincinnati\, OH\, 45247\, United States
END:VEVENT
BEGIN:VEVENT
DTSTART;TZID=UTC:20240818T180000
DTEND;TZID=UTC:20240818T200000
DTSTAMP:20260425T114608
CREATED:20240712T170810Z
LAST-MODIFIED:20240712T170810Z
UID:1637-1724004000-1724011200@mhumc.org
SUMMARY:Elevate Youth Group - Back to School Kickoff
DESCRIPTION:ELEVATE is a place where you can be known and belong.\nAt ELEVATE we are about creating an environment where youth in grades 6-12 can authentically be themselves and share their stories. Our prayer is that they would see how God’s Story intersects with their own. We invite students to engage in a meaningful faith practice and into an intimate relationship with Jesus Christ. We want to help elevate each student’s spiritual life and ultimately guide them into a life of discipleship.”\nContact Jeff Snyder at Jeff.mhumc@gmail.com or\n513-545-5235
URL:https://mhumc.org/event/elevate-youth-group-back-to-school-kickoff/
LOCATION:MHUMC\, 3682 West Fork Rd.\, Cincinnati\, OH\, 45247\, United States
ATTACH;FMTTYPE=image/png:https://mhumc.org/wp-content/uploads/2024/05/Elevate-logo-2.png
END:VEVENT
BEGIN:VEVENT
DTSTART;TZID=UTC:20240818T110000
DTEND;TZID=UTC:20240818T110000
DTSTAMP:20260425T114608
CREATED:20240712T173934Z
LAST-MODIFIED:20240712T173934Z
UID:1701-1723978800-1723978800@mhumc.org
SUMMARY:Blessing of the Backpacks
DESCRIPTION:Back to School is a time for new beginnings.  Students\, Teachers\, Bus Drivers\, School Staff\, Parents\, and anyone seeking a blessing are welcome to join us for our Blessing of the Backpacks (or coffee cups\, car keys\, briefcases\, or any other tools that will help you to succeed over the coming year).  Bring your tool of choice with you to our services to receive a blessing for the year ahead.
URL:https://mhumc.org/event/blessing-of-the-backpacks-2/
LOCATION:MHUMC\, 3682 West Fork Rd.\, Cincinnati\, OH\, 45247\, United States
ATTACH;FMTTYPE=image/jpeg:https://mhumc.org/wp-content/uploads/2024/07/Blessing-of-the-Backpacks.jpg
END:VEVENT
BEGIN:VEVENT
DTSTART;TZID=UTC:20240818T110000
DTEND;TZID=UTC:20240818T110000
DTSTAMP:20260425T114608
CREATED:20240709T183414Z
LAST-MODIFIED:20240709T183414Z
UID:1594-1723978800-1723978800@mhumc.org
SUMMARY:Connect Worship
DESCRIPTION:Welcome\n\n\nWe are a broad cross-section of the Monfort Heights community with a diverse range of family types; all ages\, races\, and interests are represented here. Some of our folks have lived nearby and worshipped here for over fifty years. Some of us are so new we are still learning where the light switches are. Some of us wear suits on Sunday\, and some wear shorts and sandals. We are different in many ways\, but we share a common love in our hearts for God\, his son\, and his people! \n\n\n\n\n\n\n\n\n\n\n\n\nOur Connect Worship is a praise worship service of modern music and expressions of faith that takes place on Sunday mornings\, at 11:00am\, in our Family Life Center. \nYou can also join us on Facebook Live or catch a replay on YouTube.
URL:https://mhumc.org/event/connect-worship-14/
LOCATION:Family Life Center\, 3682 West Fork Rd.\, Cincinnati\, OH\, 45247\, United States
END:VEVENT
BEGIN:VEVENT
DTSTART;TZID=UTC:20240818T093000
DTEND;TZID=UTC:20240818T093000
DTSTAMP:20260425T114608
CREATED:20240712T173908Z
LAST-MODIFIED:20240712T174630Z
UID:1698-1723973400-1723973400@mhumc.org
SUMMARY:Blessing of the Backpacks
DESCRIPTION:Back to School is a time for new beginnings.  Students\, Teachers\, Bus Drivers\, School Staff\, Parents\, and anyone seeking a blessing are welcome to join us for our Blessing of the Backpacks (or coffee cups\, car keys\, briefcases\, or any other tools that will help you to succeed over the coming year).  Bring your tool of choice with you to our services to receive a blessing for the year ahead.
URL:https://mhumc.org/event/blessing-of-the-backpacks/
LOCATION:MHUMC\, 3682 West Fork Rd.\, Cincinnati\, OH\, 45247\, United States
ATTACH;FMTTYPE=image/jpeg:https://mhumc.org/wp-content/uploads/2024/07/Blessing-of-the-Backpacks.jpg
END:VEVENT
BEGIN:VEVENT
DTSTART;TZID=UTC:20240818T093000
DTEND;TZID=UTC:20240818T093000
DTSTAMP:20260425T114608
CREATED:20240709T182816Z
LAST-MODIFIED:20240709T182816Z
UID:1574-1723973400-1723973400@mhumc.org
SUMMARY:Classic Worship
DESCRIPTION:Welcome\n\n\nWe are a broad cross-section of the Monfort Heights community with a diverse range of family types; all ages\, races\, and interests are represented here. Some of our folks have lived nearby and worshipped here for over fifty years. Some of us are so new we are still learning where the light switches are. Some of us wear suits on Sunday\, and some wear shorts and sandals. We are different in many ways\, but we share a common love in our hearts for God\, his son\, and his people! \n\n\n\n\n\n\n\n\n\n\n\n\nOur Classic Worship is a traditional worship service\, and takes place on Sunday mornings\, at 9:30 am\, in our Sanctuary. \nYou can also join us on Facebook Live or catch a replay on YouTube.
URL:https://mhumc.org/event/classic-worship-14/
LOCATION:Sanctuary\, 3685 West Fork Rd\, Cincinnati\, 45247\, United States
END:VEVENT
BEGIN:VEVENT
DTSTART;TZID=UTC:20240814T200000
DTEND;TZID=UTC:20240814T210000
DTSTAMP:20260425T114608
CREATED:20240712T172754Z
LAST-MODIFIED:20240712T172754Z
UID:1684-1723665600-1723669200@mhumc.org
SUMMARY:AA Meetings - Common Solutions With Concurrent Beginners Meeting
DESCRIPTION:Wednesday 8:00 PM – 9:00 PM EDT\n\nBig Book\n\nClosed\n\nDiscussion\nIn-person\nNewcomer\nWheelchair Access\n\n\nOpen lead last Wk \nGroup Conscience 1st week of each month at 7:15 PM \nFor more information contact 513-368-1373 \n 
URL:https://mhumc.org/event/aa-meetings-common-solutions-with-concurrent-beginners-meeting-5/
LOCATION:MHUMC\, 3682 West Fork Rd.\, Cincinnati\, OH\, 45247\, United States
END:VEVENT
BEGIN:VEVENT
DTSTART;TZID=UTC:20240812T193000
DTEND;TZID=UTC:20240812T203000
DTSTAMP:20260425T114608
CREATED:20240712T172018Z
LAST-MODIFIED:20240712T172018Z
UID:1660-1723491000-1723494600@mhumc.org
SUMMARY:AA Meetings - Monfort Heights Big Book
DESCRIPTION:Discussion\nIn-person\n\nOpen\n\n\n\nC. I. P. Continue Improving Practice – Steps 10\, 11 & 12 \nFor Zoom info call 513-317-6390 \nFor more information\, call 513-752-2210
URL:https://mhumc.org/event/aa-meetings-monfort-heights-big-book-5/
LOCATION:MHUMC\, 3682 West Fork Rd.\, Cincinnati\, OH\, 45247\, United States
END:VEVENT
BEGIN:VEVENT
DTSTART;TZID=UTC:20240812T183000
DTEND;TZID=UTC:20240812T200000
DTSTAMP:20260425T114608
CREATED:20240709T184255Z
LAST-MODIFIED:20240709T184255Z
UID:1618-1723487400-1723492800@mhumc.org
SUMMARY:Tap Into Faith
DESCRIPTION:We are bringing the Church outside of its walls and into the places where people are already gathering and living in community. It’s all about building relationship with each other through some great live music and a faith-based discussion shared around a table with delicious food and drink.
URL:https://mhumc.org/event/tap-into-faith-57/
LOCATION:WEST SIDE BREWING\, 3044 HARRISON AVENUE\, CINCINNATI\, OHIO\, 45211
ATTACH;FMTTYPE=image/jpeg:https://mhumc.org/wp-content/uploads/2019/09/Tap-into-Faith-1.jpg
END:VEVENT
BEGIN:VEVENT
DTSTART;TZID=UTC:20240811T110000
DTEND;TZID=UTC:20240811T110000
DTSTAMP:20260425T114608
CREATED:20240709T183356Z
LAST-MODIFIED:20240709T183356Z
UID:1592-1723374000-1723374000@mhumc.org
SUMMARY:Connect Worship
DESCRIPTION:Welcome\n\n\nWe are a broad cross-section of the Monfort Heights community with a diverse range of family types; all ages\, races\, and interests are represented here. Some of our folks have lived nearby and worshipped here for over fifty years. Some of us are so new we are still learning where the light switches are. Some of us wear suits on Sunday\, and some wear shorts and sandals. We are different in many ways\, but we share a common love in our hearts for God\, his son\, and his people! \n\n\n\n\n\n\n\n\n\n\n\n\nOur Connect Worship is a praise worship service of modern music and expressions of faith that takes place on Sunday mornings\, at 11:00am\, in our Family Life Center. \nYou can also join us on Facebook Live or catch a replay on YouTube.
URL:https://mhumc.org/event/connect-worship-13/
LOCATION:Family Life Center\, 3682 West Fork Rd.\, Cincinnati\, OH\, 45247\, United States
END:VEVENT
BEGIN:VEVENT
DTSTART;TZID=UTC:20240811T093000
DTEND;TZID=UTC:20240811T093000
DTSTAMP:20260425T114608
CREATED:20240709T182759Z
LAST-MODIFIED:20240709T182759Z
UID:1572-1723368600-1723368600@mhumc.org
SUMMARY:Classic Worship
DESCRIPTION:Welcome\n\n\nWe are a broad cross-section of the Monfort Heights community with a diverse range of family types; all ages\, races\, and interests are represented here. Some of our folks have lived nearby and worshipped here for over fifty years. Some of us are so new we are still learning where the light switches are. Some of us wear suits on Sunday\, and some wear shorts and sandals. We are different in many ways\, but we share a common love in our hearts for God\, his son\, and his people! \n\n\n\n\n\n\n\n\n\n\n\n\nOur Classic Worship is a traditional worship service\, and takes place on Sunday mornings\, at 9:30 am\, in our Sanctuary. \nYou can also join us on Facebook Live or catch a replay on YouTube.
URL:https://mhumc.org/event/classic-worship-13/
LOCATION:Sanctuary\, 3685 West Fork Rd\, Cincinnati\, 45247\, United States
END:VEVENT
BEGIN:VEVENT
DTSTART;TZID=UTC:20240811T083000
DTEND;TZID=UTC:20240811T083000
DTSTAMP:20260425T114608
CREATED:20240709T182617Z
LAST-MODIFIED:20240709T182629Z
UID:1568-1723365000-1723365000@mhumc.org
SUMMARY:Outdoor Worship
DESCRIPTION:Join us for our Outdoor Worship service\, weather permitting\, Sunday mornings at 8:30 am\, July 7th-August 11th.  Feel free to bring an outdoor chair for comfortable seating.  We’ll meet on the lawn outside of the sanctuary\, and move indoors if weather demands.  The format of this worship service will include worship songs\, an abbreviated message\, and sharing the Lord’s Prayer.  This service will not be live-streamed.
URL:https://mhumc.org/event/outdoor-worship-4/
LOCATION:MHUMC\, 3682 West Fork Rd.\, Cincinnati\, OH\, 45247\, United States
END:VEVENT
BEGIN:VEVENT
DTSTART;TZID=UTC:20240810T090000
DTEND;TZID=UTC:20240810T100000
DTSTAMP:20260425T114608
CREATED:20240709T183941Z
LAST-MODIFIED:20240709T183941Z
UID:1610-1723280400-1723284000@mhumc.org
SUMMARY:Blessing Bags
DESCRIPTION:The pandemic and increase in cost of living has magnified some of the tremendous needs of people who are living on the margin. To help out\, our church distributes bags of non-perishable groceries every other Saturday to people in our community who are in need. These “Blessing Bags” are supported by food donations through the church. For more information\, or if you would like to help support this ministry\, please contact the church office.\noffice.mhumc@gmail.com. 513-481-8699
URL:https://mhumc.org/event/blessing-bags-7/
LOCATION:MHUMC\, 3682 West Fork Rd.\, Cincinnati\, OH\, 45247\, United States
ATTACH;FMTTYPE=image/png:https://mhumc.org/wp-content/uploads/2024/05/Blessing-Bags-Logo.png
END:VEVENT
BEGIN:VEVENT
DTSTART;TZID=UTC:20240807T200000
DTEND;TZID=UTC:20240807T210000
DTSTAMP:20260425T114608
CREATED:20240712T172735Z
LAST-MODIFIED:20240712T172735Z
UID:1682-1723060800-1723064400@mhumc.org
SUMMARY:AA Meetings - Common Solutions With Concurrent Beginners Meeting
DESCRIPTION:Wednesday 8:00 PM – 9:00 PM EDT\n\nBig Book\n\nClosed\n\nDiscussion\nIn-person\nNewcomer\nWheelchair Access\n\n\nOpen lead last Wk \nGroup Conscience 1st week of each month at 7:15 PM \nFor more information contact 513-368-1373 \n 
URL:https://mhumc.org/event/aa-meetings-common-solutions-with-concurrent-beginners-meeting-4/
LOCATION:MHUMC\, 3682 West Fork Rd.\, Cincinnati\, OH\, 45247\, United States
END:VEVENT
BEGIN:VEVENT
DTSTART;TZID=UTC:20240805T193000
DTEND;TZID=UTC:20240805T203000
DTSTAMP:20260425T114608
CREATED:20240712T171958Z
LAST-MODIFIED:20240712T172236Z
UID:1658-1722886200-1722889800@mhumc.org
SUMMARY:AA Meetings - Monfort Heights Big Book
DESCRIPTION:Discussion\nIn-person\n\nOpen\n\n\n\nC. I. P. Continue Improving Practice – Steps 10\, 11 & 12 \nFor Zoom info call 513-317-6390 \nFor more information\, call 513-752-2210
URL:https://mhumc.org/event/aa-meetings-monfort-heights-big-book-4/
LOCATION:MHUMC\, 3682 West Fork Rd.\, Cincinnati\, OH\, 45247\, United States
END:VEVENT
END:VCALENDAR