BEGIN:VCALENDAR
VERSION:2.0
PRODID:-//mhumc.org - ECPv6.15.20//NONSGML v1.0//EN
CALSCALE:GREGORIAN
METHOD:PUBLISH
X-WR-CALNAME:mhumc.org
X-ORIGINAL-URL:https://mhumc.org
X-WR-CALDESC:Events for mhumc.org
REFRESH-INTERVAL;VALUE=DURATION:PT1H
X-Robots-Tag:noindex
X-PUBLISHED-TTL:PT1H
BEGIN:VTIMEZONE
TZID:UTC
BEGIN:STANDARD
TZOFFSETFROM:+0000
TZOFFSETTO:+0000
TZNAME:UTC
DTSTART:20230101T000000
END:STANDARD
END:VTIMEZONE
BEGIN:VEVENT
DTSTART;TZID=UTC:20240805T193000
DTEND;TZID=UTC:20240805T203000
DTSTAMP:20260425T120536
CREATED:20240712T171958Z
LAST-MODIFIED:20240712T172236Z
UID:1658-1722886200-1722889800@mhumc.org
SUMMARY:AA Meetings - Monfort Heights Big Book
DESCRIPTION:Discussion\nIn-person\n\nOpen\n\n\n\nC. I. P. Continue Improving Practice – Steps 10\, 11 & 12 \nFor Zoom info call 513-317-6390 \nFor more information\, call 513-752-2210
URL:https://mhumc.org/event/aa-meetings-monfort-heights-big-book-4/
LOCATION:MHUMC\, 3682 West Fork Rd.\, Cincinnati\, OH\, 45247\, United States
END:VEVENT
BEGIN:VEVENT
DTSTART;TZID=UTC:20240804T180000
DTEND;TZID=UTC:20240804T200000
DTSTAMP:20260425T120536
CREATED:20240712T170733Z
LAST-MODIFIED:20240712T170733Z
UID:1635-1722794400-1722801600@mhumc.org
SUMMARY:Elevate Youth Group
DESCRIPTION:ELEVATE is a place where you can be known and belong.\nAt ELEVATE we are about creating an environment where youth in grades 6-12 can authentically be themselves and share their stories. Our prayer is that they would see how God’s Story intersects with their own. We invite students to engage in a meaningful faith practice and into an intimate relationship with Jesus Christ. We want to help elevate each student’s spiritual life and ultimately guide them into a life of discipleship.”\nContact Jeff Snyder at Jeff.mhumc@gmail.com or\n513-545-5235
URL:https://mhumc.org/event/elevate-youth-group-4/
LOCATION:MHUMC\, 3682 West Fork Rd.\, Cincinnati\, OH\, 45247\, United States
ATTACH;FMTTYPE=image/png:https://mhumc.org/wp-content/uploads/2024/05/Elevate-logo-2.png
END:VEVENT
BEGIN:VEVENT
DTSTART;TZID=UTC:20240804T110000
DTEND;TZID=UTC:20240804T110000
DTSTAMP:20260425T120536
CREATED:20240709T183341Z
LAST-MODIFIED:20240709T183341Z
UID:1590-1722769200-1722769200@mhumc.org
SUMMARY:Connect Worship
DESCRIPTION:Welcome\n\n\nWe are a broad cross-section of the Monfort Heights community with a diverse range of family types; all ages\, races\, and interests are represented here. Some of our folks have lived nearby and worshipped here for over fifty years. Some of us are so new we are still learning where the light switches are. Some of us wear suits on Sunday\, and some wear shorts and sandals. We are different in many ways\, but we share a common love in our hearts for God\, his son\, and his people! \n\n\n\n\n\n\n\n\n\n\n\n\nOur Connect Worship is a praise worship service of modern music and expressions of faith that takes place on Sunday mornings\, at 11:00am\, in our Family Life Center. \nYou can also join us on Facebook Live or catch a replay on YouTube.
URL:https://mhumc.org/event/connect-worship-12/
LOCATION:Family Life Center\, 3682 West Fork Rd.\, Cincinnati\, OH\, 45247\, United States
END:VEVENT
BEGIN:VEVENT
DTSTART;TZID=UTC:20240804T093000
DTEND;TZID=UTC:20240804T093000
DTSTAMP:20260425T120536
CREATED:20240709T182741Z
LAST-MODIFIED:20240709T182741Z
UID:1570-1722763800-1722763800@mhumc.org
SUMMARY:Classic Worship
DESCRIPTION:Welcome\n\n\nWe are a broad cross-section of the Monfort Heights community with a diverse range of family types; all ages\, races\, and interests are represented here. Some of our folks have lived nearby and worshipped here for over fifty years. Some of us are so new we are still learning where the light switches are. Some of us wear suits on Sunday\, and some wear shorts and sandals. We are different in many ways\, but we share a common love in our hearts for God\, his son\, and his people! \n\n\n\n\n\n\n\n\n\n\n\n\nOur Classic Worship is a traditional worship service\, and takes place on Sunday mornings\, at 9:30 am\, in our Sanctuary. \nYou can also join us on Facebook Live or catch a replay on YouTube.
URL:https://mhumc.org/event/classic-worship-12/
LOCATION:Sanctuary\, 3685 West Fork Rd\, Cincinnati\, 45247\, United States
END:VEVENT
BEGIN:VEVENT
DTSTART;TZID=UTC:20240804T083000
DTEND;TZID=UTC:20240804T083000
DTSTAMP:20260425T120536
CREATED:20240709T183144Z
LAST-MODIFIED:20240709T183144Z
UID:1588-1722760200-1722760200@mhumc.org
SUMMARY:Outdoor Worship
DESCRIPTION:Join us for our Outdoor Worship service\, weather permitting\, Sunday mornings at 8:30 am\, July 7th-August 11th.  Feel free to bring an outdoor chair for comfortable seating.  We’ll meet on the lawn outside of the sanctuary\, and move indoors if weather demands.  The format of this worship service will include worship songs\, an abbreviated message\, and sharing the Lord’s Prayer.  This service will not be live-streamed.
URL:https://mhumc.org/event/outdoor-worship-5/
LOCATION:MHUMC\, 3682 West Fork Rd.\, Cincinnati\, OH\, 45247\, United States
END:VEVENT
BEGIN:VEVENT
DTSTART;TZID=UTC:20240803T100000
DTEND;TZID=UTC:20240803T160000
DTSTAMP:20260425T120536
CREATED:20240726T151043Z
LAST-MODIFIED:20240726T151043Z
UID:1724-1722679200-1722700800@mhumc.org
SUMMARY:CINPEX 2024 Stamp Show
DESCRIPTION:Greater Cincinnati Philatelic Society \nStamp Show 2024 \nContact Michael Coates for more information \ncoatesmk1948@gmail.com or 513-574-0830
URL:https://mhumc.org/event/cinpex-2024-stamp-show/
LOCATION:MHUMC\, 3682 West Fork Rd.\, Cincinnati\, OH\, 45247\, United States
END:VEVENT
BEGIN:VEVENT
DTSTART;TZID=UTC:20240802T180000
DTEND;TZID=UTC:20240802T200000
DTSTAMP:20260425T120536
CREATED:20240530T141514Z
LAST-MODIFIED:20240530T141514Z
UID:1515-1722621600-1722628800@mhumc.org
SUMMARY:Camp S'more - Friday Family Fun Night - Family Carnival
DESCRIPTION:Step right up to our Carnival Night Spectacular for an evening of whimsical delights and adventures!\nFrom classic carnival games like ring toss to exciting bounce houses for kids\, balloon artist\, face painters and tasty treats\, there’s something for everyone to enjoy.\nGet ready for laughter\, excitement\, and unforgettable memories under the indoor bright lights of our FREE Family Carnival Extravaganza! \nThis event is for the whole family\, it is not a drop-off event. \nPlease register here.
URL:https://mhumc.org/event/camp-smore-friday-family-fun-night-family-carnival/
LOCATION:MHUMC\, 3682 West Fork Rd.\, Cincinnati\, OH\, 45247\, United States
ATTACH;FMTTYPE=image/png:https://mhumc.org/wp-content/uploads/2024/05/COLOR-KIDS-CAMP-SMORE-2.png
END:VEVENT
BEGIN:VEVENT
DTSTART;TZID=UTC:20240802T120000
DTEND;TZID=UTC:20240802T180000
DTSTAMP:20260425T120536
CREATED:20240712T171451Z
LAST-MODIFIED:20240726T151001Z
UID:1650-1722600000-1722621600@mhumc.org
SUMMARY:CINPEX 2024 Stamp Show
DESCRIPTION:Greater Cincinnati Philatelic Society \nStamp Show 2024 \nContact Michael Coates for more information \ncoatesmk1948@gmail.com or 513-574-0830
URL:https://mhumc.org/event/cinpex-2024/
LOCATION:MHUMC\, 3682 West Fork Rd.\, Cincinnati\, OH\, 45247\, United States
END:VEVENT
BEGIN:VEVENT
DTSTART;TZID=UTC:20240731T200000
DTEND;TZID=UTC:20240731T210000
DTSTAMP:20260425T120536
CREATED:20240712T172715Z
LAST-MODIFIED:20240712T172715Z
UID:1680-1722456000-1722459600@mhumc.org
SUMMARY:AA Meetings - Common Solutions With Concurrent Beginners Meeting
DESCRIPTION:Wednesday 8:00 PM – 9:00 PM EDT\n\nBig Book\n\nClosed\n\nDiscussion\nIn-person\nNewcomer\nWheelchair Access\n\n\nOpen lead last Wk \nGroup Conscience 1st week of each month at 7:15 PM \nFor more information contact 513-368-1373 \n 
URL:https://mhumc.org/event/aa-meetings-common-solutions-with-concurrent-beginners-meeting-3/
LOCATION:MHUMC\, 3682 West Fork Rd.\, Cincinnati\, OH\, 45247\, United States
END:VEVENT
BEGIN:VEVENT
DTSTART;TZID=UTC:20240729T193000
DTEND;TZID=UTC:20240729T203000
DTSTAMP:20260425T120536
CREATED:20240712T171943Z
LAST-MODIFIED:20240712T171943Z
UID:1656-1722281400-1722285000@mhumc.org
SUMMARY:AA Meetings - Monfort Heights Big Book
DESCRIPTION:Discussion\nIn-person\n\nOpen\n\n\n\nC. I. P. Continue Improving Practice – Steps 10\, 11 & 12 \nFor Zoom info call 513-317-6390 \nFor more information\, call 513-752-2210
URL:https://mhumc.org/event/aa-meetings-monfort-heights-big-book-3/
LOCATION:MHUMC\, 3682 West Fork Rd.\, Cincinnati\, OH\, 45247\, United States
END:VEVENT
BEGIN:VEVENT
DTSTART;TZID=UTC:20240728T180000
DTEND;TZID=UTC:20240728T200000
DTSTAMP:20260425T120536
CREATED:20240712T170641Z
LAST-MODIFIED:20240712T170641Z
UID:1633-1722189600-1722196800@mhumc.org
SUMMARY:Elevate Youth Group - Pool Party!
DESCRIPTION:ELEVATE is a place where you can be known and belong.\nAt ELEVATE we are about creating an environment where youth in grades 6-12 can authentically be themselves and share their stories. Our prayer is that they would see how God’s Story intersects with their own. We invite students to engage in a meaningful faith practice and into an intimate relationship with Jesus Christ. We want to help elevate each student’s spiritual life and ultimately guide them into a life of discipleship.”\nContact Jeff Snyder at Jeff.mhumc@gmail.com or\n513-545-5235
URL:https://mhumc.org/event/elevate-youth-group-pool-party/
LOCATION:OH
ATTACH;FMTTYPE=image/png:https://mhumc.org/wp-content/uploads/2024/05/Elevate-logo-2.png
END:VEVENT
BEGIN:VEVENT
DTSTART;TZID=UTC:20240728T110000
DTEND;TZID=UTC:20240728T110000
DTSTAMP:20260425T120536
CREATED:20240612T165338Z
LAST-MODIFIED:20240612T165338Z
UID:1534-1722164400-1722164400@mhumc.org
SUMMARY:Connect Worship
DESCRIPTION:Welcome\n\n\nWe are a broad cross-section of the Monfort Heights community with a diverse range of family types; all ages\, races\, and interests are represented here. Some of our folks have lived nearby and worshipped here for over fifty years. Some of us are so new we are still learning where the light switches are. Some of us wear suits on Sunday\, and some wear shorts and sandals. We are different in many ways\, but we share a common love in our hearts for God\, his son\, and his people! \n\n\n\n\n\n\n\n\n\n\n\n\nOur Connect Worship is a praise worship service of modern music and expressions of faith that takes place on Sunday mornings\, at 11:00am\, in our Family Life Center. \nYou can also join us on Facebook Live or catch a replay on YouTube.
URL:https://mhumc.org/event/connect-worship-11/
LOCATION:Family Life Center\, 3682 West Fork Rd.\, Cincinnati\, OH\, 45247\, United States
END:VEVENT
BEGIN:VEVENT
DTSTART;TZID=UTC:20240728T093000
DTEND;TZID=UTC:20240728T093000
DTSTAMP:20260425T120536
CREATED:20240612T165151Z
LAST-MODIFIED:20240612T165151Z
UID:1526-1722159000-1722159000@mhumc.org
SUMMARY:Classic Worship
DESCRIPTION:Welcome\n\n\nWe are a broad cross-section of the Monfort Heights community with a diverse range of family types; all ages\, races\, and interests are represented here. Some of our folks have lived nearby and worshipped here for over fifty years. Some of us are so new we are still learning where the light switches are. Some of us wear suits on Sunday\, and some wear shorts and sandals. We are different in many ways\, but we share a common love in our hearts for God\, his son\, and his people! \n\n\n\n\n\n\n\n\n\n\n\n\nOur Classic Worship is a traditional worship service\, and takes place on Sunday mornings\, at 9:30 am\, in our Sanctuary. \nYou can also join us on Facebook Live or catch a replay on YouTube.
URL:https://mhumc.org/event/classic-worship-10/
LOCATION:Sanctuary\, 3685 West Fork Rd\, Cincinnati\, 45247\, United States
END:VEVENT
BEGIN:VEVENT
DTSTART;TZID=UTC:20240728T083000
DTEND;TZID=UTC:20240728T083000
DTSTAMP:20260425T120536
CREATED:20240709T182558Z
LAST-MODIFIED:20240709T182558Z
UID:1566-1722155400-1722155400@mhumc.org
SUMMARY:Outdoor Worship
DESCRIPTION:Join us for our Outdoor Worship service\, weather permitting\, Sunday mornings at 8:30 am\, July 7th-August 11th.  Feel free to bring an outdoor chair for comfortable seating.  We’ll meet on the lawn outside of the sanctuary\, and move indoors if weather demands.  The format of this worship service will include worship songs\, an abbreviated message\, and sharing the Lord’s Prayer.  This service will not be live-streamed.
URL:https://mhumc.org/event/outdoor-worship-3/
LOCATION:MHUMC\, 3682 West Fork Rd.\, Cincinnati\, OH\, 45247\, United States
END:VEVENT
BEGIN:VEVENT
DTSTART;TZID=UTC:20240727T090000
DTEND;TZID=UTC:20240727T100000
DTSTAMP:20260425T120536
CREATED:20240612T165015Z
LAST-MODIFIED:20240612T165015Z
UID:1520-1722070800-1722074400@mhumc.org
SUMMARY:Blessing Bags
DESCRIPTION:The pandemic and increase in cost of living has magnified some of the tremendous needs of people who are living on the margin. To help out\, our church distributes bags of non-perishable groceries every other Saturday to people in our community who are in need. These “Blessing Bags” are supported by food donations through the church. For more information\, or if you would like to help support this ministry\, please contact the church office.\noffice.mhumc@gmail.com. 513-481-8699
URL:https://mhumc.org/event/blessing-bags-6/
LOCATION:MHUMC\, 3682 West Fork Rd.\, Cincinnati\, OH\, 45247\, United States
ATTACH;FMTTYPE=image/png:https://mhumc.org/wp-content/uploads/2024/05/Blessing-Bags-Logo.png
END:VEVENT
BEGIN:VEVENT
DTSTART;TZID=UTC:20240724T200000
DTEND;TZID=UTC:20240724T210000
DTSTAMP:20260425T120536
CREATED:20240712T172658Z
LAST-MODIFIED:20240712T172658Z
UID:1678-1721851200-1721854800@mhumc.org
SUMMARY:AA Meetings - Common Solutions With Concurrent Beginners Meeting
DESCRIPTION:Wednesday 8:00 PM – 9:00 PM EDT\n\nBig Book\n\nClosed\n\nDiscussion\nIn-person\nNewcomer\nWheelchair Access\n\n\nOpen lead last Wk \nGroup Conscience 1st week of each month at 7:15 PM \nFor more information contact 513-368-1373 \n 
URL:https://mhumc.org/event/aa-meetings-common-solutions-with-concurrent-beginners-meeting-2/
LOCATION:MHUMC\, 3682 West Fork Rd.\, Cincinnati\, OH\, 45247\, United States
END:VEVENT
BEGIN:VEVENT
DTSTART;TZID=UTC:20240722T193000
DTEND;TZID=UTC:20240722T203000
DTSTAMP:20260425T120536
CREATED:20240712T171926Z
LAST-MODIFIED:20240712T171926Z
UID:1654-1721676600-1721680200@mhumc.org
SUMMARY:AA Meetings - Monfort Heights Big Book
DESCRIPTION:Discussion\nIn-person\n\nOpen\n\n\n\nC. I. P. Continue Improving Practice – Steps 10\, 11 & 12 \nFor Zoom info call 513-317-6390 \nFor more information\, call 513-752-2210
URL:https://mhumc.org/event/aa-meetings-monfort-heights-big-book-2/
LOCATION:MHUMC\, 3682 West Fork Rd.\, Cincinnati\, OH\, 45247\, United States
END:VEVENT
BEGIN:VEVENT
DTSTART;TZID=UTC:20240722T183000
DTEND;TZID=UTC:20240722T200000
DTSTAMP:20260425T120536
CREATED:20240612T165759Z
LAST-MODIFIED:20240612T165759Z
UID:1541-1721673000-1721678400@mhumc.org
SUMMARY:Tap Into Faith
DESCRIPTION:We are bringing the Church outside of its walls and into the places where people are already gathering and living in community. It’s all about building relationship with each other through some great live music and a faith-based discussion shared around a table with delicious food and drink.
URL:https://mhumc.org/event/tap-into-faith-56/
LOCATION:WEST SIDE BREWING\, 3044 HARRISON AVENUE\, CINCINNATI\, OHIO\, 45211
ATTACH;FMTTYPE=image/jpeg:https://mhumc.org/wp-content/uploads/2019/09/Tap-into-Faith-1.jpg
END:VEVENT
BEGIN:VEVENT
DTSTART;TZID=UTC:20240721T180000
DTEND;TZID=UTC:20240721T200000
DTSTAMP:20260425T120536
CREATED:20240712T170349Z
LAST-MODIFIED:20240712T170410Z
UID:1630-1721584800-1721592000@mhumc.org
SUMMARY:Elevate Youth Group
DESCRIPTION:ELEVATE is a place where you can be known and belong.\nAt ELEVATE we are about creating an environment where youth in grades 6-12 can authentically be themselves and share their stories. Our prayer is that they would see how God’s Story intersects with their own. We invite students to engage in a meaningful faith practice and into an intimate relationship with Jesus Christ. We want to help elevate each student’s spiritual life and ultimately guide them into a life of discipleship.”\nContact Jeff Snyder at Jeff.mhumc@gmail.com or\n513-545-5235
URL:https://mhumc.org/event/elevate-youth-group-3/
LOCATION:MHUMC\, 3682 West Fork Rd.\, Cincinnati\, OH\, 45247\, United States
ATTACH;FMTTYPE=image/png:https://mhumc.org/wp-content/uploads/2024/05/Elevate-logo-2.png
END:VEVENT
BEGIN:VEVENT
DTSTART;TZID=UTC:20240721T110000
DTEND;TZID=UTC:20240721T110000
DTSTAMP:20260425T120536
CREATED:20240612T165321Z
LAST-MODIFIED:20240612T165321Z
UID:1532-1721559600-1721559600@mhumc.org
SUMMARY:Connect Worship
DESCRIPTION:Welcome\n\n\nWe are a broad cross-section of the Monfort Heights community with a diverse range of family types; all ages\, races\, and interests are represented here. Some of our folks have lived nearby and worshipped here for over fifty years. Some of us are so new we are still learning where the light switches are. Some of us wear suits on Sunday\, and some wear shorts and sandals. We are different in many ways\, but we share a common love in our hearts for God\, his son\, and his people! \n\n\n\n\n\n\n\n\n\n\n\n\nOur Connect Worship is a praise worship service of modern music and expressions of faith that takes place on Sunday mornings\, at 11:00am\, in our Family Life Center. \nYou can also join us on Facebook Live or catch a replay on YouTube.
URL:https://mhumc.org/event/connect-worship-10/
LOCATION:Family Life Center\, 3682 West Fork Rd.\, Cincinnati\, OH\, 45247\, United States
END:VEVENT
BEGIN:VEVENT
DTSTART;TZID=UTC:20240721T093000
DTEND;TZID=UTC:20240721T093000
DTSTAMP:20260425T120536
CREATED:20240612T165122Z
LAST-MODIFIED:20240612T165131Z
UID:1524-1721554200-1721554200@mhumc.org
SUMMARY:Classic Worship
DESCRIPTION:Welcome\n\n\nWe are a broad cross-section of the Monfort Heights community with a diverse range of family types; all ages\, races\, and interests are represented here. Some of our folks have lived nearby and worshipped here for over fifty years. Some of us are so new we are still learning where the light switches are. Some of us wear suits on Sunday\, and some wear shorts and sandals. We are different in many ways\, but we share a common love in our hearts for God\, his son\, and his people! \n\n\n\n\n\n\n\n\n\n\n\n\nOur Classic Worship is a traditional worship service\, and takes place on Sunday mornings\, at 9:30 am\, in our Sanctuary. \nYou can also join us on Facebook Live or catch a replay on YouTube.
URL:https://mhumc.org/event/classic-worship-9/
LOCATION:Sanctuary\, 3685 West Fork Rd\, Cincinnati\, 45247\, United States
END:VEVENT
BEGIN:VEVENT
DTSTART;TZID=UTC:20240721T083000
DTEND;TZID=UTC:20240721T083000
DTSTAMP:20260425T120536
CREATED:20240709T182536Z
LAST-MODIFIED:20240709T182536Z
UID:1564-1721550600-1721550600@mhumc.org
SUMMARY:Outdoor Worship
DESCRIPTION:Join us for our Outdoor Worship service\, weather permitting\, Sunday mornings at 8:30 am\, July 7th-August 11th.  Feel free to bring an outdoor chair for comfortable seating.  We’ll meet on the lawn outside of the sanctuary\, and move indoors if weather demands.  The format of this worship service will include worship songs\, an abbreviated message\, and sharing the Lord’s Prayer.  This service will not be live-streamed.
URL:https://mhumc.org/event/outdoor-worship-2/
LOCATION:MHUMC\, 3682 West Fork Rd.\, Cincinnati\, OH\, 45247\, United States
END:VEVENT
BEGIN:VEVENT
DTSTART;TZID=UTC:20240717T200000
DTEND;TZID=UTC:20240717T210000
DTSTAMP:20260425T120536
CREATED:20240712T172635Z
LAST-MODIFIED:20240712T172635Z
UID:1676-1721246400-1721250000@mhumc.org
SUMMARY:AA Meetings - Common Solutions With Concurrent Beginners Meeting
DESCRIPTION:Wednesday 8:00 PM – 9:00 PM EDT\n\nBig Book\n\nClosed\n\nDiscussion\nIn-person\nNewcomer\nWheelchair Access\n\n\nOpen lead last Wk \nGroup Conscience 1st week of each month at 7:15 PM \nFor more information contact 513-368-1373 \n 
URL:https://mhumc.org/event/aa-meetings-common-solutions-with-concurrent-beginners-meeting/
LOCATION:MHUMC\, 3682 West Fork Rd.\, Cincinnati\, OH\, 45247\, United States
END:VEVENT
BEGIN:VEVENT
DTSTART;TZID=UTC:20240715T193000
DTEND;TZID=UTC:20240715T203000
DTSTAMP:20260425T120536
CREATED:20240712T171905Z
LAST-MODIFIED:20240712T171905Z
UID:1652-1721071800-1721075400@mhumc.org
SUMMARY:AA Meetings - Monfort Heights Big Book
DESCRIPTION:Discussion\nIn-person\n\nOpen\n\n\n\nC. I. P. Continue Improving Practice – Steps 10\, 11 & 12 \nFor Zoom info call 513-317-6390 \nFor more information\, call 513-752-2210
URL:https://mhumc.org/event/aa-meetings-monfort-heights-big-book/
LOCATION:MHUMC\, 3682 West Fork Rd.\, Cincinnati\, OH\, 45247\, United States
END:VEVENT
BEGIN:VEVENT
DTSTART;TZID=UTC:20240714T110000
DTEND;TZID=UTC:20240714T110000
DTSTAMP:20260425T120536
CREATED:20240612T165305Z
LAST-MODIFIED:20240612T165305Z
UID:1530-1720954800-1720954800@mhumc.org
SUMMARY:Connect Worship
DESCRIPTION:Welcome\n\n\nWe are a broad cross-section of the Monfort Heights community with a diverse range of family types; all ages\, races\, and interests are represented here. Some of our folks have lived nearby and worshipped here for over fifty years. Some of us are so new we are still learning where the light switches are. Some of us wear suits on Sunday\, and some wear shorts and sandals. We are different in many ways\, but we share a common love in our hearts for God\, his son\, and his people! \n\n\n\n\n\n\n\n\n\n\n\n\nOur Connect Worship is a praise worship service of modern music and expressions of faith that takes place on Sunday mornings\, at 11:00am\, in our Family Life Center. \nYou can also join us on Facebook Live or catch a replay on YouTube.
URL:https://mhumc.org/event/connect-worship-9/
LOCATION:Family Life Center\, 3682 West Fork Rd.\, Cincinnati\, OH\, 45247\, United States
END:VEVENT
BEGIN:VEVENT
DTSTART;TZID=UTC:20240714T093000
DTEND;TZID=UTC:20240714T093000
DTSTAMP:20260425T120536
CREATED:20240612T165532Z
LAST-MODIFIED:20240612T165532Z
UID:1536-1720949400-1720949400@mhumc.org
SUMMARY:Classic Worship
DESCRIPTION:Welcome\n\n\nWe are a broad cross-section of the Monfort Heights community with a diverse range of family types; all ages\, races\, and interests are represented here. Some of our folks have lived nearby and worshipped here for over fifty years. Some of us are so new we are still learning where the light switches are. Some of us wear suits on Sunday\, and some wear shorts and sandals. We are different in many ways\, but we share a common love in our hearts for God\, his son\, and his people! \n\n\n\n\n\n\n\n\n\n\n\n\nOur Classic Worship is a traditional worship service\, and takes place on Sunday mornings\, at 9:30 am\, in our Sanctuary. \nYou can also join us on Facebook Live or catch a replay on YouTube.
URL:https://mhumc.org/event/classic-worship-11/
LOCATION:Sanctuary\, 3685 West Fork Rd\, Cincinnati\, 45247\, United States
END:VEVENT
BEGIN:VEVENT
DTSTART;TZID=UTC:20240714T083000
DTEND;TZID=UTC:20240714T083000
DTSTAMP:20260425T120536
CREATED:20240709T182306Z
LAST-MODIFIED:20240709T182356Z
UID:1562-1720945800-1720945800@mhumc.org
SUMMARY:Outdoor Worship
DESCRIPTION:Join us for our Outdoor Worship service\, weather permitting\, Sunday mornings at 8:30 am\, July 7th-August 11th.  Feel free to bring an outdoor chair for comfortable seating.  We’ll meet on the lawn outside of the sanctuary\, and move indoors if weather demands.  The format of this worship service will include worship songs\, an abbreviated message\, and sharing the Lord’s Prayer.  This service will not be live-streamed.
URL:https://mhumc.org/event/outdoor-worship/
LOCATION:MHUMC\, 3682 West Fork Rd.\, Cincinnati\, OH\, 45247\, United States
END:VEVENT
BEGIN:VEVENT
DTSTART;TZID=UTC:20240713T090000
DTEND;TZID=UTC:20240713T100000
DTSTAMP:20260425T120536
CREATED:20240612T164954Z
LAST-MODIFIED:20240612T164954Z
UID:1518-1720861200-1720864800@mhumc.org
SUMMARY:Blessing Bags
DESCRIPTION:The pandemic and increase in cost of living has magnified some of the tremendous needs of people who are living on the margin. To help out\, our church distributes bags of non-perishable groceries every other Saturday to people in our community who are in need. These “Blessing Bags” are supported by food donations through the church. For more information\, or if you would like to help support this ministry\, please contact the church office.\noffice.mhumc@gmail.com. 513-481-8699
URL:https://mhumc.org/event/blessing-bags-5/
LOCATION:MHUMC\, 3682 West Fork Rd.\, Cincinnati\, OH\, 45247\, United States
ATTACH;FMTTYPE=image/png:https://mhumc.org/wp-content/uploads/2024/05/Blessing-Bags-Logo.png
END:VEVENT
BEGIN:VEVENT
DTSTART;TZID=UTC:20240708T183000
DTEND;TZID=UTC:20240708T200000
DTSTAMP:20260425T120536
CREATED:20240612T165652Z
LAST-MODIFIED:20240612T165652Z
UID:1538-1720463400-1720468800@mhumc.org
SUMMARY:Tap Into Faith
DESCRIPTION:We are bringing the Church outside of its walls and into the places where people are already gathering and living in community. It’s all about building relationship with each other through some great live music and a faith-based discussion shared around a table with delicious food and drink.
URL:https://mhumc.org/event/tap-into-faith-55/
LOCATION:WEST SIDE BREWING\, 3044 HARRISON AVENUE\, CINCINNATI\, OHIO\, 45211
ATTACH;FMTTYPE=image/jpeg:https://mhumc.org/wp-content/uploads/2019/09/Tap-into-Faith-1.jpg
END:VEVENT
BEGIN:VEVENT
DTSTART;TZID=UTC:20240707T110000
DTEND;TZID=UTC:20240707T110000
DTSTAMP:20260425T120536
CREATED:20240612T165248Z
LAST-MODIFIED:20240612T165248Z
UID:1528-1720350000-1720350000@mhumc.org
SUMMARY:Connect Worship
DESCRIPTION:Welcome\n\n\nWe are a broad cross-section of the Monfort Heights community with a diverse range of family types; all ages\, races\, and interests are represented here. Some of our folks have lived nearby and worshipped here for over fifty years. Some of us are so new we are still learning where the light switches are. Some of us wear suits on Sunday\, and some wear shorts and sandals. We are different in many ways\, but we share a common love in our hearts for God\, his son\, and his people! \n\n\n\n\n\n\n\n\n\n\n\n\nOur Connect Worship is a praise worship service of modern music and expressions of faith that takes place on Sunday mornings\, at 11:00am\, in our Family Life Center. \nYou can also join us on Facebook Live or catch a replay on YouTube.
URL:https://mhumc.org/event/connect-worship-8/
LOCATION:Family Life Center\, 3682 West Fork Rd.\, Cincinnati\, OH\, 45247\, United States
END:VEVENT
END:VCALENDAR