BEGIN:VCALENDAR
VERSION:2.0
PRODID:-//mhumc.org - ECPv6.15.20//NONSGML v1.0//EN
CALSCALE:GREGORIAN
METHOD:PUBLISH
X-WR-CALNAME:mhumc.org
X-ORIGINAL-URL:https://mhumc.org
X-WR-CALDESC:Events for mhumc.org
REFRESH-INTERVAL;VALUE=DURATION:PT1H
X-Robots-Tag:noindex
X-PUBLISHED-TTL:PT1H
BEGIN:VTIMEZONE
TZID:UTC
BEGIN:STANDARD
TZOFFSETFROM:+0000
TZOFFSETTO:+0000
TZNAME:UTC
DTSTART:20230101T000000
END:STANDARD
END:VTIMEZONE
BEGIN:VEVENT
DTSTART;TZID=UTC:20241126T113000
DTEND;TZID=UTC:20241126T113000
DTSTAMP:20260425T155930
CREATED:20241022T154217Z
LAST-MODIFIED:20241022T154217Z
UID:1830-1732620600-1732620600@mhumc.org
SUMMARY:Senior Singles
DESCRIPTION:A Christ-centered experience of care and support for senior single people in the church and community.  Monthly events are planned either with a speaker or an outing.
URL:https://mhumc.org/event/senior-singles-3/
LOCATION:OH
ATTACH;FMTTYPE=image/png:https://mhumc.org/wp-content/uploads/2024/05/Senior-Singles.png
END:VEVENT
BEGIN:VEVENT
DTSTART;TZID=UTC:20241125T193000
DTEND;TZID=UTC:20241125T203000
DTSTAMP:20260425T155930
CREATED:20241016T165414Z
LAST-MODIFIED:20241016T165414Z
UID:1769-1732563000-1732566600@mhumc.org
SUMMARY:AA Meetings - Monfort Heights Big Book
DESCRIPTION:Discussion\nIn-person\n\nOpen\n\n\n\nC. I. P. Continue Improving Practice – Steps 10\, 11 & 12 \nFor Zoom info call 513-317-6390 \nFor more information\, call 513-752-2210
URL:https://mhumc.org/event/aa-meetings-monfort-heights-big-book-20/
LOCATION:MHUMC\, 3682 West Fork Rd.\, Cincinnati\, OH\, 45247\, United States
END:VEVENT
BEGIN:VEVENT
DTSTART;TZID=UTC:20241125T183000
DTEND;TZID=UTC:20241125T200000
DTSTAMP:20260425T155930
CREATED:20241022T155754Z
LAST-MODIFIED:20241022T155754Z
UID:1851-1732559400-1732564800@mhumc.org
SUMMARY:Tap Into Faith
DESCRIPTION:We are bringing the Church outside of its walls and into the places where people are already gathering and living in community. It’s all about building relationship with each other through some great live music and a faith-based discussion shared around a table with delicious food and drink.
URL:https://mhumc.org/event/tap-into-faith-64/
LOCATION:WEST SIDE BREWING\, 3044 HARRISON AVENUE\, CINCINNATI\, OHIO\, 45211
ATTACH;FMTTYPE=image/jpeg:https://mhumc.org/wp-content/uploads/2019/09/Tap-into-Faith-1.jpg
END:VEVENT
BEGIN:VEVENT
DTSTART;TZID=UTC:20241124T183000
DTEND;TZID=UTC:20241124T200000
DTSTAMP:20260425T155930
CREATED:20241016T165840Z
LAST-MODIFIED:20241016T165840Z
UID:1783-1732473000-1732478400@mhumc.org
SUMMARY:Elevate Youth Group
DESCRIPTION:ELEVATE is a place where you can be known and belong.\nAt ELEVATE we are about creating an environment where youth in grades 6-12 can authentically be themselves and share their stories. Our prayer is that they would see how God’s Story intersects with their own. We invite students to engage in a meaningful faith practice and into an intimate relationship with Jesus Christ. We want to help elevate each student’s spiritual life and ultimately guide them into a life of discipleship.”\nContact Jeff Snyder at Jeff.mhumc@gmail.com or\n513-545-5235
URL:https://mhumc.org/event/elevate-youth-group-16/
LOCATION:MHUMC\, 3682 West Fork Rd.\, Cincinnati\, OH\, 45247\, United States
ATTACH;FMTTYPE=image/png:https://mhumc.org/wp-content/uploads/2024/05/Elevate-logo-2.png
END:VEVENT
BEGIN:VEVENT
DTSTART;TZID=UTC:20241124T110000
DTEND;TZID=UTC:20241124T110000
DTSTAMP:20260425T155930
CREATED:20241016T171828Z
LAST-MODIFIED:20241016T171828Z
UID:1805-1732446000-1732446000@mhumc.org
SUMMARY:Connect Worship - Wesley Foundation Student Day
DESCRIPTION:Welcome\n\n\nWe are a broad cross-section of the Monfort Heights community with a diverse range of family types; all ages\, races\, and interests are represented here. Some of our folks have lived nearby and worshipped here for over fifty years. Some of us are so new we are still learning where the light switches are. Some of us wear suits on Sunday\, and some wear shorts and sandals. We are different in many ways\, but we share a common love in our hearts for God\, his son\, and his people! \n\n\n\n\n\n\n\n\n\n\n\n\nOur Connect Worship is a praise worship service of modern music and expressions of faith that takes place on Sunday mornings\, at 11:00am\, in our Family Life Center. \nYou can also join us on Facebook Live or catch a replay on YouTube.
URL:https://mhumc.org/event/connect-worship-wesley-foundation-student-day/
LOCATION:Family Life Center\, 3682 West Fork Rd.\, Cincinnati\, OH\, 45247\, United States
END:VEVENT
BEGIN:VEVENT
DTSTART;TZID=UTC:20241124T093000
DTEND;TZID=UTC:20241124T093000
DTSTAMP:20260425T155930
CREATED:20241016T171448Z
LAST-MODIFIED:20241016T171448Z
UID:1795-1732440600-1732440600@mhumc.org
SUMMARY:Classic Worship - Wesley Foundation Student Day
DESCRIPTION:Welcome\n\n\nWe are a broad cross-section of the Monfort Heights community with a diverse range of family types; all ages\, races\, and interests are represented here. Some of our folks have lived nearby and worshipped here for over fifty years. Some of us are so new we are still learning where the light switches are. Some of us wear suits on Sunday\, and some wear shorts and sandals. We are different in many ways\, but we share a common love in our hearts for God\, his son\, and his people! \n\n\n\n\n\n\n\n\n\n\n\n\nOur Classic Worship is a traditional worship service\, and takes place on Sunday mornings\, at 9:30 am\, in our Sanctuary. \nYou can also join us on Facebook Live or catch a replay on YouTube.
URL:https://mhumc.org/event/classic-worship-wesley-foundation-student-day/
LOCATION:Sanctuary\, 3685 West Fork Rd\, Cincinnati\, 45247\, United States
END:VEVENT
BEGIN:VEVENT
DTSTART;TZID=UTC:20241123T103000
DTEND;TZID=UTC:20241123T103000
DTSTAMP:20260425T155930
CREATED:20241022T160553Z
LAST-MODIFIED:20241022T160553Z
UID:1858-1732357800-1732357800@mhumc.org
SUMMARY:Fit 6:19 - Workout
DESCRIPTION:Fit 6:19 is a gathering of all ages and abilities in a fun\, and appropriately challenging workout opportunity\, followed by fellowship and discussion.  All are welcome to join!  We will meet in the parking lot\, or the Family Life Center in case of inclement weather.
URL:https://mhumc.org/event/fit-619-workout-2/
LOCATION:MHUMC\, 3682 West Fork Rd.\, Cincinnati\, OH\, 45247\, United States
END:VEVENT
BEGIN:VEVENT
DTSTART;TZID=UTC:20241123T090000
DTEND;TZID=UTC:20241123T100000
DTSTAMP:20260425T155930
CREATED:20241022T155246Z
LAST-MODIFIED:20241022T155246Z
UID:1841-1732352400-1732356000@mhumc.org
SUMMARY:Blessing Bags - Thanksgiving Special
DESCRIPTION:The pandemic and increase in cost of living has magnified some of the tremendous needs of people who are living on the margin. To help out\, our church distributes bags of non-perishable groceries every other Saturday to people in our community who are in need. These “Blessing Bags” are supported by food donations through the church. For more information\, or if you would like to help support this ministry\, please contact the church office.\noffice.mhumc@gmail.com. 513-481-8699 \n  \nJoin us on November 23rd for special Thanksgiving side dishes and a Kroger Gift Card\, while supplies last.
URL:https://mhumc.org/event/blessing-bags-thanksgiving-special/
LOCATION:MHUMC\, 3682 West Fork Rd.\, Cincinnati\, OH\, 45247\, United States
ATTACH;FMTTYPE=image/png:https://mhumc.org/wp-content/uploads/2024/05/Blessing-Bags-Logo.png
END:VEVENT
BEGIN:VEVENT
DTSTART;TZID=UTC:20241120T200000
DTEND;TZID=UTC:20241120T210000
DTSTAMP:20260425T155930
CREATED:20241016T164909Z
LAST-MODIFIED:20241016T164909Z
UID:1751-1732132800-1732136400@mhumc.org
SUMMARY:AA Meetings - Common Solutions With Concurrent Beginners Meeting
DESCRIPTION:Wednesday 8:00 PM – 9:00 PM EDT\n\nBig Book\n\nClosed\n\nDiscussion\nIn-person\nNewcomer\nWheelchair Access\n\n\nOpen lead last Wk \nGroup Conscience 1st week of each month at 7:15 PM \nFor more information contact 513-368-1373 \n 
URL:https://mhumc.org/event/aa-meetings-common-solutions-with-concurrent-beginners-meeting-19/
LOCATION:MHUMC\, 3682 West Fork Rd.\, Cincinnati\, OH\, 45247\, United States
END:VEVENT
BEGIN:VEVENT
DTSTART;TZID=UTC:20241119T190000
DTEND;TZID=UTC:20241119T210000
DTSTAMP:20260425T155930
CREATED:20241022T153944Z
LAST-MODIFIED:20241022T153944Z
UID:1825-1732042800-1732050000@mhumc.org
SUMMARY:Pickleball
DESCRIPTION:Beginner & experienced players are welcome to join!
URL:https://mhumc.org/event/pickleball-8/
LOCATION:Family Life Center\, 3682 West Fork Rd.\, Cincinnati\, OH\, 45247\, United States
ATTACH;FMTTYPE=image/jpeg:https://mhumc.org/wp-content/uploads/2024/05/pickleball.jpg
END:VEVENT
BEGIN:VEVENT
DTSTART;TZID=UTC:20241118T193000
DTEND;TZID=UTC:20241118T203000
DTSTAMP:20260425T155930
CREATED:20241016T165356Z
LAST-MODIFIED:20241016T165356Z
UID:1767-1731958200-1731961800@mhumc.org
SUMMARY:AA Meetings - Monfort Heights Big Book
DESCRIPTION:Discussion\nIn-person\n\nOpen\n\n\n\nC. I. P. Continue Improving Practice – Steps 10\, 11 & 12 \nFor Zoom info call 513-317-6390 \nFor more information\, call 513-752-2210
URL:https://mhumc.org/event/aa-meetings-monfort-heights-big-book-19/
LOCATION:MHUMC\, 3682 West Fork Rd.\, Cincinnati\, OH\, 45247\, United States
END:VEVENT
BEGIN:VEVENT
DTSTART;TZID=UTC:20241117T183000
DTEND;TZID=UTC:20241117T200000
DTSTAMP:20260425T155930
CREATED:20241016T165735Z
LAST-MODIFIED:20241016T165735Z
UID:1781-1731868200-1731873600@mhumc.org
SUMMARY:Elevate Youth Group
DESCRIPTION:ELEVATE is a place where you can be known and belong.\nAt ELEVATE we are about creating an environment where youth in grades 6-12 can authentically be themselves and share their stories. Our prayer is that they would see how God’s Story intersects with their own. We invite students to engage in a meaningful faith practice and into an intimate relationship with Jesus Christ. We want to help elevate each student’s spiritual life and ultimately guide them into a life of discipleship.”\nContact Jeff Snyder at Jeff.mhumc@gmail.com or\n513-545-5235
URL:https://mhumc.org/event/elevate-youth-group-15/
LOCATION:MHUMC\, 3682 West Fork Rd.\, Cincinnati\, OH\, 45247\, United States
ATTACH;FMTTYPE=image/png:https://mhumc.org/wp-content/uploads/2024/05/Elevate-logo-2.png
END:VEVENT
BEGIN:VEVENT
DTSTART;TZID=UTC:20241117T110000
DTEND;TZID=UTC:20241117T110000
DTSTAMP:20260425T155930
CREATED:20241016T171758Z
LAST-MODIFIED:20241016T171758Z
UID:1803-1731841200-1731841200@mhumc.org
SUMMARY:Connect Worship
DESCRIPTION:Welcome\n\n\nWe are a broad cross-section of the Monfort Heights community with a diverse range of family types; all ages\, races\, and interests are represented here. Some of our folks have lived nearby and worshipped here for over fifty years. Some of us are so new we are still learning where the light switches are. Some of us wear suits on Sunday\, and some wear shorts and sandals. We are different in many ways\, but we share a common love in our hearts for God\, his son\, and his people! \n\n\n\n\n\n\n\n\n\n\n\n\nOur Connect Worship is a praise worship service of modern music and expressions of faith that takes place on Sunday mornings\, at 11:00am\, in our Family Life Center. \nYou can also join us on Facebook Live or catch a replay on YouTube.
URL:https://mhumc.org/event/connect-worship-23/
LOCATION:Family Life Center\, 3682 West Fork Rd.\, Cincinnati\, OH\, 45247\, United States
END:VEVENT
BEGIN:VEVENT
DTSTART;TZID=UTC:20241117T093000
DTEND;TZID=UTC:20241117T093000
DTSTAMP:20260425T155930
CREATED:20241016T171417Z
LAST-MODIFIED:20241016T171417Z
UID:1793-1731835800-1731835800@mhumc.org
SUMMARY:Classic Worship
DESCRIPTION:Welcome\n\n\nWe are a broad cross-section of the Monfort Heights community with a diverse range of family types; all ages\, races\, and interests are represented here. Some of our folks have lived nearby and worshipped here for over fifty years. Some of us are so new we are still learning where the light switches are. Some of us wear suits on Sunday\, and some wear shorts and sandals. We are different in many ways\, but we share a common love in our hearts for God\, his son\, and his people! \n\n\n\n\n\n\n\n\n\n\n\n\nOur Classic Worship is a traditional worship service\, and takes place on Sunday mornings\, at 9:30 am\, in our Sanctuary. \nYou can also join us on Facebook Live or catch a replay on YouTube.
URL:https://mhumc.org/event/classic-worship-23/
LOCATION:Sanctuary\, 3685 West Fork Rd\, Cincinnati\, 45247\, United States
END:VEVENT
BEGIN:VEVENT
DTSTART;TZID=UTC:20241113T200000
DTEND;TZID=UTC:20241113T210000
DTSTAMP:20260425T155930
CREATED:20241016T164848Z
LAST-MODIFIED:20241016T164848Z
UID:1749-1731528000-1731531600@mhumc.org
SUMMARY:AA Meetings - Common Solutions With Concurrent Beginners Meeting
DESCRIPTION:Wednesday 8:00 PM – 9:00 PM EDT\n\nBig Book\n\nClosed\n\nDiscussion\nIn-person\nNewcomer\nWheelchair Access\n\n\nOpen lead last Wk \nGroup Conscience 1st week of each month at 7:15 PM \nFor more information contact 513-368-1373 \n 
URL:https://mhumc.org/event/aa-meetings-common-solutions-with-concurrent-beginners-meeting-18/
LOCATION:MHUMC\, 3682 West Fork Rd.\, Cincinnati\, OH\, 45247\, United States
END:VEVENT
BEGIN:VEVENT
DTSTART;TZID=UTC:20241112T190000
DTEND;TZID=UTC:20241112T210000
DTSTAMP:20260425T155930
CREATED:20241022T153816Z
LAST-MODIFIED:20241022T153816Z
UID:1821-1731438000-1731445200@mhumc.org
SUMMARY:Pickleball
DESCRIPTION:Beginner & experienced players are welcome to join!
URL:https://mhumc.org/event/pickleball-6/
LOCATION:Family Life Center\, 3682 West Fork Rd.\, Cincinnati\, OH\, 45247\, United States
ATTACH;FMTTYPE=image/jpeg:https://mhumc.org/wp-content/uploads/2024/05/pickleball.jpg
END:VEVENT
BEGIN:VEVENT
DTSTART;TZID=UTC:20241111T193000
DTEND;TZID=UTC:20241111T203000
DTSTAMP:20260425T155930
CREATED:20241016T165335Z
LAST-MODIFIED:20241016T165335Z
UID:1765-1731353400-1731357000@mhumc.org
SUMMARY:AA Meetings - Monfort Heights Big Book
DESCRIPTION:Discussion\nIn-person\n\nOpen\n\n\n\nC. I. P. Continue Improving Practice – Steps 10\, 11 & 12 \nFor Zoom info call 513-317-6390 \nFor more information\, call 513-752-2210
URL:https://mhumc.org/event/aa-meetings-monfort-heights-big-book-18/
LOCATION:MHUMC\, 3682 West Fork Rd.\, Cincinnati\, OH\, 45247\, United States
END:VEVENT
BEGIN:VEVENT
DTSTART;TZID=UTC:20241111T183000
DTEND;TZID=UTC:20241111T200000
DTSTAMP:20260425T155930
CREATED:20241022T155738Z
LAST-MODIFIED:20241022T155738Z
UID:1849-1731349800-1731355200@mhumc.org
SUMMARY:Tap Into Faith
DESCRIPTION:We are bringing the Church outside of its walls and into the places where people are already gathering and living in community. It’s all about building relationship with each other through some great live music and a faith-based discussion shared around a table with delicious food and drink.
URL:https://mhumc.org/event/tap-into-faith-63/
LOCATION:WEST SIDE BREWING\, 3044 HARRISON AVENUE\, CINCINNATI\, OHIO\, 45211
ATTACH;FMTTYPE=image/jpeg:https://mhumc.org/wp-content/uploads/2019/09/Tap-into-Faith-1.jpg
END:VEVENT
BEGIN:VEVENT
DTSTART;TZID=UTC:20241110T183000
DTEND;TZID=UTC:20241110T200000
DTSTAMP:20260425T155930
CREATED:20241016T165718Z
LAST-MODIFIED:20241016T165718Z
UID:1779-1731263400-1731268800@mhumc.org
SUMMARY:Elevate Youth Group
DESCRIPTION:ELEVATE is a place where you can be known and belong.\nAt ELEVATE we are about creating an environment where youth in grades 6-12 can authentically be themselves and share their stories. Our prayer is that they would see how God’s Story intersects with their own. We invite students to engage in a meaningful faith practice and into an intimate relationship with Jesus Christ. We want to help elevate each student’s spiritual life and ultimately guide them into a life of discipleship.”\nContact Jeff Snyder at Jeff.mhumc@gmail.com or\n513-545-5235
URL:https://mhumc.org/event/elevate-youth-group-14/
LOCATION:MHUMC\, 3682 West Fork Rd.\, Cincinnati\, OH\, 45247\, United States
ATTACH;FMTTYPE=image/png:https://mhumc.org/wp-content/uploads/2024/05/Elevate-logo-2.png
END:VEVENT
BEGIN:VEVENT
DTSTART;TZID=UTC:20241110T130000
DTEND;TZID=UTC:20241110T130000
DTSTAMP:20260425T155930
CREATED:20240712T170010Z
LAST-MODIFIED:20240712T171123Z
UID:1626-1731243600-1731243600@mhumc.org
SUMMARY:Dedication of Asbury Chapel and Arts Center
DESCRIPTION:
URL:https://mhumc.org/event/dedication-of-asbury-chapel-and-arts-center/
LOCATION:Asbury Chapel and Arts Center\, 3682 West Fork Rd\, Cincinnati\, OH\, 45247\, United States
ATTACH;FMTTYPE=image/jpeg:https://mhumc.org/wp-content/uploads/2024/07/ACAC-Logo-1-e1720469374764.jpg
END:VEVENT
BEGIN:VEVENT
DTSTART;TZID=UTC:20241110T110000
DTEND;TZID=UTC:20241110T110000
DTSTAMP:20260425T155930
CREATED:20241016T171729Z
LAST-MODIFIED:20241016T171729Z
UID:1801-1731236400-1731236400@mhumc.org
SUMMARY:Connect Worship
DESCRIPTION:Welcome\n\n\nWe are a broad cross-section of the Monfort Heights community with a diverse range of family types; all ages\, races\, and interests are represented here. Some of our folks have lived nearby and worshipped here for over fifty years. Some of us are so new we are still learning where the light switches are. Some of us wear suits on Sunday\, and some wear shorts and sandals. We are different in many ways\, but we share a common love in our hearts for God\, his son\, and his people! \n\n\n\n\n\n\n\n\n\n\n\n\nOur Connect Worship is a praise worship service of modern music and expressions of faith that takes place on Sunday mornings\, at 11:00am\, in our Family Life Center. \nYou can also join us on Facebook Live or catch a replay on YouTube.
URL:https://mhumc.org/event/connect-worship-22/
LOCATION:Family Life Center\, 3682 West Fork Rd.\, Cincinnati\, OH\, 45247\, United States
END:VEVENT
BEGIN:VEVENT
DTSTART;TZID=UTC:20241110T093000
DTEND;TZID=UTC:20241110T093000
DTSTAMP:20260425T155930
CREATED:20241016T171354Z
LAST-MODIFIED:20241016T171354Z
UID:1791-1731231000-1731231000@mhumc.org
SUMMARY:Classic Worship
DESCRIPTION:Welcome\n\n\nWe are a broad cross-section of the Monfort Heights community with a diverse range of family types; all ages\, races\, and interests are represented here. Some of our folks have lived nearby and worshipped here for over fifty years. Some of us are so new we are still learning where the light switches are. Some of us wear suits on Sunday\, and some wear shorts and sandals. We are different in many ways\, but we share a common love in our hearts for God\, his son\, and his people! \n\n\n\n\n\n\n\n\n\n\n\n\nOur Classic Worship is a traditional worship service\, and takes place on Sunday mornings\, at 9:30 am\, in our Sanctuary. \nYou can also join us on Facebook Live or catch a replay on YouTube.
URL:https://mhumc.org/event/classic-worship-22/
LOCATION:Sanctuary\, 3685 West Fork Rd\, Cincinnati\, 45247\, United States
END:VEVENT
BEGIN:VEVENT
DTSTART;TZID=UTC:20241109T083000
DTEND;TZID=UTC:20241109T100000
DTSTAMP:20260425T155930
CREATED:20241022T155144Z
LAST-MODIFIED:20241022T155144Z
UID:1839-1731141000-1731146400@mhumc.org
SUMMARY:Breakfast and Blessing Bags
DESCRIPTION:The pandemic and increase in cost of living has magnified some of the tremendous needs of people who are living on the margin. To help out\, our church distributes bags of non-perishable groceries every other Saturday to people in our community who are in need. These “Blessing Bags” are supported by food donations through the church. For more information\, or if you would like to help support this ministry\, please contact the church office.\noffice.mhumc@gmail.com. 513-481-8699 \n  \nJoin us on November 9th for breakfast at 8:30 am followed by Blessing Bags!
URL:https://mhumc.org/event/breakfast-and-blessing-bags/
LOCATION:MHUMC\, 3682 West Fork Rd.\, Cincinnati\, OH\, 45247\, United States
ATTACH;FMTTYPE=image/png:https://mhumc.org/wp-content/uploads/2024/05/Blessing-Bags-Logo.png
END:VEVENT
BEGIN:VEVENT
DTSTART;TZID=UTC:20241106T200000
DTEND;TZID=UTC:20241106T210000
DTSTAMP:20260425T155930
CREATED:20241016T164805Z
LAST-MODIFIED:20241016T164805Z
UID:1747-1730923200-1730926800@mhumc.org
SUMMARY:AA Meetings - Common Solutions With Concurrent Beginners Meeting
DESCRIPTION:Wednesday 8:00 PM – 9:00 PM EDT\n\nBig Book\n\nClosed\n\nDiscussion\nIn-person\nNewcomer\nWheelchair Access\n\n\nOpen lead last Wk \nGroup Conscience 1st week of each month at 7:15 PM \nFor more information contact 513-368-1373 \n 
URL:https://mhumc.org/event/aa-meetings-common-solutions-with-concurrent-beginners-meeting-17/
LOCATION:MHUMC\, 3682 West Fork Rd.\, Cincinnati\, OH\, 45247\, United States
END:VEVENT
BEGIN:VEVENT
DTSTART;TZID=UTC:20241105T190000
DTEND;TZID=UTC:20241105T210000
DTSTAMP:20260425T155930
CREATED:20241022T153800Z
LAST-MODIFIED:20241022T153800Z
UID:1819-1730833200-1730840400@mhumc.org
SUMMARY:Pickleball
DESCRIPTION:Beginner & experienced players are welcome to join!
URL:https://mhumc.org/event/pickleball-5/
LOCATION:Family Life Center\, 3682 West Fork Rd.\, Cincinnati\, OH\, 45247\, United States
ATTACH;FMTTYPE=image/jpeg:https://mhumc.org/wp-content/uploads/2024/05/pickleball.jpg
END:VEVENT
BEGIN:VEVENT
DTSTART;TZID=UTC:20241104T193000
DTEND;TZID=UTC:20241104T203000
DTSTAMP:20260425T155930
CREATED:20241016T165313Z
LAST-MODIFIED:20241016T165313Z
UID:1763-1730748600-1730752200@mhumc.org
SUMMARY:AA Meetings - Monfort Heights Big Book
DESCRIPTION:Discussion\nIn-person\n\nOpen\n\n\n\nC. I. P. Continue Improving Practice – Steps 10\, 11 & 12 \nFor Zoom info call 513-317-6390 \nFor more information\, call 513-752-2210
URL:https://mhumc.org/event/aa-meetings-monfort-heights-big-book-17/
LOCATION:MHUMC\, 3682 West Fork Rd.\, Cincinnati\, OH\, 45247\, United States
END:VEVENT
BEGIN:VEVENT
DTSTART;TZID=UTC:20241103T183000
DTEND;TZID=UTC:20241103T200000
DTSTAMP:20260425T155930
CREATED:20241016T165646Z
LAST-MODIFIED:20241016T165646Z
UID:1777-1730658600-1730664000@mhumc.org
SUMMARY:Elevate Youth Group
DESCRIPTION:ELEVATE is a place where you can be known and belong.\nAt ELEVATE we are about creating an environment where youth in grades 6-12 can authentically be themselves and share their stories. Our prayer is that they would see how God’s Story intersects with their own. We invite students to engage in a meaningful faith practice and into an intimate relationship with Jesus Christ. We want to help elevate each student’s spiritual life and ultimately guide them into a life of discipleship.”\nContact Jeff Snyder at Jeff.mhumc@gmail.com or\n513-545-5235
URL:https://mhumc.org/event/elevate-youth-group-13/
LOCATION:MHUMC\, 3682 West Fork Rd.\, Cincinnati\, OH\, 45247\, United States
ATTACH;FMTTYPE=image/png:https://mhumc.org/wp-content/uploads/2024/05/Elevate-logo-2.png
END:VEVENT
BEGIN:VEVENT
DTSTART;TZID=UTC:20241103T104500
DTEND;TZID=UTC:20241103T104500
DTSTAMP:20260425T155930
CREATED:20241022T160157Z
LAST-MODIFIED:20241022T160157Z
UID:1854-1730630700-1730630700@mhumc.org
SUMMARY:Church Conference
DESCRIPTION:Following worship on November 3rd\, everyone is invited to attend our Fall Church Conference. Church members will vote on Lead Team members\, Clergy salaries\, review membership\, trustees and parsonage reports\, and our Safe Gatherings policy.
URL:https://mhumc.org/event/church-conference/
LOCATION:MHUMC\, 3682 West Fork Rd.\, Cincinnati\, OH\, 45247\, United States
END:VEVENT
BEGIN:VEVENT
DTSTART;TZID=UTC:20241103T093000
DTEND;TZID=UTC:20241103T093000
DTSTAMP:20260425T155930
CREATED:20241016T171323Z
LAST-MODIFIED:20241016T171323Z
UID:1789-1730626200-1730626200@mhumc.org
SUMMARY:Combined Worship - All Saints Sunday
DESCRIPTION:Welcome\n\n\nWe are a broad cross-section of the Monfort Heights community with a diverse range of family types; all ages\, races\, and interests are represented here. Some of our folks have lived nearby and worshipped here for over fifty years. Some of us are so new we are still learning where the light switches are. Some of us wear suits on Sunday\, and some wear shorts and sandals. We are different in many ways\, but we share a common love in our hearts for God\, his son\, and his people! \n\n\n\n\n\n\n\n\n\n\n\n\nOur Classic Worship is a traditional worship service\, and takes place on Sunday mornings\, at 9:30 am\, in our Sanctuary. \nYou can also join us on Facebook Live or catch a replay on YouTube.
URL:https://mhumc.org/event/combined-worship-all-saints-sunday/
LOCATION:Sanctuary\, 3685 West Fork Rd\, Cincinnati\, 45247\, United States
END:VEVENT
BEGIN:VEVENT
DTSTART;TZID=UTC:20241030T200000
DTEND;TZID=UTC:20241030T210000
DTSTAMP:20260425T155930
CREATED:20241016T164742Z
LAST-MODIFIED:20241016T164742Z
UID:1745-1730318400-1730322000@mhumc.org
SUMMARY:AA Meetings - Common Solutions With Concurrent Beginners Meeting
DESCRIPTION:Wednesday 8:00 PM – 9:00 PM EDT\n\nBig Book\n\nClosed\n\nDiscussion\nIn-person\nNewcomer\nWheelchair Access\n\n\nOpen lead last Wk \nGroup Conscience 1st week of each month at 7:15 PM \nFor more information contact 513-368-1373 \n 
URL:https://mhumc.org/event/aa-meetings-common-solutions-with-concurrent-beginners-meeting-16/
LOCATION:MHUMC\, 3682 West Fork Rd.\, Cincinnati\, OH\, 45247\, United States
END:VEVENT
END:VCALENDAR