BEGIN:VCALENDAR
VERSION:2.0
PRODID:-//mhumc.org - ECPv6.15.20//NONSGML v1.0//EN
CALSCALE:GREGORIAN
METHOD:PUBLISH
X-ORIGINAL-URL:https://mhumc.org
X-WR-CALDESC:Events for mhumc.org
REFRESH-INTERVAL;VALUE=DURATION:PT1H
X-Robots-Tag:noindex
X-PUBLISHED-TTL:PT1H
BEGIN:VTIMEZONE
TZID:UTC
BEGIN:STANDARD
TZOFFSETFROM:+0000
TZOFFSETTO:+0000
TZNAME:UTC
DTSTART:20200101T000000
END:STANDARD
END:VTIMEZONE
BEGIN:VEVENT
DTSTART;TZID=UTC:20220912T183000
DTEND;TZID=UTC:20220912T200000
DTSTAMP:20260426T015439
CREATED:20220816T162814Z
LAST-MODIFIED:20220816T162814Z
UID:1167-1663007400-1663012800@mhumc.org
SUMMARY:TAP INTO FAITH
DESCRIPTION:6:30 pm\nWE ARE BACK IN PERSON AT WEST SIDE BREWING! Come join us for a time of connection\, community\,\nmusic & message. Awesome drinks and food too! \nHappening at: West Side Brewing\n3044 Harrison Ave.\nCincinnati\, Ohio 45211 \nWe are bringing the Church outside of its walls and into the places where people are already gathering and living in community. It’s all about building relationship with each other through some great live music and a faith based discussion shared around a table with delicious food and drink. Hope to see you there!
URL:https://mhumc.org/event/tap-into-faith-46/
LOCATION:WEST SIDE BREWING\, 3044 HARRISON AVENUE\, CINCINNATI\, OHIO\, 45211
ATTACH;FMTTYPE=image/jpeg:https://mhumc.org/wp-content/uploads/2019/09/Tap-into-Faith-1.jpg
END:VEVENT
BEGIN:VEVENT
DTSTART;TZID=UTC:20220823T183000
DTEND;TZID=UTC:20220823T200000
DTSTAMP:20260426T015439
CREATED:20220816T162259Z
LAST-MODIFIED:20220816T162259Z
UID:1158-1661279400-1661284800@mhumc.org
SUMMARY:Asbury at Night
DESCRIPTION:ASBURY AT NIGHT – TUESDAY EVENINGS \n6:30-7pm\, Gathering\, Fellowship\, Dinner \n7-7:15pm\, Transition\, Prayer\, Scripture \n7:15-8pm\, Table or Group Discussion \nWeekly Dinner Church gathering in or outside of Asbury Chapel focused on Fresh Expressions awareness/training/development using the book Becoming Church by Luke Edwards.
URL:https://mhumc.org/event/asbury-at-night-2/
LOCATION:OHIO
ATTACH;FMTTYPE=image/jpeg:https://mhumc.org/wp-content/uploads/2022/08/Front-of-current-Asbury-rotated.jpg
END:VEVENT
BEGIN:VEVENT
DTSTART;TZID=UTC:20220822T183000
DTEND;TZID=UTC:20220822T200000
DTSTAMP:20260426T015439
CREATED:20220816T162701Z
LAST-MODIFIED:20220816T162717Z
UID:1165-1661193000-1661198400@mhumc.org
SUMMARY:TAP INTO FAITH
DESCRIPTION:6:30 pm\nWE ARE BACK IN PERSON AT WEST SIDE BREWING! Come join us for a time of connection\, community\,\nmusic & message. Awesome drinks and food too! \nHappening at: West Side Brewing\n3044 Harrison Ave.\nCincinnati\, Ohio 45211 \nWe are bringing the Church outside of its walls and into the places where people are already gathering and living in community. It’s all about building relationship with each other through some great live music and a faith based discussion shared around a table with delicious food and drink. Hope to see you there!
URL:https://mhumc.org/event/tap-into-faith-45/
LOCATION:WEST SIDE BREWING\, 3044 HARRISON AVENUE\, CINCINNATI\, OHIO\, 45211
ATTACH;FMTTYPE=image/jpeg:https://mhumc.org/wp-content/uploads/2019/09/Tap-into-Faith-1.jpg
END:VEVENT
BEGIN:VEVENT
DTSTART;TZID=UTC:20220816T183000
DTEND;TZID=UTC:20220816T200000
DTSTAMP:20260426T015439
CREATED:20220816T162108Z
LAST-MODIFIED:20220816T162108Z
UID:1156-1660674600-1660680000@mhumc.org
SUMMARY:Asbury at Night
DESCRIPTION:ASBURY AT NIGHT – TUESDAY EVENINGS \n6:30-7pm\, Gathering\, Fellowship\, Dinner \n7-7:15pm\, Transition\, Prayer\, Scripture \n7:15-8pm\, Table or Group Discussion \nWeekly Dinner Church gathering in or outside of Asbury Chapel focused on Fresh Expressions awareness/training/development using the book Becoming Church by Luke Edwards.
URL:https://mhumc.org/event/asbury-at-night/
LOCATION:OHIO
ATTACH;FMTTYPE=image/jpeg:https://mhumc.org/wp-content/uploads/2022/08/Front-of-current-Asbury-rotated.jpg
END:VEVENT
BEGIN:VEVENT
DTSTART;TZID=UTC:20220725T183000
DTEND;TZID=UTC:20220725T200000
DTSTAMP:20260426T015439
CREATED:20220414T191048Z
LAST-MODIFIED:20220414T191048Z
UID:1105-1658773800-1658779200@mhumc.org
SUMMARY:TAP INTO FAITH
DESCRIPTION:6:30 pm\nWE ARE BACK IN PERSON AT WEST SIDE BREWING! Come join us for a time of connection\, community\,\nmusic & message. Awesome drinks and food too! \nHappening at: West Side Brewing\n3044 Harrison Ave.\nCincinnati\, Ohio 45211 \nWe are bringing the Church outside of its walls and into the places where people are already gathering and living in community. It’s all about building relationship with each other through some great live music and a faith based discussion shared around a table with delicious food and drink. Hope to see you there!
URL:https://mhumc.org/event/tap-into-faith-44/
LOCATION:WEST SIDE BREWING\, 3044 HARRISON AVENUE\, CINCINNATI\, OHIO\, 45211
ATTACH;FMTTYPE=image/jpeg:https://mhumc.org/wp-content/uploads/2019/09/Tap-into-Faith-1.jpg
END:VEVENT
BEGIN:VEVENT
DTSTART;TZID=UTC:20220711T183000
DTEND;TZID=UTC:20220711T200000
DTSTAMP:20260426T015439
CREATED:20220414T191010Z
LAST-MODIFIED:20220414T191010Z
UID:1103-1657564200-1657569600@mhumc.org
SUMMARY:TAP INTO FAITH
DESCRIPTION:6:30 pm\nWE ARE BACK IN PERSON AT WEST SIDE BREWING! Come join us for a time of connection\, community\,\nmusic & message. Awesome drinks and food too! \nHappening at: West Side Brewing\n3044 Harrison Ave.\nCincinnati\, Ohio 45211 \nWe are bringing the Church outside of its walls and into the places where people are already gathering and living in community. It’s all about building relationship with each other through some great live music and a faith based discussion shared around a table with delicious food and drink. Hope to see you there!
URL:https://mhumc.org/event/tap-into-faith-43/
LOCATION:WEST SIDE BREWING\, 3044 HARRISON AVENUE\, CINCINNATI\, OHIO\, 45211
ATTACH;FMTTYPE=image/jpeg:https://mhumc.org/wp-content/uploads/2019/09/Tap-into-Faith-1.jpg
END:VEVENT
BEGIN:VEVENT
DTSTART;TZID=UTC:20220613T183000
DTEND;TZID=UTC:20220613T200000
DTSTAMP:20260426T015439
CREATED:20220414T190924Z
LAST-MODIFIED:20220414T190924Z
UID:1101-1655145000-1655150400@mhumc.org
SUMMARY:TAP INTO FAITH
DESCRIPTION:6:30 pm\nWE ARE BACK IN PERSON AT WEST SIDE BREWING! Come join us for a time of connection\, community\,\nmusic & message. Awesome drinks and food too! \nHappening at: West Side Brewing\n3044 Harrison Ave.\nCincinnati\, Ohio 45211 \nWe are bringing the Church outside of its walls and into the places where people are already gathering and living in community. It’s all about building relationship with each other through some great live music and a faith based discussion shared around a table with delicious food and drink. Hope to see you there!
URL:https://mhumc.org/event/tap-into-faith-42/
LOCATION:WEST SIDE BREWING\, 3044 HARRISON AVENUE\, CINCINNATI\, OHIO\, 45211
ATTACH;FMTTYPE=image/jpeg:https://mhumc.org/wp-content/uploads/2019/09/Tap-into-Faith-1.jpg
END:VEVENT
BEGIN:VEVENT
DTSTART;TZID=UTC:20220606T183000
DTEND;TZID=UTC:20220606T200000
DTSTAMP:20260426T015439
CREATED:20220414T190849Z
LAST-MODIFIED:20220414T190849Z
UID:1099-1654540200-1654545600@mhumc.org
SUMMARY:TAP INTO FAITH
DESCRIPTION:6:30 pm\nWE ARE BACK IN PERSON AT WEST SIDE BREWING! Come join us for a time of connection\, community\,\nmusic & message. Awesome drinks and food too! \nHappening at: West Side Brewing\n3044 Harrison Ave.\nCincinnati\, Ohio 45211 \nWe are bringing the Church outside of its walls and into the places where people are already gathering and living in community. It’s all about building relationship with each other through some great live music and a faith based discussion shared around a table with delicious food and drink. Hope to see you there!
URL:https://mhumc.org/event/tap-into-faith-41/
LOCATION:WEST SIDE BREWING\, 3044 HARRISON AVENUE\, CINCINNATI\, OHIO\, 45211
ATTACH;FMTTYPE=image/jpeg:https://mhumc.org/wp-content/uploads/2019/09/Tap-into-Faith-1.jpg
END:VEVENT
BEGIN:VEVENT
DTSTART;TZID=UTC:20220523T183000
DTEND;TZID=UTC:20220523T200000
DTSTAMP:20260426T015439
CREATED:20220414T190806Z
LAST-MODIFIED:20220414T190806Z
UID:1097-1653330600-1653336000@mhumc.org
SUMMARY:TAP INTO FAITH
DESCRIPTION:6:30 pm\nWE ARE BACK IN PERSON AT WEST SIDE BREWING! Come join us for a time of connection\, community\,\nmusic & message. Awesome drinks and food too! \nHappening at: West Side Brewing\n3044 Harrison Ave.\nCincinnati\, Ohio 45211 \nWe are bringing the Church outside of its walls and into the places where people are already gathering and living in community. It’s all about building relationship with each other through some great live music and a faith based discussion shared around a table with delicious food and drink. Hope to see you there!
URL:https://mhumc.org/event/tap-into-faith-40/
LOCATION:WEST SIDE BREWING\, 3044 HARRISON AVENUE\, CINCINNATI\, OHIO\, 45211
ATTACH;FMTTYPE=image/jpeg:https://mhumc.org/wp-content/uploads/2019/09/Tap-into-Faith-1.jpg
END:VEVENT
BEGIN:VEVENT
DTSTART;TZID=UTC:20220502T183000
DTEND;TZID=UTC:20220502T200000
DTSTAMP:20260426T015439
CREATED:20220414T190724Z
LAST-MODIFIED:20220414T190724Z
UID:1095-1651516200-1651521600@mhumc.org
SUMMARY:TAP INTO FAITH
DESCRIPTION:6:30 pm\nWE ARE BACK IN PERSON AT WEST SIDE BREWING! Come join us for a time of connection\, community\,\nmusic & message. Awesome drinks and food too! \nHappening at: West Side Brewing\n3044 Harrison Ave.\nCincinnati\, Ohio 45211 \nWe are bringing the Church outside of its walls and into the places where people are already gathering and living in community. It’s all about building relationship with each other through some great live music and a faith based discussion shared around a table with delicious food and drink. Hope to see you there!
URL:https://mhumc.org/event/tap-into-faith-39/
LOCATION:WEST SIDE BREWING\, 3044 HARRISON AVENUE\, CINCINNATI\, OHIO\, 45211
ATTACH;FMTTYPE=image/jpeg:https://mhumc.org/wp-content/uploads/2019/09/Tap-into-Faith-1.jpg
END:VEVENT
BEGIN:VEVENT
DTSTART;TZID=UTC:20220417T110000
DTEND;TZID=UTC:20220417T120000
DTSTAMP:20260426T015439
CREATED:20220414T200207Z
LAST-MODIFIED:20220414T200207Z
UID:1121-1650193200-1650196800@mhumc.org
SUMMARY:EASTER SUNDAY
DESCRIPTION:Connect / Modern Worship in the Family Life Center\n \n11:00 am
URL:https://mhumc.org/event/easter-sunday-3/
LOCATION:OHIO
ATTACH;FMTTYPE=image/jpeg:https://mhumc.org/wp-content/uploads/2022/04/resurrection-concept-empty-tomb-three-crosses-hill-sunrise-212847916.jpg
END:VEVENT
BEGIN:VEVENT
DTSTART;TZID=UTC:20220417T093000
DTEND;TZID=UTC:20220417T103000
DTSTAMP:20260426T015439
CREATED:20220414T200036Z
LAST-MODIFIED:20220414T200056Z
UID:1117-1650187800-1650191400@mhumc.org
SUMMARY:EASTER SUNDAY
DESCRIPTION:Traditional Service in the Sanctuary\n \n9:30am
URL:https://mhumc.org/event/easter-sunday-2/
LOCATION:OHIO
ATTACH;FMTTYPE=image/jpeg:https://mhumc.org/wp-content/uploads/2022/04/resurrection-concept-empty-tomb-three-crosses-hill-sunrise-212847916.jpg
END:VEVENT
BEGIN:VEVENT
DTSTART;TZID=UTC:20220417T063000
DTEND;TZID=UTC:20220417T073000
DTSTAMP:20260426T015439
CREATED:20220414T195818Z
LAST-MODIFIED:20220414T195818Z
UID:1115-1650177000-1650180600@mhumc.org
SUMMARY:EASTER SUNDAY
DESCRIPTION:Sunrise Service in front of Asbury Chapel \n6:30am
URL:https://mhumc.org/event/easter-sunday/
LOCATION:OHIO
ATTACH;FMTTYPE=image/jpeg:https://mhumc.org/wp-content/uploads/2020/01/Easter-Banner.jpg
END:VEVENT
BEGIN:VEVENT
DTSTART;TZID=UTC:20220415T190000
DTEND;TZID=UTC:20220415T200000
DTSTAMP:20260426T015439
CREATED:20220414T195517Z
LAST-MODIFIED:20220414T200505Z
UID:1113-1650049200-1650052800@mhumc.org
SUMMARY:GOOD FRIDAY
DESCRIPTION:Stations of the Cross in the Family Life Center\n10am – 11:30am\n4pm – 6:30pm \n  \nGOOD FRIDAY WORSHIP\n12 pm and 7pm in the Sanctuary
URL:https://mhumc.org/event/good-friday-2/
LOCATION:OHIO
ATTACH;FMTTYPE=image/jpeg:https://mhumc.org/wp-content/uploads/2020/03/holy-week-new.jpg
END:VEVENT
BEGIN:VEVENT
DTSTART;TZID=UTC:20220415T120000
DTEND;TZID=UTC:20220415T130000
DTSTAMP:20260426T015439
CREATED:20220414T195303Z
LAST-MODIFIED:20220414T200630Z
UID:1111-1650024000-1650027600@mhumc.org
SUMMARY:GOOD FRIDAY
DESCRIPTION:Stations of the Cross in the Family Life Center\n10am – 11:30am  &  4pm – 6:30pm \nGOOD FRIDAY WORSHIP\n12pm and 7pm in the Sanctuary
URL:https://mhumc.org/event/good-friday/
LOCATION:OHIO
ATTACH;FMTTYPE=image/jpeg:https://mhumc.org/wp-content/uploads/2020/03/holy-week-new.jpg
END:VEVENT
BEGIN:VEVENT
DTSTART;TZID=UTC:20220228T183000
DTEND;TZID=UTC:20220228T200000
DTSTAMP:20260426T015439
CREATED:20211215T230955Z
LAST-MODIFIED:20211215T230955Z
UID:1060-1646073000-1646078400@mhumc.org
SUMMARY:TAP INTO FAITH
DESCRIPTION:6:30 pm\nWE ARE BACK IN PERSON AT WEST SIDE BREWING! Come join us for a time of connection\, community\,\nmusic & message. Awesome drinks and food too! \nHappening at: West Side Brewing\n3044 Harrison Ave.\nCincinnati\, Ohio 45211 \nWe are bringing the Church outside of its walls and into the places where people are already gathering and living in community. It’s all about building relationship with each other through some great live music and a faith based discussion shared around a table with delicious food and drink. Hope to see you there!
URL:https://mhumc.org/event/tap-into-faith-38/
LOCATION:WEST SIDE BREWING\, 3044 HARRISON AVENUE\, CINCINNATI\, OHIO\, 45211
ATTACH;FMTTYPE=image/jpeg:https://mhumc.org/wp-content/uploads/2019/09/Tap-into-Faith-1.jpg
END:VEVENT
BEGIN:VEVENT
DTSTART;TZID=UTC:20220214T183000
DTEND;TZID=UTC:20220214T200000
DTSTAMP:20260426T015439
CREATED:20211215T230919Z
LAST-MODIFIED:20211215T230919Z
UID:1058-1644863400-1644868800@mhumc.org
SUMMARY:TAP INTO FAITH
DESCRIPTION:6:30 pm\nWE ARE BACK IN PERSON AT WEST SIDE BREWING! Come join us for a time of connection\, community\,\nmusic & message. Awesome drinks and food too! \nHappening at: West Side Brewing\n3044 Harrison Ave.\nCincinnati\, Ohio 45211 \nWe are bringing the Church outside of its walls and into the places where people are already gathering and living in community. It’s all about building relationship with each other through some great live music and a faith based discussion shared around a table with delicious food and drink. Hope to see you there!
URL:https://mhumc.org/event/tap-into-faith-37/
LOCATION:WEST SIDE BREWING\, 3044 HARRISON AVENUE\, CINCINNATI\, OHIO\, 45211
ATTACH;FMTTYPE=image/jpeg:https://mhumc.org/wp-content/uploads/2019/09/Tap-into-Faith-1.jpg
END:VEVENT
BEGIN:VEVENT
DTSTART;TZID=UTC:20220124T183000
DTEND;TZID=UTC:20220124T200000
DTSTAMP:20260426T015439
CREATED:20211215T230720Z
LAST-MODIFIED:20211215T230720Z
UID:1056-1643049000-1643054400@mhumc.org
SUMMARY:TAP INTO FAITH
DESCRIPTION:6:30 pm\nWE ARE BACK IN PERSON AT WEST SIDE BREWING! Come join us for a time of connection\, community\,\nmusic & message. Awesome drinks and food too! \nHappening at: West Side Brewing\n3044 Harrison Ave.\nCincinnati\, Ohio 45211 \nWe are bringing the Church outside of its walls and into the places where people are already gathering and living in community. It’s all about building relationship with each other through some great live music and a faith based discussion shared around a table with delicious food and drink. Hope to see you there!
URL:https://mhumc.org/event/tap-into-faith-36/
LOCATION:WEST SIDE BREWING\, 3044 HARRISON AVENUE\, CINCINNATI\, OHIO\, 45211
ATTACH;FMTTYPE=image/jpeg:https://mhumc.org/wp-content/uploads/2019/09/Tap-into-Faith-1.jpg
END:VEVENT
BEGIN:VEVENT
DTSTART;TZID=UTC:20220103T183000
DTEND;TZID=UTC:20220103T200000
DTSTAMP:20260426T015439
CREATED:20211215T230629Z
LAST-MODIFIED:20211215T230629Z
UID:1054-1641234600-1641240000@mhumc.org
SUMMARY:TAP INTO FAITH
DESCRIPTION:6:30 pm\nWE ARE BACK IN PERSON AT WEST SIDE BREWING! Come join us for a time of connection\, community\,\nmusic & message. Awesome drinks and food too! \nHappening at: West Side Brewing\n3044 Harrison Ave.\nCincinnati\, Ohio 45211 \nWe are bringing the Church outside of its walls and into the places where people are already gathering and living in community. It’s all about building relationship with each other through some great live music and a faith based discussion shared around a table with delicious food and drink. Hope to see you there!
URL:https://mhumc.org/event/tap-into-faith-35/
LOCATION:WEST SIDE BREWING\, 3044 HARRISON AVENUE\, CINCINNATI\, OHIO\, 45211
ATTACH;FMTTYPE=image/jpeg:https://mhumc.org/wp-content/uploads/2019/09/Tap-into-Faith-1.jpg
END:VEVENT
BEGIN:VEVENT
DTSTART;TZID=UTC:20211224T230000
DTEND;TZID=UTC:20211224T230000
DTSTAMP:20260426T015439
CREATED:20211216T000525Z
LAST-MODIFIED:20211216T000715Z
UID:1081-1640386800-1640386800@mhumc.org
SUMMARY:Christmas Eve - Traditional Service in the Sanctuary
DESCRIPTION:Friday\, December 24th @ 11:00 pm – A traditional service of carols\, communion and candlelight in the Sanctuary: we will sing the standards\, hear our faith story\, and end the night with “Silent Night” right around midnight.  There is so much comfort to be found in traditions.
URL:https://mhumc.org/event/christmas-eve-family-life-center-2/
LOCATION:OHIO
ATTACH;FMTTYPE=image/jpeg:https://mhumc.org/wp-content/uploads/2021/12/iStock-886942528-1.jpg
END:VEVENT
BEGIN:VEVENT
DTSTART;TZID=UTC:20211224T190000
DTEND;TZID=UTC:20211224T200000
DTSTAMP:20260426T015439
CREATED:20211216T000204Z
LAST-MODIFIED:20211216T000204Z
UID:1079-1640372400-1640376000@mhumc.org
SUMMARY:Christmas Eve - Family Life Center
DESCRIPTION:Friday\, December 24th @ 7:00 pm – An indoor worship service in our Family Life Center featuring carols and our faith story – more interactive for our youngest disciples.
URL:https://mhumc.org/event/christmas-eve-family-life-center/
LOCATION:OHIO
ATTACH;FMTTYPE=image/jpeg:https://mhumc.org/wp-content/uploads/2021/12/iStock-886942528-1.jpg
END:VEVENT
BEGIN:VEVENT
DTSTART;TZID=UTC:20211224T170000
DTEND;TZID=UTC:20211224T180000
DTSTAMP:20260426T015439
CREATED:20211215T235834Z
LAST-MODIFIED:20211216T000236Z
UID:1076-1640365200-1640368800@mhumc.org
SUMMARY:Christmas Eve - Outside Caroling & Worship
DESCRIPTION:Friday\, December 24th @ 5:00 pm\nOutdoor worship service in the FRONT of the church with fire pits to keep us warm while we sing carols to welcome the Prince of Peace and hear our faith story. We will end with outdoor candlelight singing.
URL:https://mhumc.org/event/christmas-eve-outside-caroling-worship/
LOCATION:OHIO
ATTACH;FMTTYPE=image/jpeg:https://mhumc.org/wp-content/uploads/2021/12/iStock-886942528-1.jpg
END:VEVENT
BEGIN:VEVENT
DTSTART;TZID=UTC:20211222T180000
DTEND;TZID=UTC:20211222T190000
DTSTAMP:20260426T015439
CREATED:20211215T235514Z
LAST-MODIFIED:20211215T235514Z
UID:1073-1640196000-1640199600@mhumc.org
SUMMARY:FIRESIDE CHAT with PASTOR ANGIE
DESCRIPTION:FACEBOOK LIVE
URL:https://mhumc.org/event/fireside-chat-with-pastor-angie/
LOCATION:OHIO
ATTACH;FMTTYPE=image/jpeg:https://mhumc.org/wp-content/uploads/2021/12/iStock-1282305579.jpg
END:VEVENT
BEGIN:VEVENT
DTSTART;TZID=UTC:20211221T190000
DTEND;TZID=UTC:20211221T200000
DTSTAMP:20260426T015439
CREATED:20211215T223842Z
LAST-MODIFIED:20211215T223842Z
UID:1047-1640113200-1640116800@mhumc.org
SUMMARY:Blue Christmas Worship
DESCRIPTION:Sanctuary at 7:00 pm \nJoin us for the quiet service of healing and remembering.
URL:https://mhumc.org/event/blue-christmas-worship/
LOCATION:OHIO
END:VEVENT
BEGIN:VEVENT
DTSTART;TZID=UTC:20211220T183000
DTEND;TZID=UTC:20211220T203000
DTSTAMP:20260426T015439
CREATED:20211110T160705Z
LAST-MODIFIED:20211110T160928Z
UID:1018-1640025000-1640032200@mhumc.org
SUMMARY:Christmas Tap into Faith
DESCRIPTION:CHRISTMAS TAP INTO FAITH \nJoin us at Westside Brewing for some holiday fun and community connection! \nFun filled evening with annual Christmas Cookie Bake Off\, Christmas Carols\, Craft Beer and Tap into Faith led by Pastor Jason Taylor and Jeff Snyder. HOLIDAY FUN starts at 6:30 pm at West Side Brewing located at 3044 Harrison Ave. Cincinnati\, Ohio 45211.
URL:https://mhumc.org/event/christmas-tap-into-faith/
LOCATION:OHIO
ATTACH;FMTTYPE=image/jpeg:https://mhumc.org/wp-content/uploads/2021/11/Christmas-Tap.jpg
END:VEVENT
BEGIN:VEVENT
DTSTART;TZID=UTC:20211122T183000
DTEND;TZID=UTC:20211122T200000
DTSTAMP:20260426T015439
CREATED:20210924T130434Z
LAST-MODIFIED:20210924T130446Z
UID:1009-1637605800-1637611200@mhumc.org
SUMMARY:TAP INTO FAITH
DESCRIPTION:6:30 pm\nWE ARE BACK IN PERSON AT WEST SIDE BREWING! Come join us for a time of connection\, community\,\nmusic & message. Awesome drinks and food too! \nHappening at: West Side Brewing\n3044 Harrison Ave.\nCincinnati\, Ohio 45211 \nWe are bringing the Church outside of its walls and into the places where people are already gathering and living in community. It’s all about building relationship with each other through some great live music and a faith based discussion shared around a table with delicious food and drink. Hope to see you there!
URL:https://mhumc.org/event/tap-into-faith-34/
LOCATION:WEST SIDE BREWING\, 3044 HARRISON AVENUE\, CINCINNATI\, OHIO\, 45211
ATTACH;FMTTYPE=image/jpeg:https://mhumc.org/wp-content/uploads/2019/09/Tap-into-Faith-1.jpg
END:VEVENT
BEGIN:VEVENT
DTSTART;TZID=UTC:20211108T183000
DTEND;TZID=UTC:20211108T200000
DTSTAMP:20260426T015439
CREATED:20210924T130315Z
LAST-MODIFIED:20210924T130325Z
UID:1007-1636396200-1636401600@mhumc.org
SUMMARY:TAP INTO FAITH
DESCRIPTION:6:30 pm\nWE ARE BACK IN PERSON AT WEST SIDE BREWING! Come join us for a time of connection\, community\,\nmusic & message. Awesome drinks and food too! \nHappening at: West Side Brewing\n3044 Harrison Ave.\nCincinnati\, Ohio 45211 \nWe are bringing the Church outside of its walls and into the places where people are already gathering and living in community. It’s all about building relationship with each other through some great live music and a faith based discussion shared around a table with delicious food and drink. Hope to see you there!
URL:https://mhumc.org/event/tap-into-faith-33/
LOCATION:WEST SIDE BREWING\, 3044 HARRISON AVENUE\, CINCINNATI\, OHIO\, 45211
ATTACH;FMTTYPE=image/jpeg:https://mhumc.org/wp-content/uploads/2019/09/Tap-into-Faith-1.jpg
END:VEVENT
BEGIN:VEVENT
DTSTART;TZID=UTC:20211025T183000
DTEND;TZID=UTC:20211025T200000
DTSTAMP:20260426T015439
CREATED:20210924T130010Z
LAST-MODIFIED:20210924T130131Z
UID:1005-1635186600-1635192000@mhumc.org
SUMMARY:TAP INTO FAITH
DESCRIPTION:6:30 pm\nWE ARE BACK IN PERSON AT WEST SIDE BREWING! Come join us for a time of connection\, community\,\nmusic & message. Awesome drinks and food too! \nHappening at: West Side Brewing\n3044 Harrison Ave.\nCincinnati\, Ohio 45211 \nWe are bringing the Church outside of its walls and into the places where people are already gathering and living in community. It’s all about building relationship with each other through some great live music and a faith based discussion shared around a table with delicious food and drink. Hope to see you there!
URL:https://mhumc.org/event/tap-into-faith-32/
LOCATION:WEST SIDE BREWING\, 3044 HARRISON AVENUE\, CINCINNATI\, OHIO\, 45211
ATTACH;FMTTYPE=image/jpeg:https://mhumc.org/wp-content/uploads/2019/09/Tap-into-Faith-1.jpg
END:VEVENT
BEGIN:VEVENT
DTSTART;TZID=UTC:20211024T160000
DTEND;TZID=UTC:20211024T180000
DTSTAMP:20260426T015439
CREATED:20210723T155215Z
LAST-MODIFIED:20210922T173708Z
UID:983-1635091200-1635098400@mhumc.org
SUMMARY:Family Fall Fest 2021
DESCRIPTION:Fall Fall Fest 2021\nSunday\, October 24th\n•  Trunk or Treat in the CHURCH Parking lot\n• Wear your favorite costume\n• All children must be accompanied by and adult.\n• Games\, Prizes Food and Fun!\n• Park at MHE\, Crossing guard will be at the cross walk to help with crossing West Fork Road
URL:https://mhumc.org/event/family-fall-fest-2021/
LOCATION:OHIO
ATTACH;FMTTYPE=image/png:https://mhumc.org/wp-content/uploads/2021/07/Fall-Fest-Flyer-Header.png
END:VEVENT
BEGIN:VEVENT
DTSTART;TZID=UTC:20211004T183000
DTEND;TZID=UTC:20211004T200000
DTSTAMP:20260426T015439
CREATED:20210924T125916Z
LAST-MODIFIED:20210924T125916Z
UID:1003-1633372200-1633377600@mhumc.org
SUMMARY:TAP INTO FAITH
DESCRIPTION:6:30 pm\nWE ARE BACK IN PERSON AT WEST SIDE BREWING! Come join us for a time of connection\, community\,\nmusic & message. Awesome drinks and food too! \nHappening at: West Side Brewing\n3044 Harrison Ave.\nCincinnati\, Ohio 45211 \nWe are bringing the Church outside of its walls and into the places where people are already gathering and living in community. It’s all about building relationship with each other through some great live music and a faith based discussion shared around a table with delicious food and drink. Hope to see you there!
URL:https://mhumc.org/event/tap-into-faith-31/
LOCATION:WEST SIDE BREWING\, 3044 HARRISON AVENUE\, CINCINNATI\, OHIO\, 45211
ATTACH;FMTTYPE=image/jpeg:https://mhumc.org/wp-content/uploads/2019/09/Tap-into-Faith-1.jpg
END:VEVENT
END:VCALENDAR