BEGIN:VCALENDAR
VERSION:2.0
PRODID:-//mhumc.org - ECPv6.15.20//NONSGML v1.0//EN
CALSCALE:GREGORIAN
METHOD:PUBLISH
X-WR-CALNAME:mhumc.org
X-ORIGINAL-URL:https://mhumc.org
X-WR-CALDESC:Events for mhumc.org
REFRESH-INTERVAL;VALUE=DURATION:PT1H
X-Robots-Tag:noindex
X-PUBLISHED-TTL:PT1H
BEGIN:VTIMEZONE
TZID:UTC
BEGIN:STANDARD
TZOFFSETFROM:+0000
TZOFFSETTO:+0000
TZNAME:UTC
DTSTART:20230101T000000
END:STANDARD
END:VTIMEZONE
BEGIN:VEVENT
DTSTART;TZID=UTC:20241110T110000
DTEND;TZID=UTC:20241110T110000
DTSTAMP:20260425T160031
CREATED:20241016T171729Z
LAST-MODIFIED:20241016T171729Z
UID:1801-1731236400-1731236400@mhumc.org
SUMMARY:Connect Worship
DESCRIPTION:Welcome\n\n\nWe are a broad cross-section of the Monfort Heights community with a diverse range of family types; all ages\, races\, and interests are represented here. Some of our folks have lived nearby and worshipped here for over fifty years. Some of us are so new we are still learning where the light switches are. Some of us wear suits on Sunday\, and some wear shorts and sandals. We are different in many ways\, but we share a common love in our hearts for God\, his son\, and his people! \n\n\n\n\n\n\n\n\n\n\n\n\nOur Connect Worship is a praise worship service of modern music and expressions of faith that takes place on Sunday mornings\, at 11:00am\, in our Family Life Center. \nYou can also join us on Facebook Live or catch a replay on YouTube.
URL:https://mhumc.org/event/connect-worship-22/
LOCATION:Family Life Center\, 3682 West Fork Rd.\, Cincinnati\, OH\, 45247\, United States
END:VEVENT
BEGIN:VEVENT
DTSTART;TZID=UTC:20241110T093000
DTEND;TZID=UTC:20241110T093000
DTSTAMP:20260425T160031
CREATED:20241016T171354Z
LAST-MODIFIED:20241016T171354Z
UID:1791-1731231000-1731231000@mhumc.org
SUMMARY:Classic Worship
DESCRIPTION:Welcome\n\n\nWe are a broad cross-section of the Monfort Heights community with a diverse range of family types; all ages\, races\, and interests are represented here. Some of our folks have lived nearby and worshipped here for over fifty years. Some of us are so new we are still learning where the light switches are. Some of us wear suits on Sunday\, and some wear shorts and sandals. We are different in many ways\, but we share a common love in our hearts for God\, his son\, and his people! \n\n\n\n\n\n\n\n\n\n\n\n\nOur Classic Worship is a traditional worship service\, and takes place on Sunday mornings\, at 9:30 am\, in our Sanctuary. \nYou can also join us on Facebook Live or catch a replay on YouTube.
URL:https://mhumc.org/event/classic-worship-22/
LOCATION:Sanctuary\, 3685 West Fork Rd\, Cincinnati\, 45247\, United States
END:VEVENT
BEGIN:VEVENT
DTSTART;TZID=UTC:20241109T083000
DTEND;TZID=UTC:20241109T100000
DTSTAMP:20260425T160031
CREATED:20241022T155144Z
LAST-MODIFIED:20241022T155144Z
UID:1839-1731141000-1731146400@mhumc.org
SUMMARY:Breakfast and Blessing Bags
DESCRIPTION:The pandemic and increase in cost of living has magnified some of the tremendous needs of people who are living on the margin. To help out\, our church distributes bags of non-perishable groceries every other Saturday to people in our community who are in need. These “Blessing Bags” are supported by food donations through the church. For more information\, or if you would like to help support this ministry\, please contact the church office.\noffice.mhumc@gmail.com. 513-481-8699 \n  \nJoin us on November 9th for breakfast at 8:30 am followed by Blessing Bags!
URL:https://mhumc.org/event/breakfast-and-blessing-bags/
LOCATION:MHUMC\, 3682 West Fork Rd.\, Cincinnati\, OH\, 45247\, United States
ATTACH;FMTTYPE=image/png:https://mhumc.org/wp-content/uploads/2024/05/Blessing-Bags-Logo.png
END:VEVENT
BEGIN:VEVENT
DTSTART;TZID=UTC:20241106T200000
DTEND;TZID=UTC:20241106T210000
DTSTAMP:20260425T160031
CREATED:20241016T164805Z
LAST-MODIFIED:20241016T164805Z
UID:1747-1730923200-1730926800@mhumc.org
SUMMARY:AA Meetings - Common Solutions With Concurrent Beginners Meeting
DESCRIPTION:Wednesday 8:00 PM – 9:00 PM EDT\n\nBig Book\n\nClosed\n\nDiscussion\nIn-person\nNewcomer\nWheelchair Access\n\n\nOpen lead last Wk \nGroup Conscience 1st week of each month at 7:15 PM \nFor more information contact 513-368-1373 \n 
URL:https://mhumc.org/event/aa-meetings-common-solutions-with-concurrent-beginners-meeting-17/
LOCATION:MHUMC\, 3682 West Fork Rd.\, Cincinnati\, OH\, 45247\, United States
END:VEVENT
BEGIN:VEVENT
DTSTART;TZID=UTC:20241105T190000
DTEND;TZID=UTC:20241105T210000
DTSTAMP:20260425T160031
CREATED:20241022T153800Z
LAST-MODIFIED:20241022T153800Z
UID:1819-1730833200-1730840400@mhumc.org
SUMMARY:Pickleball
DESCRIPTION:Beginner & experienced players are welcome to join!
URL:https://mhumc.org/event/pickleball-5/
LOCATION:Family Life Center\, 3682 West Fork Rd.\, Cincinnati\, OH\, 45247\, United States
ATTACH;FMTTYPE=image/jpeg:https://mhumc.org/wp-content/uploads/2024/05/pickleball.jpg
END:VEVENT
BEGIN:VEVENT
DTSTART;TZID=UTC:20241104T193000
DTEND;TZID=UTC:20241104T203000
DTSTAMP:20260425T160031
CREATED:20241016T165313Z
LAST-MODIFIED:20241016T165313Z
UID:1763-1730748600-1730752200@mhumc.org
SUMMARY:AA Meetings - Monfort Heights Big Book
DESCRIPTION:Discussion\nIn-person\n\nOpen\n\n\n\nC. I. P. Continue Improving Practice – Steps 10\, 11 & 12 \nFor Zoom info call 513-317-6390 \nFor more information\, call 513-752-2210
URL:https://mhumc.org/event/aa-meetings-monfort-heights-big-book-17/
LOCATION:MHUMC\, 3682 West Fork Rd.\, Cincinnati\, OH\, 45247\, United States
END:VEVENT
BEGIN:VEVENT
DTSTART;TZID=UTC:20241103T183000
DTEND;TZID=UTC:20241103T200000
DTSTAMP:20260425T160031
CREATED:20241016T165646Z
LAST-MODIFIED:20241016T165646Z
UID:1777-1730658600-1730664000@mhumc.org
SUMMARY:Elevate Youth Group
DESCRIPTION:ELEVATE is a place where you can be known and belong.\nAt ELEVATE we are about creating an environment where youth in grades 6-12 can authentically be themselves and share their stories. Our prayer is that they would see how God’s Story intersects with their own. We invite students to engage in a meaningful faith practice and into an intimate relationship with Jesus Christ. We want to help elevate each student’s spiritual life and ultimately guide them into a life of discipleship.”\nContact Jeff Snyder at Jeff.mhumc@gmail.com or\n513-545-5235
URL:https://mhumc.org/event/elevate-youth-group-13/
LOCATION:MHUMC\, 3682 West Fork Rd.\, Cincinnati\, OH\, 45247\, United States
ATTACH;FMTTYPE=image/png:https://mhumc.org/wp-content/uploads/2024/05/Elevate-logo-2.png
END:VEVENT
BEGIN:VEVENT
DTSTART;TZID=UTC:20241103T104500
DTEND;TZID=UTC:20241103T104500
DTSTAMP:20260425T160031
CREATED:20241022T160157Z
LAST-MODIFIED:20241022T160157Z
UID:1854-1730630700-1730630700@mhumc.org
SUMMARY:Church Conference
DESCRIPTION:Following worship on November 3rd\, everyone is invited to attend our Fall Church Conference. Church members will vote on Lead Team members\, Clergy salaries\, review membership\, trustees and parsonage reports\, and our Safe Gatherings policy.
URL:https://mhumc.org/event/church-conference/
LOCATION:MHUMC\, 3682 West Fork Rd.\, Cincinnati\, OH\, 45247\, United States
END:VEVENT
BEGIN:VEVENT
DTSTART;TZID=UTC:20241103T093000
DTEND;TZID=UTC:20241103T093000
DTSTAMP:20260425T160031
CREATED:20241016T171323Z
LAST-MODIFIED:20241016T171323Z
UID:1789-1730626200-1730626200@mhumc.org
SUMMARY:Combined Worship - All Saints Sunday
DESCRIPTION:Welcome\n\n\nWe are a broad cross-section of the Monfort Heights community with a diverse range of family types; all ages\, races\, and interests are represented here. Some of our folks have lived nearby and worshipped here for over fifty years. Some of us are so new we are still learning where the light switches are. Some of us wear suits on Sunday\, and some wear shorts and sandals. We are different in many ways\, but we share a common love in our hearts for God\, his son\, and his people! \n\n\n\n\n\n\n\n\n\n\n\n\nOur Classic Worship is a traditional worship service\, and takes place on Sunday mornings\, at 9:30 am\, in our Sanctuary. \nYou can also join us on Facebook Live or catch a replay on YouTube.
URL:https://mhumc.org/event/combined-worship-all-saints-sunday/
LOCATION:Sanctuary\, 3685 West Fork Rd\, Cincinnati\, 45247\, United States
END:VEVENT
BEGIN:VEVENT
DTSTART;TZID=UTC:20241030T200000
DTEND;TZID=UTC:20241030T210000
DTSTAMP:20260425T160031
CREATED:20241016T164742Z
LAST-MODIFIED:20241016T164742Z
UID:1745-1730318400-1730322000@mhumc.org
SUMMARY:AA Meetings - Common Solutions With Concurrent Beginners Meeting
DESCRIPTION:Wednesday 8:00 PM – 9:00 PM EDT\n\nBig Book\n\nClosed\n\nDiscussion\nIn-person\nNewcomer\nWheelchair Access\n\n\nOpen lead last Wk \nGroup Conscience 1st week of each month at 7:15 PM \nFor more information contact 513-368-1373 \n 
URL:https://mhumc.org/event/aa-meetings-common-solutions-with-concurrent-beginners-meeting-16/
LOCATION:MHUMC\, 3682 West Fork Rd.\, Cincinnati\, OH\, 45247\, United States
END:VEVENT
BEGIN:VEVENT
DTSTART;TZID=UTC:20241029T190000
DTEND;TZID=UTC:20241029T210000
DTSTAMP:20260425T160031
CREATED:20241022T153739Z
LAST-MODIFIED:20241022T153739Z
UID:1817-1730228400-1730235600@mhumc.org
SUMMARY:Pickleball
DESCRIPTION:Beginner & experienced players are welcome to join!
URL:https://mhumc.org/event/pickleball-4/
LOCATION:Family Life Center\, 3682 West Fork Rd.\, Cincinnati\, OH\, 45247\, United States
ATTACH;FMTTYPE=image/jpeg:https://mhumc.org/wp-content/uploads/2024/05/pickleball.jpg
END:VEVENT
BEGIN:VEVENT
DTSTART;TZID=UTC:20241028T193000
DTEND;TZID=UTC:20241028T203000
DTSTAMP:20260425T160031
CREATED:20241016T165244Z
LAST-MODIFIED:20241016T165244Z
UID:1761-1730143800-1730147400@mhumc.org
SUMMARY:AA Meetings - Monfort Heights Big Book
DESCRIPTION:Discussion\nIn-person\n\nOpen\n\n\n\nC. I. P. Continue Improving Practice – Steps 10\, 11 & 12 \nFor Zoom info call 513-317-6390 \nFor more information\, call 513-752-2210
URL:https://mhumc.org/event/aa-meetings-monfort-heights-big-book-16/
LOCATION:MHUMC\, 3682 West Fork Rd.\, Cincinnati\, OH\, 45247\, United States
END:VEVENT
BEGIN:VEVENT
DTSTART;TZID=UTC:20241028T183000
DTEND;TZID=UTC:20241028T200000
DTSTAMP:20260425T160031
CREATED:20241022T155703Z
LAST-MODIFIED:20241022T155703Z
UID:1847-1730140200-1730145600@mhumc.org
SUMMARY:Tap Into Faith
DESCRIPTION:We are bringing the Church outside of its walls and into the places where people are already gathering and living in community. It’s all about building relationship with each other through some great live music and a faith-based discussion shared around a table with delicious food and drink.
URL:https://mhumc.org/event/tap-into-faith-62/
LOCATION:WEST SIDE BREWING\, 3044 HARRISON AVENUE\, CINCINNATI\, OHIO\, 45211
ATTACH;FMTTYPE=image/jpeg:https://mhumc.org/wp-content/uploads/2019/09/Tap-into-Faith-1.jpg
END:VEVENT
BEGIN:VEVENT
DTSTART;TZID=UTC:20241027T183000
DTEND;TZID=UTC:20241027T200000
DTSTAMP:20260425T160031
CREATED:20241016T165601Z
LAST-MODIFIED:20241022T155502Z
UID:1775-1730053800-1730059200@mhumc.org
SUMMARY:Elevate Youth Group - Fall Party
DESCRIPTION:ELEVATE is a place where you can be known and belong.\nAt ELEVATE we are about creating an environment where youth in grades 6-12 can authentically be themselves and share their stories. Our prayer is that they would see how God’s Story intersects with their own. We invite students to engage in a meaningful faith practice and into an intimate relationship with Jesus Christ. We want to help elevate each student’s spiritual life and ultimately guide them into a life of discipleship.”\nContact Jeff Snyder at Jeff.mhumc@gmail.com or\n513-545-5235
URL:https://mhumc.org/event/elevate-youth-group-12/
LOCATION:MHUMC\, 3682 West Fork Rd.\, Cincinnati\, OH\, 45247\, United States
ATTACH;FMTTYPE=image/png:https://mhumc.org/wp-content/uploads/2024/05/Elevate-logo-2.png
END:VEVENT
BEGIN:VEVENT
DTSTART;TZID=UTC:20241027T110000
DTEND;TZID=UTC:20241027T110000
DTSTAMP:20260425T160031
CREATED:20241016T171653Z
LAST-MODIFIED:20241016T171653Z
UID:1799-1730026800-1730026800@mhumc.org
SUMMARY:Connect Worship
DESCRIPTION:Welcome\n\n\nWe are a broad cross-section of the Monfort Heights community with a diverse range of family types; all ages\, races\, and interests are represented here. Some of our folks have lived nearby and worshipped here for over fifty years. Some of us are so new we are still learning where the light switches are. Some of us wear suits on Sunday\, and some wear shorts and sandals. We are different in many ways\, but we share a common love in our hearts for God\, his son\, and his people! \n\n\n\n\n\n\n\n\n\n\n\n\nOur Connect Worship is a praise worship service of modern music and expressions of faith that takes place on Sunday mornings\, at 11:00am\, in our Family Life Center. \nYou can also join us on Facebook Live or catch a replay on YouTube.
URL:https://mhumc.org/event/connect-worship-21/
LOCATION:Family Life Center\, 3682 West Fork Rd.\, Cincinnati\, OH\, 45247\, United States
END:VEVENT
BEGIN:VEVENT
DTSTART;TZID=UTC:20241027T093000
DTEND;TZID=UTC:20241027T093000
DTSTAMP:20260425T160031
CREATED:20241016T171233Z
LAST-MODIFIED:20241016T171233Z
UID:1787-1730021400-1730021400@mhumc.org
SUMMARY:Classic Worship
DESCRIPTION:Welcome\n\n\nWe are a broad cross-section of the Monfort Heights community with a diverse range of family types; all ages\, races\, and interests are represented here. Some of our folks have lived nearby and worshipped here for over fifty years. Some of us are so new we are still learning where the light switches are. Some of us wear suits on Sunday\, and some wear shorts and sandals. We are different in many ways\, but we share a common love in our hearts for God\, his son\, and his people! \n\n\n\n\n\n\n\n\n\n\n\n\nOur Classic Worship is a traditional worship service\, and takes place on Sunday mornings\, at 9:30 am\, in our Sanctuary. \nYou can also join us on Facebook Live or catch a replay on YouTube.
URL:https://mhumc.org/event/classic-worship-21/
LOCATION:Sanctuary\, 3685 West Fork Rd\, Cincinnati\, 45247\, United States
END:VEVENT
BEGIN:VEVENT
DTSTART;TZID=UTC:20241026T090000
DTEND;TZID=UTC:20241026T100000
DTSTAMP:20260425T160031
CREATED:20241022T155028Z
LAST-MODIFIED:20241022T155911Z
UID:1837-1729933200-1729936800@mhumc.org
SUMMARY:Blessing Bags and Pumpkin Giveaway
DESCRIPTION:The pandemic and increase in cost of living has magnified some of the tremendous needs of people who are living on the margin. To help out\, our church distributes bags of non-perishable groceries every other Saturday to people in our community who are in need. These “Blessing Bags” are supported by food donations through the church. For more information\, or if you would like to help support this ministry\, please contact the church office.\noffice.mhumc@gmail.com. 513-481-8699 \n  \nJoin us on October 26th for our Pumpkin giveaway\, while supplies last.
URL:https://mhumc.org/event/blessing-bags-and-pumkin-giveaway/
LOCATION:MHUMC\, 3682 West Fork Rd.\, Cincinnati\, OH\, 45247\, United States
ATTACH;FMTTYPE=image/png:https://mhumc.org/wp-content/uploads/2024/05/Blessing-Bags-Logo.png
END:VEVENT
BEGIN:VEVENT
DTSTART;TZID=UTC:20241108T180000
DTEND;TZID=UTC:20241108T180000
DTSTAMP:20260425T160031
CREATED:20241022T160334Z
LAST-MODIFIED:20241022T160334Z
UID:1856-1731088800-1731088800@mhumc.org
SUMMARY:Fit 6:19 - Workout
DESCRIPTION:Fit 6:19 is a gathering of all ages and abilities in a fun\, and appropriately challenging workout opportunity\, followed by fellowship and discussion.  All are welcome to join!  We will meet in the parking lot\, or the Family Life Center in case of inclement weather.
URL:https://mhumc.org/event/fit-619-workout/
LOCATION:MHUMC\, 3682 West Fork Rd.\, Cincinnati\, OH\, 45247\, United States
END:VEVENT
BEGIN:VEVENT
DTSTART;TZID=UTC:20241025T180000
DTEND;TZID=UTC:20241025T180000
DTSTAMP:20260425T160031
CREATED:20241022T154900Z
LAST-MODIFIED:20241022T154900Z
UID:1832-1729879200-1729879200@mhumc.org
SUMMARY:Fit 6:19 - Costume Workout
DESCRIPTION:Fit 6:19 is a gathering of all ages and abilities in a fun\, and appropriately challenging workout opportunity\, followed by fellowship and discussion.  All are welcome to join!  We will meet in the parking lot\, or the Family Life Center in case of inclement weather. \n  \nA fun and challenging workout for the whole family is the plan for Friday\, 10/25. Outside in the parking lot weather permitting\, inside in the FLC if necessary. Put on your favorite costume. Bring a pumpkin\, or borrow one of ours. Post-workout fellowship\, off-site\, to follow. Hope you can make it for a good pre-candy workout!
URL:https://mhumc.org/event/fit-619-costume-workout/
LOCATION:MHUMC\, 3682 West Fork Rd.\, Cincinnati\, OH\, 45247\, United States
ATTACH;FMTTYPE=image/png:https://mhumc.org/wp-content/uploads/2024/10/241025-Fit-619.png
END:VEVENT
BEGIN:VEVENT
DTSTART;TZID=UTC:20241023T200000
DTEND;TZID=UTC:20241023T210000
DTSTAMP:20260425T160031
CREATED:20241016T164703Z
LAST-MODIFIED:20241016T164703Z
UID:1743-1729713600-1729717200@mhumc.org
SUMMARY:AA Meetings - Common Solutions With Concurrent Beginners Meeting
DESCRIPTION:Wednesday 8:00 PM – 9:00 PM EDT\n\nBig Book\n\nClosed\n\nDiscussion\nIn-person\nNewcomer\nWheelchair Access\n\n\nOpen lead last Wk \nGroup Conscience 1st week of each month at 7:15 PM \nFor more information contact 513-368-1373 \n 
URL:https://mhumc.org/event/aa-meetings-common-solutions-with-concurrent-beginners-meeting-15/
LOCATION:MHUMC\, 3682 West Fork Rd.\, Cincinnati\, OH\, 45247\, United States
END:VEVENT
BEGIN:VEVENT
DTSTART;TZID=UTC:20241022T190000
DTEND;TZID=UTC:20241022T210000
DTSTAMP:20260425T160031
CREATED:20241022T153715Z
LAST-MODIFIED:20241022T153715Z
UID:1815-1729623600-1729630800@mhumc.org
SUMMARY:Pickleball
DESCRIPTION:Beginner & experienced players are welcome to join!
URL:https://mhumc.org/event/pickleball-3/
LOCATION:Family Life Center\, 3682 West Fork Rd.\, Cincinnati\, OH\, 45247\, United States
ATTACH;FMTTYPE=image/jpeg:https://mhumc.org/wp-content/uploads/2024/05/pickleball.jpg
END:VEVENT
BEGIN:VEVENT
DTSTART;TZID=UTC:20241022T113000
DTEND;TZID=UTC:20241022T113000
DTSTAMP:20260425T160031
CREATED:20241022T154133Z
LAST-MODIFIED:20241022T154133Z
UID:1827-1729596600-1729596600@mhumc.org
SUMMARY:Senior Singles
DESCRIPTION:A Christ-centered experience of care and support for senior single people in the church and community.  Monthly events are planned either with a speaker or an outing.
URL:https://mhumc.org/event/senior-singles-2/
LOCATION:Market Street Grill – Harrison\, OH
ATTACH;FMTTYPE=image/png:https://mhumc.org/wp-content/uploads/2024/05/Senior-Singles.png
END:VEVENT
BEGIN:VEVENT
DTSTART;TZID=UTC:20241021T193000
DTEND;TZID=UTC:20241021T203000
DTSTAMP:20260425T160031
CREATED:20241016T165213Z
LAST-MODIFIED:20241016T165213Z
UID:1759-1729539000-1729542600@mhumc.org
SUMMARY:AA Meetings - Monfort Heights Big Book
DESCRIPTION:Discussion\nIn-person\n\nOpen\n\n\n\nC. I. P. Continue Improving Practice – Steps 10\, 11 & 12 \nFor Zoom info call 513-317-6390 \nFor more information\, call 513-752-2210
URL:https://mhumc.org/event/aa-meetings-monfort-heights-big-book-15/
LOCATION:MHUMC\, 3682 West Fork Rd.\, Cincinnati\, OH\, 45247\, United States
END:VEVENT
BEGIN:VEVENT
DTSTART;TZID=UTC:20241020T160000
DTEND;TZID=UTC:20241020T180000
DTSTAMP:20260425T160031
CREATED:20240712T174349Z
LAST-MODIFIED:20240712T174349Z
UID:1705-1729440000-1729447200@mhumc.org
SUMMARY:Fall Fest 2024
DESCRIPTION:Mark Your Calendars for our annual Fall Fest!
URL:https://mhumc.org/event/fall-fest-2024/
LOCATION:MHUMC\, 3682 West Fork Rd.\, Cincinnati\, OH\, 45247\, United States
END:VEVENT
BEGIN:VEVENT
DTSTART;TZID=UTC:20241020T110000
DTEND;TZID=UTC:20241020T110000
DTSTAMP:20260425T160031
CREATED:20241016T171609Z
LAST-MODIFIED:20241016T171609Z
UID:1797-1729422000-1729422000@mhumc.org
SUMMARY:Connect Worship - Laity Sunday
DESCRIPTION:Welcome\n\n\nWe are a broad cross-section of the Monfort Heights community with a diverse range of family types; all ages\, races\, and interests are represented here. Some of our folks have lived nearby and worshipped here for over fifty years. Some of us are so new we are still learning where the light switches are. Some of us wear suits on Sunday\, and some wear shorts and sandals. We are different in many ways\, but we share a common love in our hearts for God\, his son\, and his people! \n\n\n\n\n\n\n\n\n\n\n\n\nOur Connect Worship is a praise worship service of modern music and expressions of faith that takes place on Sunday mornings\, at 11:00am\, in our Family Life Center. \nYou can also join us on Facebook Live or catch a replay on YouTube.
URL:https://mhumc.org/event/connect-worship-laity-sunday/
LOCATION:Family Life Center\, 3682 West Fork Rd.\, Cincinnati\, OH\, 45247\, United States
END:VEVENT
BEGIN:VEVENT
DTSTART;TZID=UTC:20241020T093000
DTEND;TZID=UTC:20241020T093000
DTSTAMP:20260425T160031
CREATED:20241016T171149Z
LAST-MODIFIED:20241016T171149Z
UID:1785-1729416600-1729416600@mhumc.org
SUMMARY:Classic Worship - Laity Sunday
DESCRIPTION:Welcome\n\n\nWe are a broad cross-section of the Monfort Heights community with a diverse range of family types; all ages\, races\, and interests are represented here. Some of our folks have lived nearby and worshipped here for over fifty years. Some of us are so new we are still learning where the light switches are. Some of us wear suits on Sunday\, and some wear shorts and sandals. We are different in many ways\, but we share a common love in our hearts for God\, his son\, and his people! \n\n\n\n\n\n\n\n\n\n\n\n\nOur Classic Worship is a traditional worship service\, and takes place on Sunday mornings\, at 9:30 am\, in our Sanctuary. \nYou can also join us on Facebook Live or catch a replay on YouTube.
URL:https://mhumc.org/event/classic-worship-laity-sunday/
LOCATION:Sanctuary\, 3685 West Fork Rd\, Cincinnati\, 45247\, United States
END:VEVENT
BEGIN:VEVENT
DTSTART;TZID=UTC:20241016T200000
DTEND;TZID=UTC:20241016T210000
DTSTAMP:20260425T160031
CREATED:20241016T164647Z
LAST-MODIFIED:20241016T164647Z
UID:1741-1729108800-1729112400@mhumc.org
SUMMARY:AA Meetings - Common Solutions With Concurrent Beginners Meeting
DESCRIPTION:Wednesday 8:00 PM – 9:00 PM EDT\n\nBig Book\n\nClosed\n\nDiscussion\nIn-person\nNewcomer\nWheelchair Access\n\n\nOpen lead last Wk \nGroup Conscience 1st week of each month at 7:15 PM \nFor more information contact 513-368-1373 \n 
URL:https://mhumc.org/event/aa-meetings-common-solutions-with-concurrent-beginners-meeting-14/
LOCATION:MHUMC\, 3682 West Fork Rd.\, Cincinnati\, OH\, 45247\, United States
END:VEVENT
BEGIN:VEVENT
DTSTART;TZID=UTC:20241014T193000
DTEND;TZID=UTC:20241014T203000
DTSTAMP:20260425T160031
CREATED:20241016T165151Z
LAST-MODIFIED:20241016T165151Z
UID:1757-1728934200-1728937800@mhumc.org
SUMMARY:AA Meetings - Monfort Heights Big Book
DESCRIPTION:Discussion\nIn-person\n\nOpen\n\n\n\nC. I. P. Continue Improving Practice – Steps 10\, 11 & 12 \nFor Zoom info call 513-317-6390 \nFor more information\, call 513-752-2210
URL:https://mhumc.org/event/aa-meetings-monfort-heights-big-book-14/
LOCATION:MHUMC\, 3682 West Fork Rd.\, Cincinnati\, OH\, 45247\, United States
END:VEVENT
BEGIN:VEVENT
DTSTART;TZID=UTC:20241014T183000
DTEND;TZID=UTC:20241014T200000
DTSTAMP:20260425T160031
CREATED:20241022T155635Z
LAST-MODIFIED:20241022T155635Z
UID:1845-1728930600-1728936000@mhumc.org
SUMMARY:Tap Into Faith
DESCRIPTION:We are bringing the Church outside of its walls and into the places where people are already gathering and living in community. It’s all about building relationship with each other through some great live music and a faith-based discussion shared around a table with delicious food and drink.
URL:https://mhumc.org/event/tap-into-faith-61/
LOCATION:WEST SIDE BREWING\, 3044 HARRISON AVENUE\, CINCINNATI\, OHIO\, 45211
ATTACH;FMTTYPE=image/jpeg:https://mhumc.org/wp-content/uploads/2019/09/Tap-into-Faith-1.jpg
END:VEVENT
BEGIN:VEVENT
DTSTART;TZID=UTC:20241013T183000
DTEND;TZID=UTC:20241013T200000
DTSTAMP:20260425T160031
CREATED:20241016T165535Z
LAST-MODIFIED:20241016T165535Z
UID:1773-1728844200-1728849600@mhumc.org
SUMMARY:Elevate Youth Group
DESCRIPTION:ELEVATE is a place where you can be known and belong.\nAt ELEVATE we are about creating an environment where youth in grades 6-12 can authentically be themselves and share their stories. Our prayer is that they would see how God’s Story intersects with their own. We invite students to engage in a meaningful faith practice and into an intimate relationship with Jesus Christ. We want to help elevate each student’s spiritual life and ultimately guide them into a life of discipleship.”\nContact Jeff Snyder at Jeff.mhumc@gmail.com or\n513-545-5235
URL:https://mhumc.org/event/elevate-youth-group-11/
LOCATION:MHUMC\, 3682 West Fork Rd.\, Cincinnati\, OH\, 45247\, United States
ATTACH;FMTTYPE=image/png:https://mhumc.org/wp-content/uploads/2024/05/Elevate-logo-2.png
END:VEVENT
END:VCALENDAR