BEGIN:VCALENDAR
VERSION:2.0
PRODID:-//mhumc.org - ECPv6.15.20//NONSGML v1.0//EN
CALSCALE:GREGORIAN
METHOD:PUBLISH
X-WR-CALNAME:mhumc.org
X-ORIGINAL-URL:https://mhumc.org
X-WR-CALDESC:Events for mhumc.org
REFRESH-INTERVAL;VALUE=DURATION:PT1H
X-Robots-Tag:noindex
X-PUBLISHED-TTL:PT1H
BEGIN:VTIMEZONE
TZID:UTC
BEGIN:STANDARD
TZOFFSETFROM:+0000
TZOFFSETTO:+0000
TZNAME:UTC
DTSTART:20230101T000000
END:STANDARD
END:VTIMEZONE
BEGIN:VEVENT
DTSTART;TZID=UTC:20241023T200000
DTEND;TZID=UTC:20241023T210000
DTSTAMP:20260425T150422
CREATED:20241016T164703Z
LAST-MODIFIED:20241016T164703Z
UID:1743-1729713600-1729717200@mhumc.org
SUMMARY:AA Meetings - Common Solutions With Concurrent Beginners Meeting
DESCRIPTION:Wednesday 8:00 PM – 9:00 PM EDT\n\nBig Book\n\nClosed\n\nDiscussion\nIn-person\nNewcomer\nWheelchair Access\n\n\nOpen lead last Wk \nGroup Conscience 1st week of each month at 7:15 PM \nFor more information contact 513-368-1373 \n 
URL:https://mhumc.org/event/aa-meetings-common-solutions-with-concurrent-beginners-meeting-15/
LOCATION:MHUMC\, 3682 West Fork Rd.\, Cincinnati\, OH\, 45247\, United States
END:VEVENT
BEGIN:VEVENT
DTSTART;TZID=UTC:20241022T190000
DTEND;TZID=UTC:20241022T210000
DTSTAMP:20260425T150422
CREATED:20241022T153715Z
LAST-MODIFIED:20241022T153715Z
UID:1815-1729623600-1729630800@mhumc.org
SUMMARY:Pickleball
DESCRIPTION:Beginner & experienced players are welcome to join!
URL:https://mhumc.org/event/pickleball-3/
LOCATION:Family Life Center\, 3682 West Fork Rd.\, Cincinnati\, OH\, 45247\, United States
ATTACH;FMTTYPE=image/jpeg:https://mhumc.org/wp-content/uploads/2024/05/pickleball.jpg
END:VEVENT
BEGIN:VEVENT
DTSTART;TZID=UTC:20241022T113000
DTEND;TZID=UTC:20241022T113000
DTSTAMP:20260425T150422
CREATED:20241022T154133Z
LAST-MODIFIED:20241022T154133Z
UID:1827-1729596600-1729596600@mhumc.org
SUMMARY:Senior Singles
DESCRIPTION:A Christ-centered experience of care and support for senior single people in the church and community.  Monthly events are planned either with a speaker or an outing.
URL:https://mhumc.org/event/senior-singles-2/
LOCATION:Market Street Grill – Harrison\, OH
ATTACH;FMTTYPE=image/png:https://mhumc.org/wp-content/uploads/2024/05/Senior-Singles.png
END:VEVENT
BEGIN:VEVENT
DTSTART;TZID=UTC:20241021T193000
DTEND;TZID=UTC:20241021T203000
DTSTAMP:20260425T150422
CREATED:20241016T165213Z
LAST-MODIFIED:20241016T165213Z
UID:1759-1729539000-1729542600@mhumc.org
SUMMARY:AA Meetings - Monfort Heights Big Book
DESCRIPTION:Discussion\nIn-person\n\nOpen\n\n\n\nC. I. P. Continue Improving Practice – Steps 10\, 11 & 12 \nFor Zoom info call 513-317-6390 \nFor more information\, call 513-752-2210
URL:https://mhumc.org/event/aa-meetings-monfort-heights-big-book-15/
LOCATION:MHUMC\, 3682 West Fork Rd.\, Cincinnati\, OH\, 45247\, United States
END:VEVENT
BEGIN:VEVENT
DTSTART;TZID=UTC:20241020T160000
DTEND;TZID=UTC:20241020T180000
DTSTAMP:20260425T150422
CREATED:20240712T174349Z
LAST-MODIFIED:20240712T174349Z
UID:1705-1729440000-1729447200@mhumc.org
SUMMARY:Fall Fest 2024
DESCRIPTION:Mark Your Calendars for our annual Fall Fest!
URL:https://mhumc.org/event/fall-fest-2024/
LOCATION:MHUMC\, 3682 West Fork Rd.\, Cincinnati\, OH\, 45247\, United States
END:VEVENT
BEGIN:VEVENT
DTSTART;TZID=UTC:20241020T110000
DTEND;TZID=UTC:20241020T110000
DTSTAMP:20260425T150422
CREATED:20241016T171609Z
LAST-MODIFIED:20241016T171609Z
UID:1797-1729422000-1729422000@mhumc.org
SUMMARY:Connect Worship - Laity Sunday
DESCRIPTION:Welcome\n\n\nWe are a broad cross-section of the Monfort Heights community with a diverse range of family types; all ages\, races\, and interests are represented here. Some of our folks have lived nearby and worshipped here for over fifty years. Some of us are so new we are still learning where the light switches are. Some of us wear suits on Sunday\, and some wear shorts and sandals. We are different in many ways\, but we share a common love in our hearts for God\, his son\, and his people! \n\n\n\n\n\n\n\n\n\n\n\n\nOur Connect Worship is a praise worship service of modern music and expressions of faith that takes place on Sunday mornings\, at 11:00am\, in our Family Life Center. \nYou can also join us on Facebook Live or catch a replay on YouTube.
URL:https://mhumc.org/event/connect-worship-laity-sunday/
LOCATION:Family Life Center\, 3682 West Fork Rd.\, Cincinnati\, OH\, 45247\, United States
END:VEVENT
BEGIN:VEVENT
DTSTART;TZID=UTC:20241020T093000
DTEND;TZID=UTC:20241020T093000
DTSTAMP:20260425T150422
CREATED:20241016T171149Z
LAST-MODIFIED:20241016T171149Z
UID:1785-1729416600-1729416600@mhumc.org
SUMMARY:Classic Worship - Laity Sunday
DESCRIPTION:Welcome\n\n\nWe are a broad cross-section of the Monfort Heights community with a diverse range of family types; all ages\, races\, and interests are represented here. Some of our folks have lived nearby and worshipped here for over fifty years. Some of us are so new we are still learning where the light switches are. Some of us wear suits on Sunday\, and some wear shorts and sandals. We are different in many ways\, but we share a common love in our hearts for God\, his son\, and his people! \n\n\n\n\n\n\n\n\n\n\n\n\nOur Classic Worship is a traditional worship service\, and takes place on Sunday mornings\, at 9:30 am\, in our Sanctuary. \nYou can also join us on Facebook Live or catch a replay on YouTube.
URL:https://mhumc.org/event/classic-worship-laity-sunday/
LOCATION:Sanctuary\, 3685 West Fork Rd\, Cincinnati\, 45247\, United States
END:VEVENT
BEGIN:VEVENT
DTSTART;TZID=UTC:20241016T200000
DTEND;TZID=UTC:20241016T210000
DTSTAMP:20260425T150422
CREATED:20241016T164647Z
LAST-MODIFIED:20241016T164647Z
UID:1741-1729108800-1729112400@mhumc.org
SUMMARY:AA Meetings - Common Solutions With Concurrent Beginners Meeting
DESCRIPTION:Wednesday 8:00 PM – 9:00 PM EDT\n\nBig Book\n\nClosed\n\nDiscussion\nIn-person\nNewcomer\nWheelchair Access\n\n\nOpen lead last Wk \nGroup Conscience 1st week of each month at 7:15 PM \nFor more information contact 513-368-1373 \n 
URL:https://mhumc.org/event/aa-meetings-common-solutions-with-concurrent-beginners-meeting-14/
LOCATION:MHUMC\, 3682 West Fork Rd.\, Cincinnati\, OH\, 45247\, United States
END:VEVENT
BEGIN:VEVENT
DTSTART;TZID=UTC:20241014T193000
DTEND;TZID=UTC:20241014T203000
DTSTAMP:20260425T150422
CREATED:20241016T165151Z
LAST-MODIFIED:20241016T165151Z
UID:1757-1728934200-1728937800@mhumc.org
SUMMARY:AA Meetings - Monfort Heights Big Book
DESCRIPTION:Discussion\nIn-person\n\nOpen\n\n\n\nC. I. P. Continue Improving Practice – Steps 10\, 11 & 12 \nFor Zoom info call 513-317-6390 \nFor more information\, call 513-752-2210
URL:https://mhumc.org/event/aa-meetings-monfort-heights-big-book-14/
LOCATION:MHUMC\, 3682 West Fork Rd.\, Cincinnati\, OH\, 45247\, United States
END:VEVENT
BEGIN:VEVENT
DTSTART;TZID=UTC:20241014T183000
DTEND;TZID=UTC:20241014T200000
DTSTAMP:20260425T150422
CREATED:20241022T155635Z
LAST-MODIFIED:20241022T155635Z
UID:1845-1728930600-1728936000@mhumc.org
SUMMARY:Tap Into Faith
DESCRIPTION:We are bringing the Church outside of its walls and into the places where people are already gathering and living in community. It’s all about building relationship with each other through some great live music and a faith-based discussion shared around a table with delicious food and drink.
URL:https://mhumc.org/event/tap-into-faith-61/
LOCATION:WEST SIDE BREWING\, 3044 HARRISON AVENUE\, CINCINNATI\, OHIO\, 45211
ATTACH;FMTTYPE=image/jpeg:https://mhumc.org/wp-content/uploads/2019/09/Tap-into-Faith-1.jpg
END:VEVENT
BEGIN:VEVENT
DTSTART;TZID=UTC:20241013T183000
DTEND;TZID=UTC:20241013T200000
DTSTAMP:20260425T150422
CREATED:20241016T165535Z
LAST-MODIFIED:20241016T165535Z
UID:1773-1728844200-1728849600@mhumc.org
SUMMARY:Elevate Youth Group
DESCRIPTION:ELEVATE is a place where you can be known and belong.\nAt ELEVATE we are about creating an environment where youth in grades 6-12 can authentically be themselves and share their stories. Our prayer is that they would see how God’s Story intersects with their own. We invite students to engage in a meaningful faith practice and into an intimate relationship with Jesus Christ. We want to help elevate each student’s spiritual life and ultimately guide them into a life of discipleship.”\nContact Jeff Snyder at Jeff.mhumc@gmail.com or\n513-545-5235
URL:https://mhumc.org/event/elevate-youth-group-11/
LOCATION:MHUMC\, 3682 West Fork Rd.\, Cincinnati\, OH\, 45247\, United States
ATTACH;FMTTYPE=image/png:https://mhumc.org/wp-content/uploads/2024/05/Elevate-logo-2.png
END:VEVENT
BEGIN:VEVENT
DTSTART;TZID=UTC:20241012T090000
DTEND;TZID=UTC:20241012T100000
DTSTAMP:20260425T150422
CREATED:20241022T154958Z
LAST-MODIFIED:20241022T154958Z
UID:1835-1728723600-1728727200@mhumc.org
SUMMARY:Blessing Bags
DESCRIPTION:The pandemic and increase in cost of living has magnified some of the tremendous needs of people who are living on the margin. To help out\, our church distributes bags of non-perishable groceries every other Saturday to people in our community who are in need. These “Blessing Bags” are supported by food donations through the church. For more information\, or if you would like to help support this ministry\, please contact the church office.\noffice.mhumc@gmail.com. 513-481-8699
URL:https://mhumc.org/event/blessing-bags-11/
LOCATION:MHUMC\, 3682 West Fork Rd.\, Cincinnati\, OH\, 45247\, United States
ATTACH;FMTTYPE=image/png:https://mhumc.org/wp-content/uploads/2024/05/Blessing-Bags-Logo.png
END:VEVENT
BEGIN:VEVENT
DTSTART;TZID=UTC:20241009T200000
DTEND;TZID=UTC:20241009T210000
DTSTAMP:20260425T150422
CREATED:20241016T164629Z
LAST-MODIFIED:20241016T164629Z
UID:1739-1728504000-1728507600@mhumc.org
SUMMARY:AA Meetings - Common Solutions With Concurrent Beginners Meeting
DESCRIPTION:Wednesday 8:00 PM – 9:00 PM EDT\n\nBig Book\n\nClosed\n\nDiscussion\nIn-person\nNewcomer\nWheelchair Access\n\n\nOpen lead last Wk \nGroup Conscience 1st week of each month at 7:15 PM \nFor more information contact 513-368-1373 \n 
URL:https://mhumc.org/event/aa-meetings-common-solutions-with-concurrent-beginners-meeting-13/
LOCATION:MHUMC\, 3682 West Fork Rd.\, Cincinnati\, OH\, 45247\, United States
END:VEVENT
BEGIN:VEVENT
DTSTART;TZID=UTC:20241007T193000
DTEND;TZID=UTC:20241007T203000
DTSTAMP:20260425T150422
CREATED:20241016T165130Z
LAST-MODIFIED:20241016T165130Z
UID:1755-1728329400-1728333000@mhumc.org
SUMMARY:AA Meetings - Monfort Heights Big Book
DESCRIPTION:Discussion\nIn-person\n\nOpen\n\n\n\nC. I. P. Continue Improving Practice – Steps 10\, 11 & 12 \nFor Zoom info call 513-317-6390 \nFor more information\, call 513-752-2210
URL:https://mhumc.org/event/aa-meetings-monfort-heights-big-book-13/
LOCATION:MHUMC\, 3682 West Fork Rd.\, Cincinnati\, OH\, 45247\, United States
END:VEVENT
BEGIN:VEVENT
DTSTART;TZID=UTC:20241006T183000
DTEND;TZID=UTC:20241006T200000
DTSTAMP:20260425T150422
CREATED:20241016T165512Z
LAST-MODIFIED:20241016T165512Z
UID:1771-1728239400-1728244800@mhumc.org
SUMMARY:Elevate Youth Group
DESCRIPTION:ELEVATE is a place where you can be known and belong.\nAt ELEVATE we are about creating an environment where youth in grades 6-12 can authentically be themselves and share their stories. Our prayer is that they would see how God’s Story intersects with their own. We invite students to engage in a meaningful faith practice and into an intimate relationship with Jesus Christ. We want to help elevate each student’s spiritual life and ultimately guide them into a life of discipleship.”\nContact Jeff Snyder at Jeff.mhumc@gmail.com or\n513-545-5235
URL:https://mhumc.org/event/elevate-youth-group-10/
LOCATION:MHUMC\, 3682 West Fork Rd.\, Cincinnati\, OH\, 45247\, United States
ATTACH;FMTTYPE=image/png:https://mhumc.org/wp-content/uploads/2024/05/Elevate-logo-2.png
END:VEVENT
BEGIN:VEVENT
DTSTART;TZID=UTC:20241002T200000
DTEND;TZID=UTC:20241002T210000
DTSTAMP:20260425T150422
CREATED:20241016T164611Z
LAST-MODIFIED:20241016T164611Z
UID:1737-1727899200-1727902800@mhumc.org
SUMMARY:AA Meetings - Common Solutions With Concurrent Beginners Meeting
DESCRIPTION:Wednesday 8:00 PM – 9:00 PM EDT\n\nBig Book\n\nClosed\n\nDiscussion\nIn-person\nNewcomer\nWheelchair Access\n\n\nOpen lead last Wk \nGroup Conscience 1st week of each month at 7:15 PM \nFor more information contact 513-368-1373 \n 
URL:https://mhumc.org/event/aa-meetings-common-solutions-with-concurrent-beginners-meeting-12/
LOCATION:MHUMC\, 3682 West Fork Rd.\, Cincinnati\, OH\, 45247\, United States
END:VEVENT
BEGIN:VEVENT
DTSTART;TZID=UTC:20240930T193000
DTEND;TZID=UTC:20240930T203000
DTSTAMP:20260425T150422
CREATED:20240712T172204Z
LAST-MODIFIED:20240712T172204Z
UID:1672-1727724600-1727728200@mhumc.org
SUMMARY:AA Meetings - Monfort Heights Big Book
DESCRIPTION:Discussion\nIn-person\n\nOpen\n\n\n\nC. I. P. Continue Improving Practice – Steps 10\, 11 & 12 \nFor Zoom info call 513-317-6390 \nFor more information\, call 513-752-2210
URL:https://mhumc.org/event/aa-meetings-monfort-heights-big-book-11/
LOCATION:MHUMC\, 3682 West Fork Rd.\, Cincinnati\, OH\, 45247\, United States
END:VEVENT
BEGIN:VEVENT
DTSTART;TZID=UTC:20240929T183000
DTEND;TZID=UTC:20240929T200000
DTSTAMP:20260425T150422
CREATED:20240712T171030Z
LAST-MODIFIED:20240712T171030Z
UID:1647-1727634600-1727640000@mhumc.org
SUMMARY:Elevate Youth Group
DESCRIPTION:ELEVATE is a place where you can be known and belong.\nAt ELEVATE we are about creating an environment where youth in grades 6-12 can authentically be themselves and share their stories. Our prayer is that they would see how God’s Story intersects with their own. We invite students to engage in a meaningful faith practice and into an intimate relationship with Jesus Christ. We want to help elevate each student’s spiritual life and ultimately guide them into a life of discipleship.”\nContact Jeff Snyder at Jeff.mhumc@gmail.com or\n513-545-5235
URL:https://mhumc.org/event/elevate-youth-group-9/
LOCATION:MHUMC\, 3682 West Fork Rd.\, Cincinnati\, OH\, 45247\, United States
ATTACH;FMTTYPE=image/png:https://mhumc.org/wp-content/uploads/2024/05/Elevate-logo-2.png
END:VEVENT
BEGIN:VEVENT
DTSTART;TZID=UTC:20240929T110000
DTEND;TZID=UTC:20240929T110000
DTSTAMP:20260425T150422
CREATED:20240712T180929Z
LAST-MODIFIED:20240712T180929Z
UID:1721-1727607600-1727607600@mhumc.org
SUMMARY:Service Sunday for Children
DESCRIPTION:Join us during Worship\, on the 5th Sunday of each month as our children engage in Service Projects during KidsZone and KidsConnect.
URL:https://mhumc.org/event/service-sunday-for-children-3/
LOCATION:MHUMC\, 3682 West Fork Rd.\, Cincinnati\, OH\, 45247\, United States
END:VEVENT
BEGIN:VEVENT
DTSTART;TZID=UTC:20240929T110000
DTEND;TZID=UTC:20240929T110000
DTSTAMP:20260425T150422
CREATED:20240709T183803Z
LAST-MODIFIED:20240709T183803Z
UID:1607-1727607600-1727607600@mhumc.org
SUMMARY:Connect Worship
DESCRIPTION:Welcome\n\n\nWe are a broad cross-section of the Monfort Heights community with a diverse range of family types; all ages\, races\, and interests are represented here. Some of our folks have lived nearby and worshipped here for over fifty years. Some of us are so new we are still learning where the light switches are. Some of us wear suits on Sunday\, and some wear shorts and sandals. We are different in many ways\, but we share a common love in our hearts for God\, his son\, and his people! \n\n\n\n\n\n\n\n\n\n\n\n\nOur Connect Worship is a praise worship service of modern music and expressions of faith that takes place on Sunday mornings\, at 11:00am\, in our Family Life Center. \nYou can also join us on Facebook Live or catch a replay on YouTube.
URL:https://mhumc.org/event/connect-worship-20/
LOCATION:Family Life Center\, 3682 West Fork Rd.\, Cincinnati\, OH\, 45247\, United States
END:VEVENT
BEGIN:VEVENT
DTSTART;TZID=UTC:20240929T093000
DTEND;TZID=UTC:20240929T093000
DTSTAMP:20260425T150422
CREATED:20240712T175855Z
LAST-MODIFIED:20240712T181011Z
UID:1713-1727602200-1727602200@mhumc.org
SUMMARY:Service Sunday for Children
DESCRIPTION:During our worship service on the 5th Sunday of the month\, children of all ages are invited to participate in our Service Sunday service project!
URL:https://mhumc.org/event/service-sunday-for-children/
LOCATION:MHUMC\, 3682 West Fork Rd.\, Cincinnati\, OH\, 45247\, United States
END:VEVENT
BEGIN:VEVENT
DTSTART;TZID=UTC:20240929T093000
DTEND;TZID=UTC:20240929T093000
DTSTAMP:20260425T150422
CREATED:20240709T183008Z
LAST-MODIFIED:20240709T183008Z
UID:1586-1727602200-1727602200@mhumc.org
SUMMARY:Classic Worship
DESCRIPTION:Welcome\n\n\nWe are a broad cross-section of the Monfort Heights community with a diverse range of family types; all ages\, races\, and interests are represented here. Some of our folks have lived nearby and worshipped here for over fifty years. Some of us are so new we are still learning where the light switches are. Some of us wear suits on Sunday\, and some wear shorts and sandals. We are different in many ways\, but we share a common love in our hearts for God\, his son\, and his people! \n\n\n\n\n\n\n\n\n\n\n\n\nOur Classic Worship is a traditional worship service\, and takes place on Sunday mornings\, at 9:30 am\, in our Sanctuary. \nYou can also join us on Facebook Live or catch a replay on YouTube.
URL:https://mhumc.org/event/classic-worship-20/
LOCATION:Sanctuary\, 3685 West Fork Rd\, Cincinnati\, 45247\, United States
END:VEVENT
BEGIN:VEVENT
DTSTART;TZID=UTC:20240928T090000
DTEND;TZID=UTC:20240928T100000
DTSTAMP:20260425T150422
CREATED:20240709T184117Z
LAST-MODIFIED:20240709T184117Z
UID:1616-1727514000-1727517600@mhumc.org
SUMMARY:Blessing Bags
DESCRIPTION:The pandemic and increase in cost of living has magnified some of the tremendous needs of people who are living on the margin. To help out\, our church distributes bags of non-perishable groceries every other Saturday to people in our community who are in need. These “Blessing Bags” are supported by food donations through the church. For more information\, or if you would like to help support this ministry\, please contact the church office.\noffice.mhumc@gmail.com. 513-481-8699
URL:https://mhumc.org/event/blessing-bags-10/
LOCATION:MHUMC\, 3682 West Fork Rd.\, Cincinnati\, OH\, 45247\, United States
ATTACH;FMTTYPE=image/png:https://mhumc.org/wp-content/uploads/2024/05/Blessing-Bags-Logo.png
END:VEVENT
BEGIN:VEVENT
DTSTART;TZID=UTC:20240925T200000
DTEND;TZID=UTC:20240925T210000
DTSTAMP:20260425T150422
CREATED:20240712T173012Z
LAST-MODIFIED:20240712T173012Z
UID:1696-1727294400-1727298000@mhumc.org
SUMMARY:AA Meetings - Common Solutions With Concurrent Beginners Meeting
DESCRIPTION:Wednesday 8:00 PM – 9:00 PM EDT\n\nBig Book\n\nClosed\n\nDiscussion\nIn-person\nNewcomer\nWheelchair Access\n\n\nOpen lead last Wk \nGroup Conscience 1st week of each month at 7:15 PM \nFor more information contact 513-368-1373 \n 
URL:https://mhumc.org/event/aa-meetings-common-solutions-with-concurrent-beginners-meeting-11/
LOCATION:MHUMC\, 3682 West Fork Rd.\, Cincinnati\, OH\, 45247\, United States
END:VEVENT
BEGIN:VEVENT
DTSTART;TZID=UTC:20240923T193000
DTEND;TZID=UTC:20240923T203000
DTSTAMP:20260425T150422
CREATED:20240712T172148Z
LAST-MODIFIED:20240712T172148Z
UID:1670-1727119800-1727123400@mhumc.org
SUMMARY:AA Meetings - Monfort Heights Big Book
DESCRIPTION:Discussion\nIn-person\n\nOpen\n\n\n\nC. I. P. Continue Improving Practice – Steps 10\, 11 & 12 \nFor Zoom info call 513-317-6390 \nFor more information\, call 513-752-2210
URL:https://mhumc.org/event/aa-meetings-monfort-heights-big-book-10/
LOCATION:MHUMC\, 3682 West Fork Rd.\, Cincinnati\, OH\, 45247\, United States
END:VEVENT
BEGIN:VEVENT
DTSTART;TZID=UTC:20240923T183000
DTEND;TZID=UTC:20240923T200000
DTSTAMP:20260425T150422
CREATED:20240709T184351Z
LAST-MODIFIED:20240709T184351Z
UID:1624-1727116200-1727121600@mhumc.org
SUMMARY:Tap Into Faith
DESCRIPTION:We are bringing the Church outside of its walls and into the places where people are already gathering and living in community. It’s all about building relationship with each other through some great live music and a faith-based discussion shared around a table with delicious food and drink.
URL:https://mhumc.org/event/tap-into-faith-60/
LOCATION:WEST SIDE BREWING\, 3044 HARRISON AVENUE\, CINCINNATI\, OHIO\, 45211
ATTACH;FMTTYPE=image/jpeg:https://mhumc.org/wp-content/uploads/2019/09/Tap-into-Faith-1.jpg
END:VEVENT
BEGIN:VEVENT
DTSTART;TZID=UTC:20240922T183000
DTEND;TZID=UTC:20240922T200000
DTSTAMP:20260425T150422
CREATED:20240712T171015Z
LAST-MODIFIED:20240712T171015Z
UID:1645-1727029800-1727035200@mhumc.org
SUMMARY:Elevate Youth Group
DESCRIPTION:ELEVATE is a place where you can be known and belong.\nAt ELEVATE we are about creating an environment where youth in grades 6-12 can authentically be themselves and share their stories. Our prayer is that they would see how God’s Story intersects with their own. We invite students to engage in a meaningful faith practice and into an intimate relationship with Jesus Christ. We want to help elevate each student’s spiritual life and ultimately guide them into a life of discipleship.”\nContact Jeff Snyder at Jeff.mhumc@gmail.com or\n513-545-5235
URL:https://mhumc.org/event/elevate-youth-group-8/
LOCATION:MHUMC\, 3682 West Fork Rd.\, Cincinnati\, OH\, 45247\, United States
ATTACH;FMTTYPE=image/png:https://mhumc.org/wp-content/uploads/2024/05/Elevate-logo-2.png
END:VEVENT
BEGIN:VEVENT
DTSTART;TZID=UTC:20240922T110000
DTEND;TZID=UTC:20240922T110000
DTSTAMP:20260425T150422
CREATED:20240709T183748Z
LAST-MODIFIED:20240709T183748Z
UID:1605-1727002800-1727002800@mhumc.org
SUMMARY:Connect Worship
DESCRIPTION:Welcome\n\n\nWe are a broad cross-section of the Monfort Heights community with a diverse range of family types; all ages\, races\, and interests are represented here. Some of our folks have lived nearby and worshipped here for over fifty years. Some of us are so new we are still learning where the light switches are. Some of us wear suits on Sunday\, and some wear shorts and sandals. We are different in many ways\, but we share a common love in our hearts for God\, his son\, and his people! \n\n\n\n\n\n\n\n\n\n\n\n\nOur Connect Worship is a praise worship service of modern music and expressions of faith that takes place on Sunday mornings\, at 11:00am\, in our Family Life Center. \nYou can also join us on Facebook Live or catch a replay on YouTube.
URL:https://mhumc.org/event/connect-worship-19/
LOCATION:Family Life Center\, 3682 West Fork Rd.\, Cincinnati\, OH\, 45247\, United States
END:VEVENT
BEGIN:VEVENT
DTSTART;TZID=UTC:20240922T093000
DTEND;TZID=UTC:20240922T093000
DTSTAMP:20260425T150422
CREATED:20240709T182950Z
LAST-MODIFIED:20240709T182950Z
UID:1584-1726997400-1726997400@mhumc.org
SUMMARY:Classic Worship
DESCRIPTION:Welcome\n\n\nWe are a broad cross-section of the Monfort Heights community with a diverse range of family types; all ages\, races\, and interests are represented here. Some of our folks have lived nearby and worshipped here for over fifty years. Some of us are so new we are still learning where the light switches are. Some of us wear suits on Sunday\, and some wear shorts and sandals. We are different in many ways\, but we share a common love in our hearts for God\, his son\, and his people! \n\n\n\n\n\n\n\n\n\n\n\n\nOur Classic Worship is a traditional worship service\, and takes place on Sunday mornings\, at 9:30 am\, in our Sanctuary. \nYou can also join us on Facebook Live or catch a replay on YouTube.
URL:https://mhumc.org/event/classic-worship-19/
LOCATION:Sanctuary\, 3685 West Fork Rd\, Cincinnati\, 45247\, United States
END:VEVENT
BEGIN:VEVENT
DTSTART;TZID=UTC:20240918T200000
DTEND;TZID=UTC:20240918T210000
DTSTAMP:20260425T150422
CREATED:20240712T172950Z
LAST-MODIFIED:20240712T172950Z
UID:1694-1726689600-1726693200@mhumc.org
SUMMARY:AA Meetings - Common Solutions With Concurrent Beginners Meeting
DESCRIPTION:Wednesday 8:00 PM – 9:00 PM EDT\n\nBig Book\n\nClosed\n\nDiscussion\nIn-person\nNewcomer\nWheelchair Access\n\n\nOpen lead last Wk \nGroup Conscience 1st week of each month at 7:15 PM \nFor more information contact 513-368-1373 \n 
URL:https://mhumc.org/event/aa-meetings-common-solutions-with-concurrent-beginners-meeting-10/
LOCATION:MHUMC\, 3682 West Fork Rd.\, Cincinnati\, OH\, 45247\, United States
END:VEVENT
END:VCALENDAR